BEGIN:VCALENDAR
VERSION:2.0
PRODID:-//Ballet Philippines - ECPv6.15.17//NONSGML v1.0//EN
CALSCALE:GREGORIAN
METHOD:PUBLISH
X-WR-CALNAME:Ballet Philippines
X-ORIGINAL-URL:https://www.ballet.ph
X-WR-CALDESC:Events for Ballet Philippines
REFRESH-INTERVAL;VALUE=DURATION:PT1H
X-Robots-Tag:noindex
X-PUBLISHED-TTL:PT1H
BEGIN:VTIMEZONE
TZID:Asia/Manila
BEGIN:STANDARD
TZOFFSETFROM:+0800
TZOFFSETTO:+0800
TZNAME:PST
DTSTART:20210101T000000
END:STANDARD
END:VTIMEZONE
BEGIN:VEVENT
DTSTART;TZID=Asia/Manila:20220531T100000
DTEND;TZID=Asia/Manila:20220531T113000
DTSTAMP:20260420T055500
CREATED:20220430T140127Z
LAST-MODIFIED:20220430T140127Z
UID:7376-1653991200-1653996600@www.ballet.ph
SUMMARY:JOSEPH PHILLIPS OPEN CLASS
DESCRIPTION:
URL:https://www.ballet.ph/bp-event/joseph-phillips-open-class-60/
END:VEVENT
BEGIN:VEVENT
DTSTART;TZID=Asia/Manila:20220531T140000
DTEND;TZID=Asia/Manila:20220531T143000
DTSTAMP:20260420T055500
CREATED:20220430T140146Z
LAST-MODIFIED:20220430T140146Z
UID:7377-1654005600-1654007400@www.ballet.ph
SUMMARY:MISHA MARTYNYUK GYMNASTIC EXERCISE
DESCRIPTION:
URL:https://www.ballet.ph/bp-event/misha-martynyuk-gymnastic-exercise-61/
END:VEVENT
BEGIN:VEVENT
DTSTART;TZID=Asia/Manila:20220531T144500
DTEND;TZID=Asia/Manila:20220531T163000
DTSTAMP:20260420T055500
CREATED:20220430T140202Z
LAST-MODIFIED:20220430T140202Z
UID:7378-1654008300-1654014600@www.ballet.ph
SUMMARY:MISHA MARTYNYUK COMPANY CLASS
DESCRIPTION:
URL:https://www.ballet.ph/bp-event/misha-martynyuk-company-class-101/
END:VEVENT
BEGIN:VEVENT
DTSTART;TZID=Asia/Manila:20220531T164500
DTEND;TZID=Asia/Manila:20220531T200000
DTSTAMP:20260420T055500
CREATED:20220430T140056Z
LAST-MODIFIED:20220430T140056Z
UID:7379-1654015500-1654027200@www.ballet.ph
SUMMARY:COMPANY REHEARSAL
DESCRIPTION:
URL:https://www.ballet.ph/bp-event/company-rehearsal-61/
END:VEVENT
BEGIN:VEVENT
DTSTART;TZID=Asia/Manila:20220601T100000
DTEND;TZID=Asia/Manila:20220601T120000
DTSTAMP:20260420T055500
CREATED:20220606T233210Z
LAST-MODIFIED:20220606T233210Z
UID:7483-1654077600-1654084800@www.ballet.ph
SUMMARY:MIKHAIL MARTYNYUK COMPANY CLASS
DESCRIPTION:
URL:https://www.ballet.ph/bp-event/mikhail-martynyuk-company-class/
END:VEVENT
BEGIN:VEVENT
DTSTART;TZID=Asia/Manila:20220601T120000
DTEND;TZID=Asia/Manila:20220601T130000
DTSTAMP:20260420T055500
CREATED:20220606T233252Z
LAST-MODIFIED:20220606T233252Z
UID:7487-1654084800-1654088400@www.ballet.ph
SUMMARY:LUNCH BREAK
DESCRIPTION:
URL:https://www.ballet.ph/bp-event/lunch-break/
END:VEVENT
BEGIN:VEVENT
DTSTART;TZID=Asia/Manila:20220601T130000
DTEND;TZID=Asia/Manila:20220601T170000
DTSTAMP:20260420T055500
CREATED:20220606T233307Z
LAST-MODIFIED:20220606T233307Z
UID:7485-1654088400-1654102800@www.ballet.ph
SUMMARY:COMPANY REHEARSALS
DESCRIPTION:
URL:https://www.ballet.ph/bp-event/company-rehearsals/
END:VEVENT
BEGIN:VEVENT
DTSTART;TZID=Asia/Manila:20220602T100000
DTEND;TZID=Asia/Manila:20220602T120000
DTSTAMP:20260420T055500
CREATED:20220606T233422Z
LAST-MODIFIED:20220606T233422Z
UID:7491-1654164000-1654171200@www.ballet.ph
SUMMARY:MIKHAIL MARTYNYUK COMPANY CLASS
DESCRIPTION:
URL:https://www.ballet.ph/bp-event/mikhail-martynyuk-company-class-2/
END:VEVENT
BEGIN:VEVENT
DTSTART;TZID=Asia/Manila:20220602T120000
DTEND;TZID=Asia/Manila:20220602T130000
DTSTAMP:20260420T055500
CREATED:20220606T233519Z
LAST-MODIFIED:20220606T233551Z
UID:7496-1654171200-1654174800@www.ballet.ph
SUMMARY:LUNCH BREAK
DESCRIPTION:
URL:https://www.ballet.ph/bp-event/lunch-break-2/
END:VEVENT
BEGIN:VEVENT
DTSTART;TZID=Asia/Manila:20220602T130000
DTEND;TZID=Asia/Manila:20220602T170000
DTSTAMP:20260420T055500
CREATED:20220606T233630Z
LAST-MODIFIED:20220606T233630Z
UID:7502-1654174800-1654189200@www.ballet.ph
SUMMARY:COMPANY REHEARSALS
DESCRIPTION:
URL:https://www.ballet.ph/bp-event/company-rehearsals-2/
END:VEVENT
BEGIN:VEVENT
DTSTART;TZID=Asia/Manila:20220603T100000
DTEND;TZID=Asia/Manila:20220603T120000
DTSTAMP:20260420T055500
CREATED:20220606T233432Z
LAST-MODIFIED:20220606T233432Z
UID:7492-1654250400-1654257600@www.ballet.ph
SUMMARY:MIKHAIL MARTYNYUK COMPANY CLASS
DESCRIPTION:
URL:https://www.ballet.ph/bp-event/mikhail-martynyuk-company-class-3/
END:VEVENT
BEGIN:VEVENT
DTSTART;TZID=Asia/Manila:20220603T120000
DTEND;TZID=Asia/Manila:20220603T130000
DTSTAMP:20260420T055500
CREATED:20220606T233526Z
LAST-MODIFIED:20220606T233558Z
UID:7497-1654257600-1654261200@www.ballet.ph
SUMMARY:LUNCH BREAK
DESCRIPTION:
URL:https://www.ballet.ph/bp-event/lunch-break-3/
END:VEVENT
BEGIN:VEVENT
DTSTART;TZID=Asia/Manila:20220603T130000
DTEND;TZID=Asia/Manila:20220603T170000
DTSTAMP:20260420T055500
CREATED:20220606T233636Z
LAST-MODIFIED:20220606T233636Z
UID:7503-1654261200-1654275600@www.ballet.ph
SUMMARY:COMPANY REHEARSALS
DESCRIPTION:
URL:https://www.ballet.ph/bp-event/company-rehearsals-3/
END:VEVENT
BEGIN:VEVENT
DTSTART;TZID=Asia/Manila:20220604T100000
DTEND;TZID=Asia/Manila:20220604T120000
DTSTAMP:20260420T055500
CREATED:20220606T233442Z
LAST-MODIFIED:20220606T233442Z
UID:7490-1654336800-1654344000@www.ballet.ph
SUMMARY:MIKHAIL MARTYNYUK COMPANY CLASS
DESCRIPTION:
URL:https://www.ballet.ph/bp-event/mikhail-martynyuk-company-class-4/
END:VEVENT
BEGIN:VEVENT
DTSTART;TZID=Asia/Manila:20220604T120000
DTEND;TZID=Asia/Manila:20220604T130000
DTSTAMP:20260420T055500
CREATED:20220606T233536Z
LAST-MODIFIED:20220606T233605Z
UID:7498-1654344000-1654347600@www.ballet.ph
SUMMARY:LUNCH BREAK
DESCRIPTION:
URL:https://www.ballet.ph/bp-event/lunch-break-4/
END:VEVENT
BEGIN:VEVENT
DTSTART;TZID=Asia/Manila:20220604T130000
DTEND;TZID=Asia/Manila:20220604T170000
DTSTAMP:20260420T055500
CREATED:20220606T233642Z
LAST-MODIFIED:20220606T233642Z
UID:7504-1654347600-1654362000@www.ballet.ph
SUMMARY:COMPANY REHEARSALS
DESCRIPTION:
URL:https://www.ballet.ph/bp-event/company-rehearsals-4/
END:VEVENT
BEGIN:VEVENT
DTSTART;TZID=Asia/Manila:20220607T100000
DTEND;TZID=Asia/Manila:20220607T120000
DTSTAMP:20260420T055500
CREATED:20220606T233735Z
LAST-MODIFIED:20220606T233735Z
UID:7510-1654596000-1654603200@www.ballet.ph
SUMMARY:MIKHAIL MARTYNYUK COMPANY CLASS
DESCRIPTION:
URL:https://www.ballet.ph/bp-event/mikhail-martynyuk-company-class-5/
END:VEVENT
BEGIN:VEVENT
DTSTART;TZID=Asia/Manila:20220607T120000
DTEND;TZID=Asia/Manila:20220607T130000
DTSTAMP:20260420T055500
CREATED:20220606T233906Z
LAST-MODIFIED:20220606T233906Z
UID:7518-1654603200-1654606800@www.ballet.ph
SUMMARY:LUNCH BREAK
DESCRIPTION:
URL:https://www.ballet.ph/bp-event/lunch-break-5/
END:VEVENT
BEGIN:VEVENT
DTSTART;TZID=Asia/Manila:20220607T130000
DTEND;TZID=Asia/Manila:20220607T170000
DTSTAMP:20260420T055500
CREATED:20220606T234932Z
LAST-MODIFIED:20220606T234932Z
UID:7528-1654606800-1654621200@www.ballet.ph
SUMMARY:COMPANY REHEARSALS
DESCRIPTION:
URL:https://www.ballet.ph/bp-event/company-rehearsals-5/
END:VEVENT
BEGIN:VEVENT
DTSTART;TZID=Asia/Manila:20220608T100000
DTEND;TZID=Asia/Manila:20220608T120000
DTSTAMP:20260420T055500
CREATED:20220606T233745Z
LAST-MODIFIED:20220606T233745Z
UID:7511-1654682400-1654689600@www.ballet.ph
SUMMARY:MIKHAIL MARTYNYUK COMPANY CLASS
DESCRIPTION:
URL:https://www.ballet.ph/bp-event/mikhail-martynyuk-company-class-6/
END:VEVENT
BEGIN:VEVENT
DTSTART;TZID=Asia/Manila:20220608T120000
DTEND;TZID=Asia/Manila:20220608T130000
DTSTAMP:20260420T055500
CREATED:20220606T233918Z
LAST-MODIFIED:20220606T233918Z
UID:7519-1654689600-1654693200@www.ballet.ph
SUMMARY:LUNCH BREAK
DESCRIPTION:
URL:https://www.ballet.ph/bp-event/lunch-break-6/
END:VEVENT
BEGIN:VEVENT
DTSTART;TZID=Asia/Manila:20220608T130000
DTEND;TZID=Asia/Manila:20220608T170000
DTSTAMP:20260420T055500
CREATED:20220606T234938Z
LAST-MODIFIED:20220606T234938Z
UID:7529-1654693200-1654707600@www.ballet.ph
SUMMARY:COMPANY REHEARSALS
DESCRIPTION:
URL:https://www.ballet.ph/bp-event/company-rehearsals-6/
END:VEVENT
BEGIN:VEVENT
DTSTART;TZID=Asia/Manila:20220609T100000
DTEND;TZID=Asia/Manila:20220609T120000
DTSTAMP:20260420T055500
CREATED:20220606T233755Z
LAST-MODIFIED:20220606T233755Z
UID:7512-1654768800-1654776000@www.ballet.ph
SUMMARY:MIKHAIL MARTYNYUK COMPANY CLASS
DESCRIPTION:
URL:https://www.ballet.ph/bp-event/mikhail-martynyuk-company-class-7/
END:VEVENT
BEGIN:VEVENT
DTSTART;TZID=Asia/Manila:20220609T120000
DTEND;TZID=Asia/Manila:20220609T130000
DTSTAMP:20260420T055500
CREATED:20220606T233926Z
LAST-MODIFIED:20220606T233926Z
UID:7520-1654776000-1654779600@www.ballet.ph
SUMMARY:LUNCH BREAK
DESCRIPTION:
URL:https://www.ballet.ph/bp-event/lunch-break-7/
END:VEVENT
BEGIN:VEVENT
DTSTART;TZID=Asia/Manila:20220609T130000
DTEND;TZID=Asia/Manila:20220609T170000
DTSTAMP:20260420T055500
CREATED:20220606T234944Z
LAST-MODIFIED:20220606T234944Z
UID:7530-1654779600-1654794000@www.ballet.ph
SUMMARY:COMPANY REHEARSALS
DESCRIPTION:
URL:https://www.ballet.ph/bp-event/company-rehearsals-7/
END:VEVENT
BEGIN:VEVENT
DTSTART;TZID=Asia/Manila:20220610T100000
DTEND;TZID=Asia/Manila:20220610T120000
DTSTAMP:20260420T055500
CREATED:20220606T233811Z
LAST-MODIFIED:20220606T233811Z
UID:7508-1654855200-1654862400@www.ballet.ph
SUMMARY:MIKHAIL MARTYNYUK COMPANY CLASS
DESCRIPTION:
URL:https://www.ballet.ph/bp-event/mikhail-martynyuk-company-class-8/
END:VEVENT
BEGIN:VEVENT
DTSTART;TZID=Asia/Manila:20220610T120000
DTEND;TZID=Asia/Manila:20220610T130000
DTSTAMP:20260420T055500
CREATED:20220606T233934Z
LAST-MODIFIED:20220606T233934Z
UID:7521-1654862400-1654866000@www.ballet.ph
SUMMARY:LUNCH BREAK
DESCRIPTION:
URL:https://www.ballet.ph/bp-event/lunch-break-8/
END:VEVENT
BEGIN:VEVENT
DTSTART;TZID=Asia/Manila:20220610T130000
DTEND;TZID=Asia/Manila:20220610T170000
DTSTAMP:20260420T055500
CREATED:20220606T234952Z
LAST-MODIFIED:20220606T234952Z
UID:7531-1654866000-1654880400@www.ballet.ph
SUMMARY:COMPANY REHEARSALS
DESCRIPTION:
URL:https://www.ballet.ph/bp-event/company-rehearsals-8/
END:VEVENT
BEGIN:VEVENT
DTSTART;TZID=Asia/Manila:20220611T100000
DTEND;TZID=Asia/Manila:20220611T120000
DTSTAMP:20260420T055500
CREATED:20220606T233821Z
LAST-MODIFIED:20220606T233821Z
UID:7509-1654941600-1654948800@www.ballet.ph
SUMMARY:MIKHAIL MARTYNYUK COMPANY CLASS
DESCRIPTION:
URL:https://www.ballet.ph/bp-event/mikhail-martynyuk-company-class-9/
END:VEVENT
BEGIN:VEVENT
DTSTART;TZID=Asia/Manila:20220611T120000
DTEND;TZID=Asia/Manila:20220611T130000
DTSTAMP:20260420T055500
CREATED:20220606T233943Z
LAST-MODIFIED:20220606T233943Z
UID:7522-1654948800-1654952400@www.ballet.ph
SUMMARY:LUNCH BREAK
DESCRIPTION:
URL:https://www.ballet.ph/bp-event/lunch-break-9/
END:VEVENT
END:VCALENDAR