BEGIN:VCALENDAR
VERSION:2.0
PRODID:-//Ballet Philippines - ECPv6.15.17//NONSGML v1.0//EN
CALSCALE:GREGORIAN
METHOD:PUBLISH
X-WR-CALNAME:Ballet Philippines
X-ORIGINAL-URL:https://www.ballet.ph
X-WR-CALDESC:Events for Ballet Philippines
REFRESH-INTERVAL;VALUE=DURATION:PT1H
X-Robots-Tag:noindex
X-PUBLISHED-TTL:PT1H
BEGIN:VTIMEZONE
TZID:Asia/Manila
BEGIN:STANDARD
TZOFFSETFROM:+0800
TZOFFSETTO:+0800
TZNAME:PST
DTSTART:20210101T000000
END:STANDARD
END:VTIMEZONE
BEGIN:VEVENT
DTSTART;VALUE=DATE:20221101
DTEND;VALUE=DATE:20221102
DTSTAMP:20260420T101915
CREATED:20221108T063707Z
LAST-MODIFIED:20221108T063707Z
UID:8522-1667260800-1667347199@www.ballet.ph
SUMMARY:HOLIDAY
DESCRIPTION:ALL SAINTS’ DAY
URL:https://www.ballet.ph/bp-event/holiday/
END:VEVENT
BEGIN:VEVENT
DTSTART;TZID=Asia/Manila:20221102T100000
DTEND;TZID=Asia/Manila:20221102T120000
DTSTAMP:20260420T101915
CREATED:20221108T063841Z
LAST-MODIFIED:20221108T063841Z
UID:8521-1667383200-1667390400@www.ballet.ph
SUMMARY:MISHA MARTYNYUK COMPANY CLASS
DESCRIPTION:
URL:https://www.ballet.ph/bp-event/misha-martynyuk-company-class-146/
END:VEVENT
BEGIN:VEVENT
DTSTART;TZID=Asia/Manila:20221102T120000
DTEND;TZID=Asia/Manila:20221102T130000
DTSTAMP:20260420T101915
CREATED:20221108T064024Z
LAST-MODIFIED:20221108T064024Z
UID:8528-1667390400-1667394000@www.ballet.ph
SUMMARY:LUNCH BREAK
DESCRIPTION:
URL:https://www.ballet.ph/bp-event/lunch-break-89/
END:VEVENT
BEGIN:VEVENT
DTSTART;TZID=Asia/Manila:20221102T130000
DTEND;TZID=Asia/Manila:20221102T170000
DTSTAMP:20260420T101915
CREATED:20221108T064209Z
LAST-MODIFIED:20221108T064209Z
UID:8536-1667394000-1667408400@www.ballet.ph
SUMMARY:COMPANY REHEARSALS
DESCRIPTION:
URL:https://www.ballet.ph/bp-event/company-rehearsals-89/
END:VEVENT
BEGIN:VEVENT
DTSTART;TZID=Asia/Manila:20221103T100000
DTEND;TZID=Asia/Manila:20221103T120000
DTSTAMP:20260420T101915
CREATED:20221108T063856Z
LAST-MODIFIED:20221108T063856Z
UID:8520-1667469600-1667476800@www.ballet.ph
SUMMARY:MISHA MARTYNYUK COMPANY CLASS
DESCRIPTION:
URL:https://www.ballet.ph/bp-event/misha-martynyuk-company-class-147/
END:VEVENT
BEGIN:VEVENT
DTSTART;TZID=Asia/Manila:20221103T120000
DTEND;TZID=Asia/Manila:20221103T130000
DTSTAMP:20260420T101915
CREATED:20221108T064051Z
LAST-MODIFIED:20221108T064051Z
UID:8529-1667476800-1667480400@www.ballet.ph
SUMMARY:LUNCH BREAK
DESCRIPTION:
URL:https://www.ballet.ph/bp-event/lunch-break-90/
END:VEVENT
BEGIN:VEVENT
DTSTART;TZID=Asia/Manila:20221103T130000
DTEND;TZID=Asia/Manila:20221103T170000
DTSTAMP:20260420T101915
CREATED:20221108T064216Z
LAST-MODIFIED:20221108T064216Z
UID:8537-1667480400-1667494800@www.ballet.ph
SUMMARY:COMPANY REHEARSALS
DESCRIPTION:
URL:https://www.ballet.ph/bp-event/company-rehearsals-90/
END:VEVENT
BEGIN:VEVENT
DTSTART;TZID=Asia/Manila:20221104T100000
DTEND;TZID=Asia/Manila:20221104T120000
DTSTAMP:20260420T101915
CREATED:20221108T063908Z
LAST-MODIFIED:20221108T063908Z
UID:8519-1667556000-1667563200@www.ballet.ph
SUMMARY:MISHA MARTYNYUK COMPANY CLASS
DESCRIPTION:
URL:https://www.ballet.ph/bp-event/misha-martynyuk-company-class-148/
END:VEVENT
BEGIN:VEVENT
DTSTART;TZID=Asia/Manila:20221104T120000
DTEND;TZID=Asia/Manila:20221104T130000
DTSTAMP:20260420T101915
CREATED:20221108T064059Z
LAST-MODIFIED:20221108T064059Z
UID:8530-1667563200-1667566800@www.ballet.ph
SUMMARY:LUNCH BREAK
DESCRIPTION:
URL:https://www.ballet.ph/bp-event/lunch-break-91/
END:VEVENT
BEGIN:VEVENT
DTSTART;TZID=Asia/Manila:20221104T130000
DTEND;TZID=Asia/Manila:20221104T170000
DTSTAMP:20260420T101915
CREATED:20221108T064227Z
LAST-MODIFIED:20221108T064227Z
UID:8538-1667566800-1667581200@www.ballet.ph
SUMMARY:COMPANY REHEARSALS
DESCRIPTION:
URL:https://www.ballet.ph/bp-event/company-rehearsals-91/
END:VEVENT
BEGIN:VEVENT
DTSTART;TZID=Asia/Manila:20221105T100000
DTEND;TZID=Asia/Manila:20221105T120000
DTSTAMP:20260420T101915
CREATED:20221108T063923Z
LAST-MODIFIED:20221108T063923Z
UID:8518-1667642400-1667649600@www.ballet.ph
SUMMARY:MISHA MARTYNYUK COMPANY CLASS
DESCRIPTION:
URL:https://www.ballet.ph/bp-event/misha-martynyuk-company-class-149/
END:VEVENT
BEGIN:VEVENT
DTSTART;TZID=Asia/Manila:20221105T120000
DTEND;TZID=Asia/Manila:20221105T130000
DTSTAMP:20260420T101915
CREATED:20221108T064108Z
LAST-MODIFIED:20221108T064108Z
UID:8531-1667649600-1667653200@www.ballet.ph
SUMMARY:LUNCH BREAK
DESCRIPTION:
URL:https://www.ballet.ph/bp-event/lunch-break-92/
END:VEVENT
BEGIN:VEVENT
DTSTART;TZID=Asia/Manila:20221105T130000
DTEND;TZID=Asia/Manila:20221105T170000
DTSTAMP:20260420T101915
CREATED:20221108T064234Z
LAST-MODIFIED:20221108T064234Z
UID:8539-1667653200-1667667600@www.ballet.ph
SUMMARY:COMPANY REHEARSALS
DESCRIPTION:
URL:https://www.ballet.ph/bp-event/company-rehearsals-92/
END:VEVENT
BEGIN:VEVENT
DTSTART;TZID=Asia/Manila:20221108T100000
DTEND;TZID=Asia/Manila:20221108T120000
DTSTAMP:20260420T101915
CREATED:20221108T064455Z
LAST-MODIFIED:20221108T064455Z
UID:8544-1667901600-1667908800@www.ballet.ph
SUMMARY:MISHA MARTYNYUK COMPANY CLASS
DESCRIPTION:
URL:https://www.ballet.ph/bp-event/misha-martynyuk-company-class-150/
END:VEVENT
BEGIN:VEVENT
DTSTART;TZID=Asia/Manila:20221108T120000
DTEND;TZID=Asia/Manila:20221108T130000
DTSTAMP:20260420T101915
CREATED:20221108T064736Z
LAST-MODIFIED:20221108T064736Z
UID:8564-1667908800-1667912400@www.ballet.ph
SUMMARY:LUNCH BREAK
DESCRIPTION:
URL:https://www.ballet.ph/bp-event/lunch-break-93/
END:VEVENT
BEGIN:VEVENT
DTSTART;TZID=Asia/Manila:20221108T130000
DTEND;TZID=Asia/Manila:20221108T170000
DTSTAMP:20260420T101915
CREATED:20221108T065108Z
LAST-MODIFIED:20221108T065108Z
UID:8584-1667912400-1667926800@www.ballet.ph
SUMMARY:COMPANY REHEARSALS
DESCRIPTION:
URL:https://www.ballet.ph/bp-event/company-rehearsals-93/
END:VEVENT
BEGIN:VEVENT
DTSTART;TZID=Asia/Manila:20221109T100000
DTEND;TZID=Asia/Manila:20221109T120000
DTSTAMP:20260420T101915
CREATED:20221108T064506Z
LAST-MODIFIED:20221108T064506Z
UID:8545-1667988000-1667995200@www.ballet.ph
SUMMARY:MISHA MARTYNYUK COMPANY CLASS
DESCRIPTION:
URL:https://www.ballet.ph/bp-event/misha-martynyuk-company-class-151/
END:VEVENT
BEGIN:VEVENT
DTSTART;TZID=Asia/Manila:20221109T120000
DTEND;TZID=Asia/Manila:20221109T130000
DTSTAMP:20260420T101915
CREATED:20221108T064744Z
LAST-MODIFIED:20221108T064744Z
UID:8565-1667995200-1667998800@www.ballet.ph
SUMMARY:LUNCH BREAK
DESCRIPTION:
URL:https://www.ballet.ph/bp-event/lunch-break-94/
END:VEVENT
BEGIN:VEVENT
DTSTART;TZID=Asia/Manila:20221109T130000
DTEND;TZID=Asia/Manila:20221109T170000
DTSTAMP:20260420T101915
CREATED:20221108T065114Z
LAST-MODIFIED:20221108T065114Z
UID:8585-1667998800-1668013200@www.ballet.ph
SUMMARY:COMPANY REHEARSALS
DESCRIPTION:
URL:https://www.ballet.ph/bp-event/company-rehearsals-94/
END:VEVENT
BEGIN:VEVENT
DTSTART;TZID=Asia/Manila:20221110T100000
DTEND;TZID=Asia/Manila:20221110T120000
DTSTAMP:20260420T101915
CREATED:20221108T064515Z
LAST-MODIFIED:20221108T064515Z
UID:8546-1668074400-1668081600@www.ballet.ph
SUMMARY:MISHA MARTYNYUK COMPANY CLASS
DESCRIPTION:
URL:https://www.ballet.ph/bp-event/misha-martynyuk-company-class-152/
END:VEVENT
BEGIN:VEVENT
DTSTART;TZID=Asia/Manila:20221110T120000
DTEND;TZID=Asia/Manila:20221110T130000
DTSTAMP:20260420T101915
CREATED:20221108T064754Z
LAST-MODIFIED:20221108T064754Z
UID:8566-1668081600-1668085200@www.ballet.ph
SUMMARY:LUNCH BREAK
DESCRIPTION:
URL:https://www.ballet.ph/bp-event/lunch-break-95/
END:VEVENT
BEGIN:VEVENT
DTSTART;TZID=Asia/Manila:20221110T130000
DTEND;TZID=Asia/Manila:20221110T170000
DTSTAMP:20260420T101915
CREATED:20221108T065121Z
LAST-MODIFIED:20221108T065121Z
UID:8586-1668085200-1668099600@www.ballet.ph
SUMMARY:COMPANY REHEARSALS
DESCRIPTION:
URL:https://www.ballet.ph/bp-event/company-rehearsals-95/
END:VEVENT
BEGIN:VEVENT
DTSTART;TZID=Asia/Manila:20221111T100000
DTEND;TZID=Asia/Manila:20221111T120000
DTSTAMP:20260420T101915
CREATED:20221108T064526Z
LAST-MODIFIED:20221108T064526Z
UID:8548-1668160800-1668168000@www.ballet.ph
SUMMARY:MISHA MARTYNYUK COMPANY CLASS
DESCRIPTION:
URL:https://www.ballet.ph/bp-event/misha-martynyuk-company-class-153/
END:VEVENT
BEGIN:VEVENT
DTSTART;TZID=Asia/Manila:20221111T120000
DTEND;TZID=Asia/Manila:20221111T130000
DTSTAMP:20260420T101915
CREATED:20221108T064803Z
LAST-MODIFIED:20221108T064803Z
UID:8567-1668168000-1668171600@www.ballet.ph
SUMMARY:LUNCH BREAK
DESCRIPTION:
URL:https://www.ballet.ph/bp-event/lunch-break-96/
END:VEVENT
BEGIN:VEVENT
DTSTART;TZID=Asia/Manila:20221111T130000
DTEND;TZID=Asia/Manila:20221111T170000
DTSTAMP:20260420T101915
CREATED:20221108T065128Z
LAST-MODIFIED:20221108T065128Z
UID:8587-1668171600-1668186000@www.ballet.ph
SUMMARY:COMPANY REHEARSALS
DESCRIPTION:
URL:https://www.ballet.ph/bp-event/company-rehearsals-96/
END:VEVENT
BEGIN:VEVENT
DTSTART;TZID=Asia/Manila:20221112T100000
DTEND;TZID=Asia/Manila:20221112T120000
DTSTAMP:20260420T101915
CREATED:20221108T064537Z
LAST-MODIFIED:20221108T064537Z
UID:8547-1668247200-1668254400@www.ballet.ph
SUMMARY:MISHA MARTYNYUK COMPANY CLASS
DESCRIPTION:
URL:https://www.ballet.ph/bp-event/misha-martynyuk-company-class-154/
END:VEVENT
BEGIN:VEVENT
DTSTART;TZID=Asia/Manila:20221112T120000
DTEND;TZID=Asia/Manila:20221112T130000
DTSTAMP:20260420T101915
CREATED:20221108T064814Z
LAST-MODIFIED:20221108T064814Z
UID:8568-1668254400-1668258000@www.ballet.ph
SUMMARY:LUNCH BREAK
DESCRIPTION:
URL:https://www.ballet.ph/bp-event/lunch-break-97/
END:VEVENT
BEGIN:VEVENT
DTSTART;TZID=Asia/Manila:20221112T130000
DTEND;TZID=Asia/Manila:20221112T170000
DTSTAMP:20260420T101915
CREATED:20221108T065134Z
LAST-MODIFIED:20221108T065134Z
UID:8588-1668258000-1668272400@www.ballet.ph
SUMMARY:COMPANY REHEARSALS
DESCRIPTION:
URL:https://www.ballet.ph/bp-event/company-rehearsals-97/
END:VEVENT
BEGIN:VEVENT
DTSTART;TZID=Asia/Manila:20221115T100000
DTEND;TZID=Asia/Manila:20221115T120000
DTSTAMP:20260420T101915
CREATED:20221108T064547Z
LAST-MODIFIED:20221108T064547Z
UID:8549-1668506400-1668513600@www.ballet.ph
SUMMARY:MISHA MARTYNYUK COMPANY CLASS
DESCRIPTION:
URL:https://www.ballet.ph/bp-event/misha-martynyuk-company-class-155/
END:VEVENT
BEGIN:VEVENT
DTSTART;TZID=Asia/Manila:20221115T120000
DTEND;TZID=Asia/Manila:20221115T130000
DTSTAMP:20260420T101915
CREATED:20221108T064825Z
LAST-MODIFIED:20221108T064825Z
UID:8569-1668513600-1668517200@www.ballet.ph
SUMMARY:LUNCH BREAK
DESCRIPTION:
URL:https://www.ballet.ph/bp-event/lunch-break-98/
END:VEVENT
END:VCALENDAR