BEGIN:VCALENDAR
VERSION:2.0
PRODID:-//Ballet Philippines - ECPv6.15.17//NONSGML v1.0//EN
CALSCALE:GREGORIAN
METHOD:PUBLISH
X-ORIGINAL-URL:https://www.ballet.ph
X-WR-CALDESC:Events for Ballet Philippines
REFRESH-INTERVAL;VALUE=DURATION:PT1H
X-Robots-Tag:noindex
X-PUBLISHED-TTL:PT1H
BEGIN:VTIMEZONE
TZID:Asia/Manila
BEGIN:STANDARD
TZOFFSETFROM:+0800
TZOFFSETTO:+0800
TZNAME:PST
DTSTART:20210101T000000
END:STANDARD
END:VTIMEZONE
BEGIN:VEVENT
DTSTART;TZID=Asia/Manila:20220510T100000
DTEND;TZID=Asia/Manila:20220510T113000
DTSTAMP:20260420T055826
CREATED:20220430T133754Z
LAST-MODIFIED:20220430T133754Z
UID:7231-1652176800-1652182200@www.ballet.ph
SUMMARY:JOSEPH PHILLIPS OPEN CLASS
DESCRIPTION:
URL:https://www.ballet.ph/bp-event/joseph-phillips-open-class-45/
END:VEVENT
BEGIN:VEVENT
DTSTART;TZID=Asia/Manila:20220510T140000
DTEND;TZID=Asia/Manila:20220510T143000
DTSTAMP:20260420T055826
CREATED:20220430T134412Z
LAST-MODIFIED:20220430T134412Z
UID:7275-1652191200-1652193000@www.ballet.ph
SUMMARY:MISHA MARTYNYUK GYMNASTIC EXERCISE
DESCRIPTION:
URL:https://www.ballet.ph/bp-event/misha-martynyuk-gymnastic-exercise-46/
END:VEVENT
BEGIN:VEVENT
DTSTART;TZID=Asia/Manila:20220510T144500
DTEND;TZID=Asia/Manila:20220510T163000
DTSTAMP:20260420T055826
CREATED:20220430T134535Z
LAST-MODIFIED:20220430T134535Z
UID:7285-1652193900-1652200200@www.ballet.ph
SUMMARY:MISHA MARTYNYUK COMPANY CLASS
DESCRIPTION:
URL:https://www.ballet.ph/bp-event/misha-martynyuk-company-class-86/
END:VEVENT
BEGIN:VEVENT
DTSTART;TZID=Asia/Manila:20220510T164500
DTEND;TZID=Asia/Manila:20220510T200000
DTSTAMP:20260420T055826
CREATED:20220430T134239Z
LAST-MODIFIED:20220430T134239Z
UID:7266-1652201100-1652212800@www.ballet.ph
SUMMARY:COMPANY REHEARSAL
DESCRIPTION:
URL:https://www.ballet.ph/bp-event/company-rehearsal-46/
END:VEVENT
BEGIN:VEVENT
DTSTART;TZID=Asia/Manila:20220511T100000
DTEND;TZID=Asia/Manila:20220511T113000
DTSTAMP:20260420T055826
CREATED:20220430T133805Z
LAST-MODIFIED:20220430T133805Z
UID:7232-1652263200-1652268600@www.ballet.ph
SUMMARY:JOSEPH PHILLIPS OPEN CLASS
DESCRIPTION:
URL:https://www.ballet.ph/bp-event/joseph-phillips-open-class-46/
END:VEVENT
BEGIN:VEVENT
DTSTART;TZID=Asia/Manila:20220511T140000
DTEND;TZID=Asia/Manila:20220511T230000
DTSTAMP:20260420T055826
CREATED:20220430T134427Z
LAST-MODIFIED:20220430T134427Z
UID:7276-1652277600-1652310000@www.ballet.ph
SUMMARY:MISHA MARTYNYUK GYMNASTIC EXERCISE
DESCRIPTION:
URL:https://www.ballet.ph/bp-event/misha-martynyuk-gymnastic-exercise-47/
END:VEVENT
BEGIN:VEVENT
DTSTART;TZID=Asia/Manila:20220511T144500
DTEND;TZID=Asia/Manila:20220511T163000
DTSTAMP:20260420T055826
CREATED:20220430T134545Z
LAST-MODIFIED:20220430T134545Z
UID:7286-1652280300-1652286600@www.ballet.ph
SUMMARY:MISHA MARTYNYUK COMPANY CLASS
DESCRIPTION:
URL:https://www.ballet.ph/bp-event/misha-martynyuk-company-class-87/
END:VEVENT
BEGIN:VEVENT
DTSTART;TZID=Asia/Manila:20220511T164500
DTEND;TZID=Asia/Manila:20220511T200000
DTSTAMP:20260420T055826
CREATED:20220430T134253Z
LAST-MODIFIED:20220430T134253Z
UID:7265-1652287500-1652299200@www.ballet.ph
SUMMARY:COMPANY REHEARSAL
DESCRIPTION:
URL:https://www.ballet.ph/bp-event/company-rehearsal-47/
END:VEVENT
BEGIN:VEVENT
DTSTART;TZID=Asia/Manila:20220512T100000
DTEND;TZID=Asia/Manila:20220512T113000
DTSTAMP:20260420T055826
CREATED:20220430T133813Z
LAST-MODIFIED:20220430T133813Z
UID:7233-1652349600-1652355000@www.ballet.ph
SUMMARY:JOSEPH PHILLIPS OPEN CLASS
DESCRIPTION:
URL:https://www.ballet.ph/bp-event/joseph-phillips-open-class-47/
END:VEVENT
BEGIN:VEVENT
DTSTART;TZID=Asia/Manila:20220512T140000
DTEND;TZID=Asia/Manila:20220512T143000
DTSTAMP:20260420T055826
CREATED:20220430T134436Z
LAST-MODIFIED:20220430T134436Z
UID:7279-1652364000-1652365800@www.ballet.ph
SUMMARY:MISHA MARTYNYUK GYMNASTIC EXERCISE
DESCRIPTION:
URL:https://www.ballet.ph/bp-event/misha-martynyuk-gymnastic-exercise-48/
END:VEVENT
BEGIN:VEVENT
DTSTART;TZID=Asia/Manila:20220512T144500
DTEND;TZID=Asia/Manila:20220512T163000
DTSTAMP:20260420T055826
CREATED:20220430T134559Z
LAST-MODIFIED:20220430T134559Z
UID:7287-1652366700-1652373000@www.ballet.ph
SUMMARY:MISHA MARTYNYUK COMPANY CLASS
DESCRIPTION:
URL:https://www.ballet.ph/bp-event/misha-martynyuk-company-class-88/
END:VEVENT
BEGIN:VEVENT
DTSTART;TZID=Asia/Manila:20220512T164500
DTEND;TZID=Asia/Manila:20220512T200000
DTSTAMP:20260420T055826
CREATED:20220430T134303Z
LAST-MODIFIED:20220430T134303Z
UID:7267-1652373900-1652385600@www.ballet.ph
SUMMARY:COMPANY REHEARSAL
DESCRIPTION:
URL:https://www.ballet.ph/bp-event/company-rehearsal-48/
END:VEVENT
BEGIN:VEVENT
DTSTART;TZID=Asia/Manila:20220513T100000
DTEND;TZID=Asia/Manila:20220513T113000
DTSTAMP:20260420T055826
CREATED:20220430T133826Z
LAST-MODIFIED:20220430T133826Z
UID:7235-1652436000-1652441400@www.ballet.ph
SUMMARY:JOSEPH PHILLIPS OPEN CLASS
DESCRIPTION:
URL:https://www.ballet.ph/bp-event/joseph-phillips-open-class-48/
END:VEVENT
BEGIN:VEVENT
DTSTART;TZID=Asia/Manila:20220513T140000
DTEND;TZID=Asia/Manila:20220513T143000
DTSTAMP:20260420T055826
CREATED:20220430T134448Z
LAST-MODIFIED:20220430T134448Z
UID:7277-1652450400-1652452200@www.ballet.ph
SUMMARY:MISHA MARTYNYUK GYMNASTIC EXERCISE
DESCRIPTION:
URL:https://www.ballet.ph/bp-event/misha-martynyuk-gymnastic-exercise-49/
END:VEVENT
BEGIN:VEVENT
DTSTART;TZID=Asia/Manila:20220513T144500
DTEND;TZID=Asia/Manila:20220513T163000
DTSTAMP:20260420T055826
CREATED:20220430T134608Z
LAST-MODIFIED:20220430T134608Z
UID:7288-1652453100-1652459400@www.ballet.ph
SUMMARY:MISHA MARTYNYUK COMPANY CLASS
DESCRIPTION:
URL:https://www.ballet.ph/bp-event/misha-martynyuk-company-class-89/
END:VEVENT
BEGIN:VEVENT
DTSTART;TZID=Asia/Manila:20220513T164500
DTEND;TZID=Asia/Manila:20220513T200000
DTSTAMP:20260420T055826
CREATED:20220430T134313Z
LAST-MODIFIED:20220430T134313Z
UID:7268-1652460300-1652472000@www.ballet.ph
SUMMARY:COMPANY REHEARSAL
DESCRIPTION:
URL:https://www.ballet.ph/bp-event/company-rehearsal-49/
END:VEVENT
BEGIN:VEVENT
DTSTART;TZID=Asia/Manila:20220514T100000
DTEND;TZID=Asia/Manila:20220514T113000
DTSTAMP:20260420T055826
CREATED:20220430T133838Z
LAST-MODIFIED:20220430T133838Z
UID:7234-1652522400-1652527800@www.ballet.ph
SUMMARY:JOSEPH PHILLIPS OPEN CLASS
DESCRIPTION:
URL:https://www.ballet.ph/bp-event/joseph-phillips-open-class-49/
END:VEVENT
BEGIN:VEVENT
DTSTART;TZID=Asia/Manila:20220514T140000
DTEND;TZID=Asia/Manila:20220514T143000
DTSTAMP:20260420T055826
CREATED:20220430T134458Z
LAST-MODIFIED:20220430T134458Z
UID:7278-1652536800-1652538600@www.ballet.ph
SUMMARY:MISHA MARTYNYUK GYMNASTIC EXERCISE
DESCRIPTION:
URL:https://www.ballet.ph/bp-event/misha-martynyuk-gymnastic-exercise-50/
END:VEVENT
BEGIN:VEVENT
DTSTART;TZID=Asia/Manila:20220514T144500
DTEND;TZID=Asia/Manila:20220514T163000
DTSTAMP:20260420T055826
CREATED:20220430T134619Z
LAST-MODIFIED:20220430T134619Z
UID:7289-1652539500-1652545800@www.ballet.ph
SUMMARY:MISHA MARTYNYUK COMPANY CLASS
DESCRIPTION:
URL:https://www.ballet.ph/bp-event/misha-martynyuk-company-class-90/
END:VEVENT
BEGIN:VEVENT
DTSTART;TZID=Asia/Manila:20220514T164500
DTEND;TZID=Asia/Manila:20220514T200000
DTSTAMP:20260420T055826
CREATED:20220430T134323Z
LAST-MODIFIED:20220430T134323Z
UID:7269-1652546700-1652558400@www.ballet.ph
SUMMARY:COMPANY REHEARSAL
DESCRIPTION:
URL:https://www.ballet.ph/bp-event/company-rehearsal-50/
END:VEVENT
BEGIN:VEVENT
DTSTART;TZID=Asia/Manila:20220517T100000
DTEND;TZID=Asia/Manila:20220517T113000
DTSTAMP:20260420T055826
CREATED:20220430T134749Z
LAST-MODIFIED:20220430T134749Z
UID:7295-1652781600-1652787000@www.ballet.ph
SUMMARY:JOSEPH PHILLIPS OPEN CLASS
DESCRIPTION:
URL:https://www.ballet.ph/bp-event/joseph-phillips-open-class-50/
END:VEVENT
BEGIN:VEVENT
DTSTART;TZID=Asia/Manila:20220517T140000
DTEND;TZID=Asia/Manila:20220517T143000
DTSTAMP:20260420T055826
CREATED:20220430T135246Z
LAST-MODIFIED:20220430T135417Z
UID:7316-1652796000-1652797800@www.ballet.ph
SUMMARY:MISHA MARTYNYUK GYMNASTIC EXERCISE
DESCRIPTION:
URL:https://www.ballet.ph/bp-event/misha-martynyuk-gymnastic-exercise-51/
END:VEVENT
BEGIN:VEVENT
DTSTART;TZID=Asia/Manila:20220517T144500
DTEND;TZID=Asia/Manila:20220517T163000
DTSTAMP:20260420T055826
CREATED:20220430T135548Z
LAST-MODIFIED:20220430T135548Z
UID:7336-1652798700-1652805000@www.ballet.ph
SUMMARY:MISHA MARTYNYUK COMPANY CLASS
DESCRIPTION:
URL:https://www.ballet.ph/bp-event/misha-martynyuk-company-class-91/
END:VEVENT
BEGIN:VEVENT
DTSTART;TZID=Asia/Manila:20220517T164500
DTEND;TZID=Asia/Manila:20220517T200000
DTSTAMP:20260420T055826
CREATED:20220430T135839Z
LAST-MODIFIED:20220430T135839Z
UID:7356-1652805900-1652817600@www.ballet.ph
SUMMARY:COMPANY REHEARSAL
DESCRIPTION:
URL:https://www.ballet.ph/bp-event/company-rehearsal-51/
END:VEVENT
BEGIN:VEVENT
DTSTART;TZID=Asia/Manila:20220518T100000
DTEND;TZID=Asia/Manila:20220518T113000
DTSTAMP:20260420T055826
CREATED:20220430T135112Z
LAST-MODIFIED:20220430T135112Z
UID:7301-1652868000-1652873400@www.ballet.ph
SUMMARY:JOSEPH PHILLIPS OPEN CLASS
DESCRIPTION:
URL:https://www.ballet.ph/bp-event/joseph-phillips-open-class-59/
END:VEVENT
BEGIN:VEVENT
DTSTART;TZID=Asia/Manila:20220518T140000
DTEND;TZID=Asia/Manila:20220518T143000
DTSTAMP:20260420T055826
CREATED:20220430T135253Z
LAST-MODIFIED:20220430T135253Z
UID:7317-1652882400-1652884200@www.ballet.ph
SUMMARY:MISHA MARTYNYUK GYMNASTIC EXERCISE
DESCRIPTION:
URL:https://www.ballet.ph/bp-event/misha-martynyuk-gymnastic-exercise-52/
END:VEVENT
BEGIN:VEVENT
DTSTART;TZID=Asia/Manila:20220518T144500
DTEND;TZID=Asia/Manila:20220518T163000
DTSTAMP:20260420T055826
CREATED:20220430T135555Z
LAST-MODIFIED:20220430T135555Z
UID:7337-1652885100-1652891400@www.ballet.ph
SUMMARY:MISHA MARTYNYUK COMPANY CLASS
DESCRIPTION:
URL:https://www.ballet.ph/bp-event/misha-martynyuk-company-class-92/
END:VEVENT
BEGIN:VEVENT
DTSTART;TZID=Asia/Manila:20220518T164500
DTEND;TZID=Asia/Manila:20220518T200000
DTSTAMP:20260420T055826
CREATED:20220430T135849Z
LAST-MODIFIED:20220430T135849Z
UID:7357-1652892300-1652904000@www.ballet.ph
SUMMARY:COMPANY REHEARSAL
DESCRIPTION:
URL:https://www.ballet.ph/bp-event/company-rehearsal-52/
END:VEVENT
BEGIN:VEVENT
DTSTART;TZID=Asia/Manila:20220519T100000
DTEND;TZID=Asia/Manila:20220519T113000
DTSTAMP:20260420T055826
CREATED:20220430T134910Z
LAST-MODIFIED:20220430T134910Z
UID:7302-1652954400-1652959800@www.ballet.ph
SUMMARY:JOSEPH PHILLIPS OPEN CLASS
DESCRIPTION:
URL:https://www.ballet.ph/bp-event/joseph-phillips-open-class-51/
END:VEVENT
BEGIN:VEVENT
DTSTART;TZID=Asia/Manila:20220519T140000
DTEND;TZID=Asia/Manila:20220519T143000
DTSTAMP:20260420T055826
CREATED:20220430T135301Z
LAST-MODIFIED:20220430T135301Z
UID:7318-1652968800-1652970600@www.ballet.ph
SUMMARY:MISHA MARTYNYUK GYMNASTIC EXERCISE
DESCRIPTION:
URL:https://www.ballet.ph/bp-event/misha-martynyuk-gymnastic-exercise-53/
END:VEVENT
END:VCALENDAR