BEGIN:VCALENDAR
VERSION:2.0
PRODID:-//Ballet Philippines - ECPv6.15.17//NONSGML v1.0//EN
CALSCALE:GREGORIAN
METHOD:PUBLISH
X-ORIGINAL-URL:https://www.ballet.ph
X-WR-CALDESC:Events for Ballet Philippines
REFRESH-INTERVAL;VALUE=DURATION:PT1H
X-Robots-Tag:noindex
X-PUBLISHED-TTL:PT1H
BEGIN:VTIMEZONE
TZID:Asia/Manila
BEGIN:STANDARD
TZOFFSETFROM:+0800
TZOFFSETTO:+0800
TZNAME:PST
DTSTART:20210101T000000
END:STANDARD
END:VTIMEZONE
BEGIN:VEVENT
DTSTART;TZID=Asia/Manila:20220607T100000
DTEND;TZID=Asia/Manila:20220607T120000
DTSTAMP:20260420T055752
CREATED:20220606T233735Z
LAST-MODIFIED:20220606T233735Z
UID:7510-1654596000-1654603200@www.ballet.ph
SUMMARY:MIKHAIL MARTYNYUK COMPANY CLASS
DESCRIPTION:
URL:https://www.ballet.ph/bp-event/mikhail-martynyuk-company-class-5/
END:VEVENT
BEGIN:VEVENT
DTSTART;TZID=Asia/Manila:20220607T120000
DTEND;TZID=Asia/Manila:20220607T130000
DTSTAMP:20260420T055752
CREATED:20220606T233906Z
LAST-MODIFIED:20220606T233906Z
UID:7518-1654603200-1654606800@www.ballet.ph
SUMMARY:LUNCH BREAK
DESCRIPTION:
URL:https://www.ballet.ph/bp-event/lunch-break-5/
END:VEVENT
BEGIN:VEVENT
DTSTART;TZID=Asia/Manila:20220607T130000
DTEND;TZID=Asia/Manila:20220607T170000
DTSTAMP:20260420T055752
CREATED:20220606T234932Z
LAST-MODIFIED:20220606T234932Z
UID:7528-1654606800-1654621200@www.ballet.ph
SUMMARY:COMPANY REHEARSALS
DESCRIPTION:
URL:https://www.ballet.ph/bp-event/company-rehearsals-5/
END:VEVENT
BEGIN:VEVENT
DTSTART;TZID=Asia/Manila:20220608T100000
DTEND;TZID=Asia/Manila:20220608T120000
DTSTAMP:20260420T055752
CREATED:20220606T233745Z
LAST-MODIFIED:20220606T233745Z
UID:7511-1654682400-1654689600@www.ballet.ph
SUMMARY:MIKHAIL MARTYNYUK COMPANY CLASS
DESCRIPTION:
URL:https://www.ballet.ph/bp-event/mikhail-martynyuk-company-class-6/
END:VEVENT
BEGIN:VEVENT
DTSTART;TZID=Asia/Manila:20220608T120000
DTEND;TZID=Asia/Manila:20220608T130000
DTSTAMP:20260420T055752
CREATED:20220606T233918Z
LAST-MODIFIED:20220606T233918Z
UID:7519-1654689600-1654693200@www.ballet.ph
SUMMARY:LUNCH BREAK
DESCRIPTION:
URL:https://www.ballet.ph/bp-event/lunch-break-6/
END:VEVENT
BEGIN:VEVENT
DTSTART;TZID=Asia/Manila:20220608T130000
DTEND;TZID=Asia/Manila:20220608T170000
DTSTAMP:20260420T055752
CREATED:20220606T234938Z
LAST-MODIFIED:20220606T234938Z
UID:7529-1654693200-1654707600@www.ballet.ph
SUMMARY:COMPANY REHEARSALS
DESCRIPTION:
URL:https://www.ballet.ph/bp-event/company-rehearsals-6/
END:VEVENT
BEGIN:VEVENT
DTSTART;TZID=Asia/Manila:20220609T100000
DTEND;TZID=Asia/Manila:20220609T120000
DTSTAMP:20260420T055752
CREATED:20220606T233755Z
LAST-MODIFIED:20220606T233755Z
UID:7512-1654768800-1654776000@www.ballet.ph
SUMMARY:MIKHAIL MARTYNYUK COMPANY CLASS
DESCRIPTION:
URL:https://www.ballet.ph/bp-event/mikhail-martynyuk-company-class-7/
END:VEVENT
BEGIN:VEVENT
DTSTART;TZID=Asia/Manila:20220609T120000
DTEND;TZID=Asia/Manila:20220609T130000
DTSTAMP:20260420T055752
CREATED:20220606T233926Z
LAST-MODIFIED:20220606T233926Z
UID:7520-1654776000-1654779600@www.ballet.ph
SUMMARY:LUNCH BREAK
DESCRIPTION:
URL:https://www.ballet.ph/bp-event/lunch-break-7/
END:VEVENT
BEGIN:VEVENT
DTSTART;TZID=Asia/Manila:20220609T130000
DTEND;TZID=Asia/Manila:20220609T170000
DTSTAMP:20260420T055752
CREATED:20220606T234944Z
LAST-MODIFIED:20220606T234944Z
UID:7530-1654779600-1654794000@www.ballet.ph
SUMMARY:COMPANY REHEARSALS
DESCRIPTION:
URL:https://www.ballet.ph/bp-event/company-rehearsals-7/
END:VEVENT
BEGIN:VEVENT
DTSTART;TZID=Asia/Manila:20220610T100000
DTEND;TZID=Asia/Manila:20220610T120000
DTSTAMP:20260420T055752
CREATED:20220606T233811Z
LAST-MODIFIED:20220606T233811Z
UID:7508-1654855200-1654862400@www.ballet.ph
SUMMARY:MIKHAIL MARTYNYUK COMPANY CLASS
DESCRIPTION:
URL:https://www.ballet.ph/bp-event/mikhail-martynyuk-company-class-8/
END:VEVENT
BEGIN:VEVENT
DTSTART;TZID=Asia/Manila:20220610T120000
DTEND;TZID=Asia/Manila:20220610T130000
DTSTAMP:20260420T055752
CREATED:20220606T233934Z
LAST-MODIFIED:20220606T233934Z
UID:7521-1654862400-1654866000@www.ballet.ph
SUMMARY:LUNCH BREAK
DESCRIPTION:
URL:https://www.ballet.ph/bp-event/lunch-break-8/
END:VEVENT
BEGIN:VEVENT
DTSTART;TZID=Asia/Manila:20220610T130000
DTEND;TZID=Asia/Manila:20220610T170000
DTSTAMP:20260420T055752
CREATED:20220606T234952Z
LAST-MODIFIED:20220606T234952Z
UID:7531-1654866000-1654880400@www.ballet.ph
SUMMARY:COMPANY REHEARSALS
DESCRIPTION:
URL:https://www.ballet.ph/bp-event/company-rehearsals-8/
END:VEVENT
BEGIN:VEVENT
DTSTART;TZID=Asia/Manila:20220611T100000
DTEND;TZID=Asia/Manila:20220611T120000
DTSTAMP:20260420T055752
CREATED:20220606T233821Z
LAST-MODIFIED:20220606T233821Z
UID:7509-1654941600-1654948800@www.ballet.ph
SUMMARY:MIKHAIL MARTYNYUK COMPANY CLASS
DESCRIPTION:
URL:https://www.ballet.ph/bp-event/mikhail-martynyuk-company-class-9/
END:VEVENT
BEGIN:VEVENT
DTSTART;TZID=Asia/Manila:20220611T120000
DTEND;TZID=Asia/Manila:20220611T130000
DTSTAMP:20260420T055752
CREATED:20220606T233943Z
LAST-MODIFIED:20220606T233943Z
UID:7522-1654948800-1654952400@www.ballet.ph
SUMMARY:LUNCH BREAK
DESCRIPTION:
URL:https://www.ballet.ph/bp-event/lunch-break-9/
END:VEVENT
BEGIN:VEVENT
DTSTART;TZID=Asia/Manila:20220611T130000
DTEND;TZID=Asia/Manila:20220611T170000
DTSTAMP:20260420T055752
CREATED:20220606T234959Z
LAST-MODIFIED:20220606T234959Z
UID:7532-1654952400-1654966800@www.ballet.ph
SUMMARY:COMPANY REHEARSALS
DESCRIPTION:
URL:https://www.ballet.ph/bp-event/company-rehearsals-9/
END:VEVENT
BEGIN:VEVENT
DTSTART;VALUE=DATE:20220612
DTEND;VALUE=DATE:20220613
DTSTAMP:20260420T055752
CREATED:20220606T235314Z
LAST-MODIFIED:20220606T235314Z
UID:7548-1654992000-1655078399@www.ballet.ph
SUMMARY:HOLIDAY: INDEPENDENCE DAY
DESCRIPTION:
URL:https://www.ballet.ph/bp-event/holiday-independence-day/
END:VEVENT
BEGIN:VEVENT
DTSTART;TZID=Asia/Manila:20220614T100000
DTEND;TZID=Asia/Manila:20220614T120000
DTSTAMP:20260420T055752
CREATED:20220606T235403Z
LAST-MODIFIED:20220606T235403Z
UID:7553-1655200800-1655208000@www.ballet.ph
SUMMARY:MIKHAIL MARTYNYUK COMPANY CLASS
DESCRIPTION:
URL:https://www.ballet.ph/bp-event/mikhail-martynyuk-company-class-10/
END:VEVENT
BEGIN:VEVENT
DTSTART;TZID=Asia/Manila:20220614T120000
DTEND;TZID=Asia/Manila:20220614T130000
DTSTAMP:20260420T055752
CREATED:20220607T000059Z
LAST-MODIFIED:20220607T000059Z
UID:7560-1655208000-1655211600@www.ballet.ph
SUMMARY:LUNCH BREAK
DESCRIPTION:
URL:https://www.ballet.ph/bp-event/lunch-break-10/
END:VEVENT
BEGIN:VEVENT
DTSTART;TZID=Asia/Manila:20220614T130000
DTEND;TZID=Asia/Manila:20220614T170000
DTSTAMP:20260420T055752
CREATED:20220606T235129Z
LAST-MODIFIED:20220606T235129Z
UID:7538-1655211600-1655226000@www.ballet.ph
SUMMARY:COMPANY REHEARSALS
DESCRIPTION:
URL:https://www.ballet.ph/bp-event/company-rehearsals-10/
END:VEVENT
BEGIN:VEVENT
DTSTART;TZID=Asia/Manila:20220615T100000
DTEND;TZID=Asia/Manila:20220615T120000
DTSTAMP:20260420T055752
CREATED:20220606T235413Z
LAST-MODIFIED:20220606T235413Z
UID:7549-1655287200-1655294400@www.ballet.ph
SUMMARY:MIKHAIL MARTYNYUK COMPANY CLASS
DESCRIPTION:
URL:https://www.ballet.ph/bp-event/mikhail-martynyuk-company-class-11/
END:VEVENT
BEGIN:VEVENT
DTSTART;TZID=Asia/Manila:20220615T120000
DTEND;TZID=Asia/Manila:20220615T130000
DTSTAMP:20260420T055752
CREATED:20220607T000108Z
LAST-MODIFIED:20220607T000108Z
UID:7561-1655294400-1655298000@www.ballet.ph
SUMMARY:LUNCH BREAK
DESCRIPTION:
URL:https://www.ballet.ph/bp-event/lunch-break-11/
END:VEVENT
BEGIN:VEVENT
DTSTART;TZID=Asia/Manila:20220615T130000
DTEND;TZID=Asia/Manila:20220615T170000
DTSTAMP:20260420T055752
CREATED:20220606T235136Z
LAST-MODIFIED:20220606T235136Z
UID:7539-1655298000-1655312400@www.ballet.ph
SUMMARY:COMPANY REHEARSALS
DESCRIPTION:
URL:https://www.ballet.ph/bp-event/company-rehearsals-11/
END:VEVENT
BEGIN:VEVENT
DTSTART;TZID=Asia/Manila:20220616T100000
DTEND;TZID=Asia/Manila:20220616T120000
DTSTAMP:20260420T055752
CREATED:20220606T235423Z
LAST-MODIFIED:20220606T235423Z
UID:7550-1655373600-1655380800@www.ballet.ph
SUMMARY:MIKHAIL MARTYNYUK COMPANY CLASS
DESCRIPTION:
URL:https://www.ballet.ph/bp-event/mikhail-martynyuk-company-class-12/
END:VEVENT
BEGIN:VEVENT
DTSTART;TZID=Asia/Manila:20220616T120000
DTEND;TZID=Asia/Manila:20220616T130000
DTSTAMP:20260420T055752
CREATED:20220607T000116Z
LAST-MODIFIED:20220607T000116Z
UID:7562-1655380800-1655384400@www.ballet.ph
SUMMARY:LUNCH BREAK
DESCRIPTION:
URL:https://www.ballet.ph/bp-event/lunch-break-12/
END:VEVENT
BEGIN:VEVENT
DTSTART;TZID=Asia/Manila:20220616T130000
DTEND;TZID=Asia/Manila:20220616T170000
DTSTAMP:20260420T055752
CREATED:20220606T235142Z
LAST-MODIFIED:20220606T235142Z
UID:7540-1655384400-1655398800@www.ballet.ph
SUMMARY:COMPANY REHEARSALS
DESCRIPTION:
URL:https://www.ballet.ph/bp-event/company-rehearsals-12/
END:VEVENT
BEGIN:VEVENT
DTSTART;TZID=Asia/Manila:20220617T100000
DTEND;TZID=Asia/Manila:20220617T120000
DTSTAMP:20260420T055752
CREATED:20220606T235434Z
LAST-MODIFIED:20220606T235434Z
UID:7551-1655460000-1655467200@www.ballet.ph
SUMMARY:MIKHAIL MARTYNYUK COMPANY CLASS
DESCRIPTION:
URL:https://www.ballet.ph/bp-event/mikhail-martynyuk-company-class-13/
END:VEVENT
BEGIN:VEVENT
DTSTART;TZID=Asia/Manila:20220617T120000
DTEND;TZID=Asia/Manila:20220617T130000
DTSTAMP:20260420T055752
CREATED:20220607T000128Z
LAST-MODIFIED:20220607T000128Z
UID:7563-1655467200-1655470800@www.ballet.ph
SUMMARY:LUNCH BREAK
DESCRIPTION:
URL:https://www.ballet.ph/bp-event/lunch-break-13/
END:VEVENT
BEGIN:VEVENT
DTSTART;TZID=Asia/Manila:20220617T130000
DTEND;TZID=Asia/Manila:20220617T170000
DTSTAMP:20260420T055752
CREATED:20220606T235148Z
LAST-MODIFIED:20220606T235217Z
UID:7541-1655470800-1655485200@www.ballet.ph
SUMMARY:COMPANY REHEARSALS
DESCRIPTION:
URL:https://www.ballet.ph/bp-event/company-rehearsals-13/
END:VEVENT
BEGIN:VEVENT
DTSTART;TZID=Asia/Manila:20220618T100000
DTEND;TZID=Asia/Manila:20220618T120000
DTSTAMP:20260420T055752
CREATED:20220606T235444Z
LAST-MODIFIED:20220606T235444Z
UID:7552-1655546400-1655553600@www.ballet.ph
SUMMARY:MIKHAIL MARTYNYUK COMPANY CLASS
DESCRIPTION:
URL:https://www.ballet.ph/bp-event/mikhail-martynyuk-company-class-14/
END:VEVENT
BEGIN:VEVENT
DTSTART;TZID=Asia/Manila:20220618T120000
DTEND;TZID=Asia/Manila:20220618T130000
DTSTAMP:20260420T055752
CREATED:20220607T000139Z
LAST-MODIFIED:20220607T000139Z
UID:7564-1655553600-1655557200@www.ballet.ph
SUMMARY:LUNCH BREAK
DESCRIPTION:
URL:https://www.ballet.ph/bp-event/lunch-break-14/
END:VEVENT
END:VCALENDAR