BEGIN:VCALENDAR
VERSION:2.0
PRODID:-//Ballet Philippines - ECPv6.15.17//NONSGML v1.0//EN
CALSCALE:GREGORIAN
METHOD:PUBLISH
X-WR-CALNAME:Ballet Philippines
X-ORIGINAL-URL:https://www.ballet.ph
X-WR-CALDESC:Events for Ballet Philippines
REFRESH-INTERVAL;VALUE=DURATION:PT1H
X-Robots-Tag:noindex
X-PUBLISHED-TTL:PT1H
BEGIN:VTIMEZONE
TZID:Asia/Manila
BEGIN:STANDARD
TZOFFSETFROM:+0800
TZOFFSETTO:+0800
TZNAME:PST
DTSTART:20210101T000000
END:STANDARD
END:VTIMEZONE
BEGIN:VEVENT
DTSTART;TZID=Asia/Manila:20220531T164500
DTEND;TZID=Asia/Manila:20220531T200000
DTSTAMP:20260420T062017
CREATED:20220430T140056Z
LAST-MODIFIED:20220430T140056Z
UID:7379-1654015500-1654027200@www.ballet.ph
SUMMARY:COMPANY REHEARSAL
DESCRIPTION:
URL:https://www.ballet.ph/bp-event/company-rehearsal-61/
END:VEVENT
BEGIN:VEVENT
DTSTART;TZID=Asia/Manila:20220531T144500
DTEND;TZID=Asia/Manila:20220531T163000
DTSTAMP:20260420T062017
CREATED:20220430T140202Z
LAST-MODIFIED:20220430T140202Z
UID:7378-1654008300-1654014600@www.ballet.ph
SUMMARY:MISHA MARTYNYUK COMPANY CLASS
DESCRIPTION:
URL:https://www.ballet.ph/bp-event/misha-martynyuk-company-class-101/
END:VEVENT
BEGIN:VEVENT
DTSTART;TZID=Asia/Manila:20220531T140000
DTEND;TZID=Asia/Manila:20220531T143000
DTSTAMP:20260420T062017
CREATED:20220430T140146Z
LAST-MODIFIED:20220430T140146Z
UID:7377-1654005600-1654007400@www.ballet.ph
SUMMARY:MISHA MARTYNYUK GYMNASTIC EXERCISE
DESCRIPTION:
URL:https://www.ballet.ph/bp-event/misha-martynyuk-gymnastic-exercise-61/
END:VEVENT
BEGIN:VEVENT
DTSTART;TZID=Asia/Manila:20220531T100000
DTEND;TZID=Asia/Manila:20220531T113000
DTSTAMP:20260420T062017
CREATED:20220430T140127Z
LAST-MODIFIED:20220430T140127Z
UID:7376-1653991200-1653996600@www.ballet.ph
SUMMARY:JOSEPH PHILLIPS OPEN CLASS
DESCRIPTION:
URL:https://www.ballet.ph/bp-event/joseph-phillips-open-class-60/
END:VEVENT
BEGIN:VEVENT
DTSTART;TZID=Asia/Manila:20220528T164500
DTEND;TZID=Asia/Manila:20220528T200000
DTSTAMP:20260420T062017
CREATED:20220430T140017Z
LAST-MODIFIED:20220430T140017Z
UID:7365-1653756300-1653768000@www.ballet.ph
SUMMARY:COMPANY REHEARSAL
DESCRIPTION:
URL:https://www.ballet.ph/bp-event/company-rehearsal-60/
END:VEVENT
BEGIN:VEVENT
DTSTART;TZID=Asia/Manila:20220528T144500
DTEND;TZID=Asia/Manila:20220528T163000
DTSTAMP:20260420T062017
CREATED:20220430T135710Z
LAST-MODIFIED:20220430T135710Z
UID:7345-1653749100-1653755400@www.ballet.ph
SUMMARY:MISHA MARTYNYUK COMPANY CLASS
DESCRIPTION:
URL:https://www.ballet.ph/bp-event/misha-martynyuk-company-class-100/
END:VEVENT
BEGIN:VEVENT
DTSTART;TZID=Asia/Manila:20220528T140000
DTEND;TZID=Asia/Manila:20220528T143000
DTSTAMP:20260420T062017
CREATED:20220430T135400Z
LAST-MODIFIED:20220430T135400Z
UID:7325-1653746400-1653748200@www.ballet.ph
SUMMARY:MISHA MARTYNYUK GYMNASTIC EXERCISE
DESCRIPTION:
URL:https://www.ballet.ph/bp-event/misha-martynyuk-gymnastic-exercise-60/
END:VEVENT
BEGIN:VEVENT
DTSTART;TZID=Asia/Manila:20220528T100000
DTEND;TZID=Asia/Manila:20220528T113000
DTSTAMP:20260420T062017
CREATED:20220430T135010Z
LAST-MODIFIED:20220430T135010Z
UID:7299-1653732000-1653737400@www.ballet.ph
SUMMARY:JOSEPH PHILLIPS OPEN CLASS
DESCRIPTION:
URL:https://www.ballet.ph/bp-event/joseph-phillips-open-class-58/
END:VEVENT
BEGIN:VEVENT
DTSTART;TZID=Asia/Manila:20220527T164500
DTEND;TZID=Asia/Manila:20220527T200000
DTSTAMP:20260420T062017
CREATED:20220430T140008Z
LAST-MODIFIED:20220430T140008Z
UID:7364-1653669900-1653681600@www.ballet.ph
SUMMARY:COMPANY REHEARSAL
DESCRIPTION:
URL:https://www.ballet.ph/bp-event/company-rehearsal-59/
END:VEVENT
BEGIN:VEVENT
DTSTART;TZID=Asia/Manila:20220527T144500
DTEND;TZID=Asia/Manila:20220527T163000
DTSTAMP:20260420T062017
CREATED:20220430T135702Z
LAST-MODIFIED:20220430T135702Z
UID:7344-1653662700-1653669000@www.ballet.ph
SUMMARY:MISHA MARTYNYUK COMPANY CLASS
DESCRIPTION:
URL:https://www.ballet.ph/bp-event/misha-martynyuk-company-class-99/
END:VEVENT
BEGIN:VEVENT
DTSTART;TZID=Asia/Manila:20220527T140000
DTEND;TZID=Asia/Manila:20220527T143000
DTSTAMP:20260420T062017
CREATED:20220430T135351Z
LAST-MODIFIED:20220430T135351Z
UID:7324-1653660000-1653661800@www.ballet.ph
SUMMARY:MISHA MARTYNYUK GYMNASTIC EXERCISE
DESCRIPTION:
URL:https://www.ballet.ph/bp-event/misha-martynyuk-gymnastic-exercise-59/
END:VEVENT
BEGIN:VEVENT
DTSTART;TZID=Asia/Manila:20220527T100000
DTEND;TZID=Asia/Manila:20220527T113000
DTSTAMP:20260420T062017
CREATED:20220430T135003Z
LAST-MODIFIED:20220430T135003Z
UID:7298-1653645600-1653651000@www.ballet.ph
SUMMARY:JOSEPH PHILLIPS OPEN CLASS
DESCRIPTION:
URL:https://www.ballet.ph/bp-event/joseph-phillips-open-class-57/
END:VEVENT
BEGIN:VEVENT
DTSTART;TZID=Asia/Manila:20220526T164500
DTEND;TZID=Asia/Manila:20220526T200000
DTSTAMP:20260420T062017
CREATED:20220430T135959Z
LAST-MODIFIED:20220430T135959Z
UID:7363-1653583500-1653595200@www.ballet.ph
SUMMARY:COMPANY REHEARSAL
DESCRIPTION:
URL:https://www.ballet.ph/bp-event/company-rehearsal-58/
END:VEVENT
BEGIN:VEVENT
DTSTART;TZID=Asia/Manila:20220526T144500
DTEND;TZID=Asia/Manila:20220526T163000
DTSTAMP:20260420T062017
CREATED:20220430T135653Z
LAST-MODIFIED:20220430T135653Z
UID:7343-1653576300-1653582600@www.ballet.ph
SUMMARY:MISHA MARTYNYUK COMPANY CLASS
DESCRIPTION:
URL:https://www.ballet.ph/bp-event/misha-martynyuk-company-class-98/
END:VEVENT
BEGIN:VEVENT
DTSTART;TZID=Asia/Manila:20220526T140000
DTEND;TZID=Asia/Manila:20220526T143000
DTSTAMP:20260420T062017
CREATED:20220430T135344Z
LAST-MODIFIED:20220430T135344Z
UID:7323-1653573600-1653575400@www.ballet.ph
SUMMARY:MISHA MARTYNYUK GYMNASTIC EXERCISE
DESCRIPTION:
URL:https://www.ballet.ph/bp-event/misha-martynyuk-gymnastic-exercise-58/
END:VEVENT
BEGIN:VEVENT
DTSTART;TZID=Asia/Manila:20220526T100000
DTEND;TZID=Asia/Manila:20220526T113000
DTSTAMP:20260420T062017
CREATED:20220430T134954Z
LAST-MODIFIED:20220430T134954Z
UID:7297-1653559200-1653564600@www.ballet.ph
SUMMARY:JOSEPH PHILLIPS OPEN CLASS
DESCRIPTION:
URL:https://www.ballet.ph/bp-event/joseph-phillips-open-class-56/
END:VEVENT
BEGIN:VEVENT
DTSTART;TZID=Asia/Manila:20220525T164500
DTEND;TZID=Asia/Manila:20220525T200000
DTSTAMP:20260420T062017
CREATED:20220430T135951Z
LAST-MODIFIED:20220430T135951Z
UID:7362-1653497100-1653508800@www.ballet.ph
SUMMARY:COMPANY REHEARSAL
DESCRIPTION:
URL:https://www.ballet.ph/bp-event/company-rehearsal-57/
END:VEVENT
BEGIN:VEVENT
DTSTART;TZID=Asia/Manila:20220525T144500
DTEND;TZID=Asia/Manila:20220525T163000
DTSTAMP:20260420T062017
CREATED:20220430T135635Z
LAST-MODIFIED:20220430T135635Z
UID:7342-1653489900-1653496200@www.ballet.ph
SUMMARY:MISHA MARTYNYUK COMPANY CLASS
DESCRIPTION:
URL:https://www.ballet.ph/bp-event/misha-martynyuk-company-class-97/
END:VEVENT
BEGIN:VEVENT
DTSTART;TZID=Asia/Manila:20220525T140000
DTEND;TZID=Asia/Manila:20220525T143000
DTSTAMP:20260420T062017
CREATED:20220430T135336Z
LAST-MODIFIED:20220430T135336Z
UID:7322-1653487200-1653489000@www.ballet.ph
SUMMARY:MISHA MARTYNYUK GYMNASTIC EXERCISE
DESCRIPTION:
URL:https://www.ballet.ph/bp-event/misha-martynyuk-gymnastic-exercise-57/
END:VEVENT
BEGIN:VEVENT
DTSTART;TZID=Asia/Manila:20220525T100000
DTEND;TZID=Asia/Manila:20220525T113000
DTSTAMP:20260420T062017
CREATED:20220430T134946Z
LAST-MODIFIED:20220430T134946Z
UID:7296-1653472800-1653478200@www.ballet.ph
SUMMARY:JOSEPH PHILLIPS OPEN CLASS
DESCRIPTION:
URL:https://www.ballet.ph/bp-event/joseph-phillips-open-class-55/
END:VEVENT
BEGIN:VEVENT
DTSTART;TZID=Asia/Manila:20220524T164500
DTEND;TZID=Asia/Manila:20220524T200000
DTSTAMP:20260420T062017
CREATED:20220430T135943Z
LAST-MODIFIED:20220430T135943Z
UID:7361-1653410700-1653422400@www.ballet.ph
SUMMARY:COMPANY REHEARSAL
DESCRIPTION:
URL:https://www.ballet.ph/bp-event/company-rehearsal-56/
END:VEVENT
BEGIN:VEVENT
DTSTART;TZID=Asia/Manila:20220524T144500
DTEND;TZID=Asia/Manila:20220524T163000
DTSTAMP:20260420T062017
CREATED:20220430T135627Z
LAST-MODIFIED:20220430T135627Z
UID:7341-1653403500-1653409800@www.ballet.ph
SUMMARY:MISHA MARTYNYUK COMPANY CLASS
DESCRIPTION:
URL:https://www.ballet.ph/bp-event/misha-martynyuk-company-class-96/
END:VEVENT
BEGIN:VEVENT
DTSTART;TZID=Asia/Manila:20220524T140000
DTEND;TZID=Asia/Manila:20220524T143000
DTSTAMP:20260420T062017
CREATED:20220430T135326Z
LAST-MODIFIED:20220430T135326Z
UID:7321-1653400800-1653402600@www.ballet.ph
SUMMARY:MISHA MARTYNYUK GYMNASTIC EXERCISE
DESCRIPTION:
URL:https://www.ballet.ph/bp-event/misha-martynyuk-gymnastic-exercise-56/
END:VEVENT
BEGIN:VEVENT
DTSTART;TZID=Asia/Manila:20220524T100000
DTEND;TZID=Asia/Manila:20220524T113000
DTSTAMP:20260420T062017
CREATED:20220430T134937Z
LAST-MODIFIED:20220430T134937Z
UID:7305-1653386400-1653391800@www.ballet.ph
SUMMARY:JOSEPH PHILLIPS OPEN CLASS
DESCRIPTION:
URL:https://www.ballet.ph/bp-event/joseph-phillips-open-class-54/
END:VEVENT
BEGIN:VEVENT
DTSTART;TZID=Asia/Manila:20220521T164500
DTEND;TZID=Asia/Manila:20220521T200000
DTSTAMP:20260420T062017
CREATED:20220430T135915Z
LAST-MODIFIED:20220430T135915Z
UID:7360-1653151500-1653163200@www.ballet.ph
SUMMARY:COMPANY REHEARSAL
DESCRIPTION:
URL:https://www.ballet.ph/bp-event/company-rehearsal-55/
END:VEVENT
BEGIN:VEVENT
DTSTART;TZID=Asia/Manila:20220521T144500
DTEND;TZID=Asia/Manila:20220521T163000
DTSTAMP:20260420T062017
CREATED:20220430T135619Z
LAST-MODIFIED:20220430T135619Z
UID:7340-1653144300-1653150600@www.ballet.ph
SUMMARY:MISHA MARTYNYUK COMPANY CLASS
DESCRIPTION:
URL:https://www.ballet.ph/bp-event/misha-martynyuk-company-class-95/
END:VEVENT
BEGIN:VEVENT
DTSTART;TZID=Asia/Manila:20220521T140000
DTEND;TZID=Asia/Manila:20220521T143000
DTSTAMP:20260420T062017
CREATED:20220430T135318Z
LAST-MODIFIED:20220430T135318Z
UID:7320-1653141600-1653143400@www.ballet.ph
SUMMARY:MISHA MARTYNYUK GYMNASTIC EXERCISE
DESCRIPTION:
URL:https://www.ballet.ph/bp-event/misha-martynyuk-gymnastic-exercise-55/
END:VEVENT
BEGIN:VEVENT
DTSTART;TZID=Asia/Manila:20220521T100000
DTEND;TZID=Asia/Manila:20220521T113000
DTSTAMP:20260420T062017
CREATED:20220430T134925Z
LAST-MODIFIED:20220430T134925Z
UID:7304-1653127200-1653132600@www.ballet.ph
SUMMARY:JOSEPH PHILLIPS OPEN CLASS
DESCRIPTION:
URL:https://www.ballet.ph/bp-event/joseph-phillips-open-class-53/
END:VEVENT
BEGIN:VEVENT
DTSTART;TZID=Asia/Manila:20220520T164500
DTEND;TZID=Asia/Manila:20220520T200000
DTSTAMP:20260420T062017
CREATED:20220430T135907Z
LAST-MODIFIED:20220430T135907Z
UID:7359-1653065100-1653076800@www.ballet.ph
SUMMARY:COMPANY REHEARSAL
DESCRIPTION:
URL:https://www.ballet.ph/bp-event/company-rehearsal-54/
END:VEVENT
BEGIN:VEVENT
DTSTART;TZID=Asia/Manila:20220520T144500
DTEND;TZID=Asia/Manila:20220520T163000
DTSTAMP:20260420T062017
CREATED:20220430T135611Z
LAST-MODIFIED:20220430T135611Z
UID:7339-1653057900-1653064200@www.ballet.ph
SUMMARY:MISHA MARTYNYUK COMPANY CLASS
DESCRIPTION:
URL:https://www.ballet.ph/bp-event/misha-martynyuk-company-class-94/
END:VEVENT
END:VCALENDAR