BEGIN:VCALENDAR
VERSION:2.0
PRODID:-//Ballet Philippines - ECPv6.15.17//NONSGML v1.0//EN
CALSCALE:GREGORIAN
METHOD:PUBLISH
X-WR-CALNAME:Ballet Philippines
X-ORIGINAL-URL:https://www.ballet.ph
X-WR-CALDESC:Events for Ballet Philippines
REFRESH-INTERVAL;VALUE=DURATION:PT1H
X-Robots-Tag:noindex
X-PUBLISHED-TTL:PT1H
BEGIN:VTIMEZONE
TZID:Asia/Manila
BEGIN:STANDARD
TZOFFSETFROM:+0800
TZOFFSETTO:+0800
TZNAME:PST
DTSTART:20210101T000000
END:STANDARD
END:VTIMEZONE
BEGIN:VEVENT
DTSTART;TZID=Asia/Manila:20220120T140000
DTEND;TZID=Asia/Manila:20220120T144500
DTSTAMP:20260420T154223
CREATED:20220120T065814Z
LAST-MODIFIED:20220120T065814Z
UID:6384-1642687200-1642689900@www.ballet.ph
SUMMARY:MISHA MARTYNYUK CARDIO TRAINING
DESCRIPTION:
URL:https://www.ballet.ph/bp-event/misha-martynyuk-cardio-training-3/
END:VEVENT
BEGIN:VEVENT
DTSTART;TZID=Asia/Manila:20220120T150000
DTEND;TZID=Asia/Manila:20220120T170000
DTSTAMP:20260420T154223
CREATED:20220120T065945Z
LAST-MODIFIED:20220120T065945Z
UID:6395-1642690800-1642698000@www.ballet.ph
SUMMARY:JOSEPH PHILLIPS BALLET CLASS
DESCRIPTION:
URL:https://www.ballet.ph/bp-event/joseph-phillips-ballet-class-134/
END:VEVENT
BEGIN:VEVENT
DTSTART;TZID=Asia/Manila:20220120T170000
DTEND;TZID=Asia/Manila:20220120T200000
DTSTAMP:20260420T154223
CREATED:20220120T070255Z
LAST-MODIFIED:20220120T070255Z
UID:6404-1642698000-1642708800@www.ballet.ph
SUMMARY:REHEARSAL
DESCRIPTION:
URL:https://www.ballet.ph/bp-event/rehearsal-108/
END:VEVENT
BEGIN:VEVENT
DTSTART;TZID=Asia/Manila:20220121T140000
DTEND;TZID=Asia/Manila:20220121T144500
DTSTAMP:20260420T154223
CREATED:20220120T065826Z
LAST-MODIFIED:20220120T065826Z
UID:6385-1642773600-1642776300@www.ballet.ph
SUMMARY:MISHA MARTYNYUK CARDIO TRAINING
DESCRIPTION:
URL:https://www.ballet.ph/bp-event/misha-martynyuk-cardio-training-4/
END:VEVENT
BEGIN:VEVENT
DTSTART;TZID=Asia/Manila:20220121T150000
DTEND;TZID=Asia/Manila:20220121T170000
DTSTAMP:20260420T154223
CREATED:20220120T065951Z
LAST-MODIFIED:20220120T065951Z
UID:6394-1642777200-1642784400@www.ballet.ph
SUMMARY:JOSEPH PHILLIPS BALLET CLASS
DESCRIPTION:
URL:https://www.ballet.ph/bp-event/joseph-phillips-ballet-class-135/
END:VEVENT
BEGIN:VEVENT
DTSTART;TZID=Asia/Manila:20220121T170000
DTEND;TZID=Asia/Manila:20220121T200000
DTSTAMP:20260420T154223
CREATED:20220120T070306Z
LAST-MODIFIED:20220120T070306Z
UID:6405-1642784400-1642795200@www.ballet.ph
SUMMARY:REHEARSAL
DESCRIPTION:
URL:https://www.ballet.ph/bp-event/rehearsal-109/
END:VEVENT
BEGIN:VEVENT
DTSTART;TZID=Asia/Manila:20220122T140000
DTEND;TZID=Asia/Manila:20220122T144500
DTSTAMP:20260420T154223
CREATED:20220120T065837Z
LAST-MODIFIED:20220120T065837Z
UID:6386-1642860000-1642862700@www.ballet.ph
SUMMARY:MISHA MARTYNYUK CARDIO TRAINING
DESCRIPTION:
URL:https://www.ballet.ph/bp-event/misha-martynyuk-cardio-training-5/
END:VEVENT
BEGIN:VEVENT
DTSTART;TZID=Asia/Manila:20220122T140000
DTEND;TZID=Asia/Manila:20220122T144500
DTSTAMP:20260420T154223
CREATED:20220120T075241Z
LAST-MODIFIED:20220120T075241Z
UID:6416-1642860000-1642862700@www.ballet.ph
SUMMARY:MISHA MARTYNYUK CARDIO TRAINING
DESCRIPTION:
URL:https://www.ballet.ph/bp-event/misha-martynyuk-cardio-training-10/
END:VEVENT
BEGIN:VEVENT
DTSTART;TZID=Asia/Manila:20220122T150000
DTEND;TZID=Asia/Manila:20220122T170000
DTSTAMP:20260420T154223
CREATED:20220120T070002Z
LAST-MODIFIED:20220120T070002Z
UID:6396-1642863600-1642870800@www.ballet.ph
SUMMARY:JOSEPH PHILLIPS BALLET CLASS
DESCRIPTION:
URL:https://www.ballet.ph/bp-event/joseph-phillips-ballet-class-136/
END:VEVENT
BEGIN:VEVENT
DTSTART;TZID=Asia/Manila:20220122T170000
DTEND;TZID=Asia/Manila:20220122T200000
DTSTAMP:20260420T154223
CREATED:20220120T070315Z
LAST-MODIFIED:20220120T070315Z
UID:6406-1642870800-1642881600@www.ballet.ph
SUMMARY:REHEARSAL
DESCRIPTION:
URL:https://www.ballet.ph/bp-event/rehearsal-110/
END:VEVENT
BEGIN:VEVENT
DTSTART;TZID=Asia/Manila:20220125T140000
DTEND;TZID=Asia/Manila:20220125T144500
DTSTAMP:20260420T154223
CREATED:20220120T075200Z
LAST-MODIFIED:20220120T075200Z
UID:6412-1643119200-1643121900@www.ballet.ph
SUMMARY:MISHA MARTYNYUK CARDIO TRAINING
DESCRIPTION:
URL:https://www.ballet.ph/bp-event/misha-martynyuk-cardio-training-6/
END:VEVENT
BEGIN:VEVENT
DTSTART;TZID=Asia/Manila:20220125T150000
DTEND;TZID=Asia/Manila:20220125T170000
DTSTAMP:20260420T154223
CREATED:20220120T075413Z
LAST-MODIFIED:20220120T075413Z
UID:6424-1643122800-1643130000@www.ballet.ph
SUMMARY:JOSEPH PHILLIPS BALLET CLASS
DESCRIPTION:
URL:https://www.ballet.ph/bp-event/joseph-phillips-ballet-class-137/
END:VEVENT
BEGIN:VEVENT
DTSTART;TZID=Asia/Manila:20220125T170000
DTEND;TZID=Asia/Manila:20220125T200000
DTSTAMP:20260420T154223
CREATED:20220120T075523Z
LAST-MODIFIED:20220120T075523Z
UID:6434-1643130000-1643140800@www.ballet.ph
SUMMARY:REHEARSAL
DESCRIPTION:
URL:https://www.ballet.ph/bp-event/rehearsal-111/
END:VEVENT
BEGIN:VEVENT
DTSTART;TZID=Asia/Manila:20220126T140000
DTEND;TZID=Asia/Manila:20220126T144500
DTSTAMP:20260420T154223
CREATED:20220120T075211Z
LAST-MODIFIED:20220120T075211Z
UID:6413-1643205600-1643208300@www.ballet.ph
SUMMARY:MISHA MARTYNYUK CARDIO TRAINING
DESCRIPTION:
URL:https://www.ballet.ph/bp-event/misha-martynyuk-cardio-training-7/
END:VEVENT
BEGIN:VEVENT
DTSTART;TZID=Asia/Manila:20220126T150000
DTEND;TZID=Asia/Manila:20220126T170000
DTSTAMP:20260420T154223
CREATED:20220120T075419Z
LAST-MODIFIED:20220120T075419Z
UID:6425-1643209200-1643216400@www.ballet.ph
SUMMARY:JOSEPH PHILLIPS BALLET CLASS
DESCRIPTION:
URL:https://www.ballet.ph/bp-event/joseph-phillips-ballet-class-138/
END:VEVENT
BEGIN:VEVENT
DTSTART;TZID=Asia/Manila:20220126T170000
DTEND;TZID=Asia/Manila:20220126T200000
DTSTAMP:20260420T154223
CREATED:20220120T075531Z
LAST-MODIFIED:20220120T075531Z
UID:6435-1643216400-1643227200@www.ballet.ph
SUMMARY:REHEARSAL
DESCRIPTION:
URL:https://www.ballet.ph/bp-event/rehearsal-112/
END:VEVENT
BEGIN:VEVENT
DTSTART;TZID=Asia/Manila:20220127T140000
DTEND;TZID=Asia/Manila:20220127T144500
DTSTAMP:20260420T154223
CREATED:20220120T075220Z
LAST-MODIFIED:20220120T075220Z
UID:6414-1643292000-1643294700@www.ballet.ph
SUMMARY:MISHA MARTYNYUK CARDIO TRAINING
DESCRIPTION:
URL:https://www.ballet.ph/bp-event/misha-martynyuk-cardio-training-8/
END:VEVENT
BEGIN:VEVENT
DTSTART;TZID=Asia/Manila:20220127T150000
DTEND;TZID=Asia/Manila:20220127T170000
DTSTAMP:20260420T154223
CREATED:20220120T075427Z
LAST-MODIFIED:20220120T075427Z
UID:6426-1643295600-1643302800@www.ballet.ph
SUMMARY:JOSEPH PHILLIPS BALLET CLASS
DESCRIPTION:
URL:https://www.ballet.ph/bp-event/joseph-phillips-ballet-class-139/
END:VEVENT
BEGIN:VEVENT
DTSTART;TZID=Asia/Manila:20220127T170000
DTEND;TZID=Asia/Manila:20220127T200000
DTSTAMP:20260420T154223
CREATED:20220120T075543Z
LAST-MODIFIED:20220120T075543Z
UID:6436-1643302800-1643313600@www.ballet.ph
SUMMARY:REHEARSAL
DESCRIPTION:
URL:https://www.ballet.ph/bp-event/rehearsal-113/
END:VEVENT
BEGIN:VEVENT
DTSTART;TZID=Asia/Manila:20220128T140000
DTEND;TZID=Asia/Manila:20220128T144500
DTSTAMP:20260420T154223
CREATED:20220120T075230Z
LAST-MODIFIED:20220120T075230Z
UID:6415-1643378400-1643381100@www.ballet.ph
SUMMARY:MISHA MARTYNYUK CARDIO TRAINING
DESCRIPTION:
URL:https://www.ballet.ph/bp-event/misha-martynyuk-cardio-training-9/
END:VEVENT
BEGIN:VEVENT
DTSTART;TZID=Asia/Manila:20220128T150000
DTEND;TZID=Asia/Manila:20220128T170000
DTSTAMP:20260420T154223
CREATED:20220120T075435Z
LAST-MODIFIED:20220120T075435Z
UID:6427-1643382000-1643389200@www.ballet.ph
SUMMARY:JOSEPH PHILLIPS BALLET CLASS
DESCRIPTION:
URL:https://www.ballet.ph/bp-event/joseph-phillips-ballet-class-140/
END:VEVENT
BEGIN:VEVENT
DTSTART;TZID=Asia/Manila:20220128T170000
DTEND;TZID=Asia/Manila:20220128T200000
DTSTAMP:20260420T154223
CREATED:20220120T075557Z
LAST-MODIFIED:20220120T075557Z
UID:6437-1643389200-1643400000@www.ballet.ph
SUMMARY:REHEARSAL
DESCRIPTION:
URL:https://www.ballet.ph/bp-event/rehearsal-114/
END:VEVENT
BEGIN:VEVENT
DTSTART;TZID=Asia/Manila:20220129T140000
DTEND;TZID=Asia/Manila:20220129T144500
DTSTAMP:20260420T154223
CREATED:20220120T075330Z
LAST-MODIFIED:20220120T075330Z
UID:6422-1643464800-1643467500@www.ballet.ph
SUMMARY:MISHA MARTYNYUK CARDIO TRAINING
DESCRIPTION:
URL:https://www.ballet.ph/bp-event/misha-martynyuk-cardio-training-11/
END:VEVENT
BEGIN:VEVENT
DTSTART;TZID=Asia/Manila:20220129T150000
DTEND;TZID=Asia/Manila:20220129T170000
DTSTAMP:20260420T154223
CREATED:20220120T075441Z
LAST-MODIFIED:20220120T075441Z
UID:6428-1643468400-1643475600@www.ballet.ph
SUMMARY:JOSEPH PHILLIPS BALLET CLASS
DESCRIPTION:
URL:https://www.ballet.ph/bp-event/joseph-phillips-ballet-class-141/
END:VEVENT
BEGIN:VEVENT
DTSTART;TZID=Asia/Manila:20220129T170000
DTEND;TZID=Asia/Manila:20220129T200000
DTSTAMP:20260420T154223
CREATED:20220120T075609Z
LAST-MODIFIED:20220120T075609Z
UID:6438-1643475600-1643486400@www.ballet.ph
SUMMARY:REHEARSAL
DESCRIPTION:
URL:https://www.ballet.ph/bp-event/rehearsal-115/
END:VEVENT
BEGIN:VEVENT
DTSTART;TZID=Asia/Manila:20220201T140000
DTEND;TZID=Asia/Manila:20220201T144500
DTSTAMP:20260420T154223
CREATED:20220120T080415Z
LAST-MODIFIED:20220120T080415Z
UID:6449-1643724000-1643726700@www.ballet.ph
SUMMARY:MISHA MARTYNYUK CARDIO TRAINING
DESCRIPTION:
URL:https://www.ballet.ph/bp-event/misha-martynyuk-cardio-training-12/
END:VEVENT
BEGIN:VEVENT
DTSTART;TZID=Asia/Manila:20220201T150000
DTEND;TZID=Asia/Manila:20220201T170000
DTSTAMP:20260420T154223
CREATED:20220120T081702Z
LAST-MODIFIED:20220120T081702Z
UID:6485-1643727600-1643734800@www.ballet.ph
SUMMARY:JOSEPH PHILLIPS BALLET CLASS
DESCRIPTION:
URL:https://www.ballet.ph/bp-event/joseph-phillips-ballet-class-142/
END:VEVENT
BEGIN:VEVENT
DTSTART;TZID=Asia/Manila:20220201T170000
DTEND;TZID=Asia/Manila:20220201T200000
DTSTAMP:20260420T154223
CREATED:20220120T081941Z
LAST-MODIFIED:20220120T081941Z
UID:6507-1643734800-1643745600@www.ballet.ph
SUMMARY:REHEARSAL
DESCRIPTION:
URL:https://www.ballet.ph/bp-event/rehearsal-116/
END:VEVENT
BEGIN:VEVENT
DTSTART;TZID=Asia/Manila:20220202T140000
DTEND;TZID=Asia/Manila:20220202T144500
DTSTAMP:20260420T154223
CREATED:20220120T080429Z
LAST-MODIFIED:20220120T080429Z
UID:6445-1643810400-1643813100@www.ballet.ph
SUMMARY:MISHA MARTYNYUK CARDIO TRAINING
DESCRIPTION:
URL:https://www.ballet.ph/bp-event/misha-martynyuk-cardio-training-13/
END:VEVENT
BEGIN:VEVENT
DTSTART;TZID=Asia/Manila:20220202T150000
DTEND;TZID=Asia/Manila:20220202T170000
DTSTAMP:20260420T154223
CREATED:20220120T081710Z
LAST-MODIFIED:20220120T081710Z
UID:6486-1643814000-1643821200@www.ballet.ph
SUMMARY:JOSEPH PHILLIPS BALLET CLASS
DESCRIPTION:
URL:https://www.ballet.ph/bp-event/joseph-phillips-ballet-class-143/
END:VEVENT
END:VCALENDAR