BEGIN:VCALENDAR
VERSION:2.0
PRODID:-//Ballet Philippines - ECPv6.15.17//NONSGML v1.0//EN
CALSCALE:GREGORIAN
METHOD:PUBLISH
X-WR-CALNAME:Ballet Philippines
X-ORIGINAL-URL:https://www.ballet.ph
X-WR-CALDESC:Events for Ballet Philippines
REFRESH-INTERVAL;VALUE=DURATION:PT1H
X-Robots-Tag:noindex
X-PUBLISHED-TTL:PT1H
BEGIN:VTIMEZONE
TZID:Asia/Manila
BEGIN:STANDARD
TZOFFSETFROM:+0800
TZOFFSETTO:+0800
TZNAME:PST
DTSTART:20210101T000000
END:STANDARD
END:VTIMEZONE
BEGIN:VEVENT
DTSTART;TZID=Asia/Manila:20221216T100000
DTEND;TZID=Asia/Manila:20221216T120000
DTSTAMP:20260420T084053
CREATED:20221128T074235Z
LAST-MODIFIED:20221128T074235Z
UID:8711-1671184800-1671192000@www.ballet.ph
SUMMARY:MISHA MARTYNYUK COMPANY CLASS
DESCRIPTION:
URL:https://www.ballet.ph/bp-event/misha-martynyuk-company-class-178/
END:VEVENT
BEGIN:VEVENT
DTSTART;TZID=Asia/Manila:20221216T120000
DTEND;TZID=Asia/Manila:20221216T130000
DTSTAMP:20260420T084053
CREATED:20221128T074615Z
LAST-MODIFIED:20221128T074615Z
UID:8731-1671192000-1671195600@www.ballet.ph
SUMMARY:LUNCH BREAK
DESCRIPTION:
URL:https://www.ballet.ph/bp-event/lunch-break-121/
END:VEVENT
BEGIN:VEVENT
DTSTART;TZID=Asia/Manila:20221216T130000
DTEND;TZID=Asia/Manila:20221216T170000
DTSTAMP:20260420T084053
CREATED:20221128T074842Z
LAST-MODIFIED:20221128T074842Z
UID:8751-1671195600-1671210000@www.ballet.ph
SUMMARY:COMPANY REHEARSALS
DESCRIPTION:
URL:https://www.ballet.ph/bp-event/company-rehearsals-121/
END:VEVENT
BEGIN:VEVENT
DTSTART;TZID=Asia/Manila:20221217T200000
DTEND;TZID=Asia/Manila:20221217T200000
DTSTAMP:20260420T084053
CREATED:20221128T073742Z
LAST-MODIFIED:20221128T073742Z
UID:8698-1671307200-1671307200@www.ballet.ph
SUMMARY:THE NUTCRACKER GALA NIGHT
DESCRIPTION:
URL:https://www.ballet.ph/bp-event/the-nutcracker-gala-night/
END:VEVENT
BEGIN:VEVENT
DTSTART;TZID=Asia/Manila:20221218T100000
DTEND;TZID=Asia/Manila:20221218T100000
DTSTAMP:20260420T084053
CREATED:20221128T073844Z
LAST-MODIFIED:20221128T073844Z
UID:8693-1671357600-1671357600@www.ballet.ph
SUMMARY:THE NUTCRACKER SHOW
DESCRIPTION:
URL:https://www.ballet.ph/bp-event/the-nutcracker-show/
END:VEVENT
BEGIN:VEVENT
DTSTART;TZID=Asia/Manila:20221218T140000
DTEND;TZID=Asia/Manila:20221218T140000
DTSTAMP:20260420T084053
CREATED:20221128T073855Z
LAST-MODIFIED:20221128T073855Z
UID:8694-1671372000-1671372000@www.ballet.ph
SUMMARY:THE NUTCRACKER SHOW
DESCRIPTION:
URL:https://www.ballet.ph/bp-event/the-nutcracker-show-2/
END:VEVENT
BEGIN:VEVENT
DTSTART;TZID=Asia/Manila:20221218T190000
DTEND;TZID=Asia/Manila:20221218T190000
DTSTAMP:20260420T084053
CREATED:20221128T073904Z
LAST-MODIFIED:20221128T073904Z
UID:8695-1671390000-1671390000@www.ballet.ph
SUMMARY:THE NUTCRACKER SHOW
DESCRIPTION:
URL:https://www.ballet.ph/bp-event/the-nutcracker-show-3/
END:VEVENT
BEGIN:VEVENT
DTSTART;TZID=Asia/Manila:20221219T170000
DTEND;TZID=Asia/Manila:20221219T170000
DTSTAMP:20260420T084053
CREATED:20221128T073944Z
LAST-MODIFIED:20221128T073944Z
UID:8703-1671469200-1671469200@www.ballet.ph
SUMMARY:CHRISTMAS PARTY
DESCRIPTION:
URL:https://www.ballet.ph/bp-event/christmas-party/
END:VEVENT
BEGIN:VEVENT
DTSTART;VALUE=DATE:20221220
DTEND;VALUE=DATE:20230101
DTSTAMP:20260420T084053
CREATED:20221128T074030Z
LAST-MODIFIED:20221128T074030Z
UID:8705-1671494400-1672531199@www.ballet.ph
SUMMARY:CHRISTMAS BREAK
DESCRIPTION:
URL:https://www.ballet.ph/bp-event/christmas-break/
END:VEVENT
BEGIN:VEVENT
DTSTART;TZID=Asia/Manila:20231002T100000
DTEND;TZID=Asia/Manila:20231006T120000
DTSTAMP:20260420T084053
CREATED:20231004T030051Z
LAST-MODIFIED:20231004T031216Z
UID:9613-1696240800-1696593600@www.ballet.ph
SUMMARY:Company Class
DESCRIPTION:
URL:https://www.ballet.ph/bp-event/company-class-17/
END:VEVENT
BEGIN:VEVENT
DTSTART;TZID=Asia/Manila:20231002T130000
DTEND;TZID=Asia/Manila:20231006T160000
DTSTAMP:20260420T084053
CREATED:20231002T025603Z
LAST-MODIFIED:20231004T032131Z
UID:9611-1696251600-1696608000@www.ballet.ph
SUMMARY:Company Rehearsals
DESCRIPTION:
URL:https://www.ballet.ph/bp-event/company-rehearsals-122/
END:VEVENT
BEGIN:VEVENT
DTSTART;TZID=Asia/Manila:20231009T100000
DTEND;TZID=Asia/Manila:20231013T120000
DTSTAMP:20260420T084053
CREATED:20231004T032833Z
LAST-MODIFIED:20231004T032833Z
UID:9628-1696845600-1697198400@www.ballet.ph
SUMMARY:Company Class
DESCRIPTION:
URL:https://www.ballet.ph/bp-event/company-class-18/
END:VEVENT
BEGIN:VEVENT
DTSTART;TZID=Asia/Manila:20231009T130000
DTEND;TZID=Asia/Manila:20231013T160000
DTSTAMP:20260420T084053
CREATED:20231004T035548Z
LAST-MODIFIED:20231004T035548Z
UID:9630-1696856400-1697212800@www.ballet.ph
SUMMARY:Company Rehearsals
DESCRIPTION:
URL:https://www.ballet.ph/bp-event/company-rehearsals-124/
END:VEVENT
BEGIN:VEVENT
DTSTART;TZID=Asia/Manila:20231016T100000
DTEND;TZID=Asia/Manila:20231020T120000
DTSTAMP:20260420T084053
CREATED:20231004T042522Z
LAST-MODIFIED:20231004T042522Z
UID:9632-1697450400-1697803200@www.ballet.ph
SUMMARY:Company Class
DESCRIPTION:
URL:https://www.ballet.ph/bp-event/company-class-19/
END:VEVENT
BEGIN:VEVENT
DTSTART;TZID=Asia/Manila:20231016T130000
DTEND;TZID=Asia/Manila:20231020T160000
DTSTAMP:20260420T084053
CREATED:20231004T042600Z
LAST-MODIFIED:20231004T042600Z
UID:9634-1697461200-1697817600@www.ballet.ph
SUMMARY:Company Rehearsals
DESCRIPTION:
URL:https://www.ballet.ph/bp-event/company-rehearsals-125/
END:VEVENT
BEGIN:VEVENT
DTSTART;TZID=Asia/Manila:20231023T100000
DTEND;TZID=Asia/Manila:20231027T120000
DTSTAMP:20260420T084053
CREATED:20231004T043310Z
LAST-MODIFIED:20231004T043450Z
UID:9636-1698055200-1698408000@www.ballet.ph
SUMMARY:Company Class
DESCRIPTION:
URL:https://www.ballet.ph/bp-event/company-class-20/
END:VEVENT
BEGIN:VEVENT
DTSTART;TZID=Asia/Manila:20231023T130000
DTEND;TZID=Asia/Manila:20231027T160000
DTSTAMP:20260420T084053
CREATED:20231004T043403Z
LAST-MODIFIED:20231004T043421Z
UID:9638-1698066000-1698422400@www.ballet.ph
SUMMARY:Company Rehearsals
DESCRIPTION:
URL:https://www.ballet.ph/bp-event/company-rehearsals-126/
END:VEVENT
BEGIN:VEVENT
DTSTART;TZID=Asia/Manila:20231030T100000
DTEND;TZID=Asia/Manila:20231031T120000
DTSTAMP:20260420T084053
CREATED:20231004T054759Z
LAST-MODIFIED:20231004T054759Z
UID:9640-1698660000-1698753600@www.ballet.ph
SUMMARY:Company Class
DESCRIPTION:
URL:https://www.ballet.ph/bp-event/company-class-21/
END:VEVENT
BEGIN:VEVENT
DTSTART;TZID=Asia/Manila:20231030T130000
DTEND;TZID=Asia/Manila:20231031T160000
DTSTAMP:20260420T084053
CREATED:20231004T060305Z
LAST-MODIFIED:20231004T060305Z
UID:9642-1698670800-1698768000@www.ballet.ph
SUMMARY:Company Rehearsals
DESCRIPTION:
URL:https://www.ballet.ph/bp-event/company-rehearsals-127/
END:VEVENT
BEGIN:VEVENT
DTSTART;VALUE=DATE:20231101
DTEND;VALUE=DATE:20231102
DTSTAMP:20260420T084053
CREATED:20231004T030506Z
LAST-MODIFIED:20231004T030506Z
UID:9615-1698796800-1698883199@www.ballet.ph
SUMMARY:All Saint's Day (Holiday)
DESCRIPTION:
URL:https://www.ballet.ph/bp-event/all-saints-day-holiday/
END:VEVENT
BEGIN:VEVENT
DTSTART;VALUE=DATE:20231102
DTEND;VALUE=DATE:20231103
DTSTAMP:20260420T084053
CREATED:20231004T030525Z
LAST-MODIFIED:20231004T030525Z
UID:9618-1698883200-1698969599@www.ballet.ph
SUMMARY:All Souls' Day (Holiday)
DESCRIPTION:
URL:https://www.ballet.ph/bp-event/all-souls-day-holiday/
END:VEVENT
BEGIN:VEVENT
DTSTART;TZID=Asia/Manila:20231103T100000
DTEND;TZID=Asia/Manila:20231103T120000
DTSTAMP:20260420T084053
CREATED:20231004T030640Z
LAST-MODIFIED:20231004T035629Z
UID:9621-1699005600-1699012800@www.ballet.ph
SUMMARY:Company Class
DESCRIPTION:
URL:https://www.ballet.ph/bp-event/company-class-16/
END:VEVENT
BEGIN:VEVENT
DTSTART;TZID=Asia/Manila:20231103T130000
DTEND;TZID=Asia/Manila:20231103T160000
DTSTAMP:20260420T084053
CREATED:20231004T030737Z
LAST-MODIFIED:20231004T031131Z
UID:9623-1699016400-1699027200@www.ballet.ph
SUMMARY:Company Rehearsals
DESCRIPTION:
URL:https://www.ballet.ph/bp-event/company-rehearsals-123/
END:VEVENT
BEGIN:VEVENT
DTSTART;TZID=Asia/Manila:20231106T100000
DTEND;TZID=Asia/Manila:20231109T120000
DTSTAMP:20260420T084053
CREATED:20231004T062133Z
LAST-MODIFIED:20231004T062133Z
UID:9646-1699264800-1699531200@www.ballet.ph
SUMMARY:Company Class
DESCRIPTION:
URL:https://www.ballet.ph/bp-event/company-class-22/
END:VEVENT
BEGIN:VEVENT
DTSTART;TZID=Asia/Manila:20231106T130000
DTEND;TZID=Asia/Manila:20231109T160000
DTSTAMP:20260420T084053
CREATED:20231004T061916Z
LAST-MODIFIED:20231004T061916Z
UID:9644-1699275600-1699545600@www.ballet.ph
SUMMARY:Company Rehearsals
DESCRIPTION:
URL:https://www.ballet.ph/bp-event/company-rehearsals-128/
END:VEVENT
BEGIN:VEVENT
DTSTART;VALUE=DATE:20231110
DTEND;VALUE=DATE:20231111
DTSTAMP:20260420T084053
CREATED:20231004T030806Z
LAST-MODIFIED:20231004T030806Z
UID:9625-1699574400-1699660799@www.ballet.ph
SUMMARY:BP performs at Globaltronics Anniversary Gala
DESCRIPTION:
URL:https://www.ballet.ph/bp-event/bp-performs-at-globaltronics-anniversary-gala/
END:VEVENT
BEGIN:VEVENT
DTSTART;TZID=Asia/Manila:20231113T100000
DTEND;TZID=Asia/Manila:20231117T120000
DTSTAMP:20260420T084053
CREATED:20231004T062350Z
LAST-MODIFIED:20231004T062350Z
UID:9648-1699869600-1700222400@www.ballet.ph
SUMMARY:Company Class
DESCRIPTION:
URL:https://www.ballet.ph/bp-event/company-class-23/
END:VEVENT
BEGIN:VEVENT
DTSTART;TZID=Asia/Manila:20231113T130000
DTEND;TZID=Asia/Manila:20231117T160000
DTSTAMP:20260420T084053
CREATED:20231004T062432Z
LAST-MODIFIED:20231004T062432Z
UID:9649-1699880400-1700236800@www.ballet.ph
SUMMARY:Company Rehearsals
DESCRIPTION:
URL:https://www.ballet.ph/bp-event/company-rehearsals-129/
END:VEVENT
BEGIN:VEVENT
DTSTART;TZID=Asia/Manila:20231120T100000
DTEND;TZID=Asia/Manila:20231124T120000
DTSTAMP:20260420T084053
CREATED:20231004T062618Z
LAST-MODIFIED:20231004T062618Z
UID:9652-1700474400-1700827200@www.ballet.ph
SUMMARY:Company Class
DESCRIPTION:
URL:https://www.ballet.ph/bp-event/company-class-24/
END:VEVENT
BEGIN:VEVENT
DTSTART;TZID=Asia/Manila:20231120T130000
DTEND;TZID=Asia/Manila:20231124T160000
DTSTAMP:20260420T084053
CREATED:20231004T062626Z
LAST-MODIFIED:20231004T062626Z
UID:9653-1700485200-1700841600@www.ballet.ph
SUMMARY:Company Rehearsals
DESCRIPTION:
URL:https://www.ballet.ph/bp-event/company-rehearsals-130/
END:VEVENT
END:VCALENDAR