BEGIN:VCALENDAR
VERSION:2.0
PRODID:-//Ballet Philippines - ECPv6.15.17//NONSGML v1.0//EN
CALSCALE:GREGORIAN
METHOD:PUBLISH
X-ORIGINAL-URL:https://www.ballet.ph
X-WR-CALDESC:Events for Ballet Philippines
REFRESH-INTERVAL;VALUE=DURATION:PT1H
X-Robots-Tag:noindex
X-PUBLISHED-TTL:PT1H
BEGIN:VTIMEZONE
TZID:Asia/Manila
BEGIN:STANDARD
TZOFFSETFROM:+0800
TZOFFSETTO:+0800
TZNAME:PST
DTSTART:20210101T000000
END:STANDARD
END:VTIMEZONE
BEGIN:VEVENT
DTSTART;TZID=Asia/Manila:20220325T100000
DTEND;TZID=Asia/Manila:20220325T113000
DTSTAMP:20260420T154758
CREATED:20220301T064358Z
LAST-MODIFIED:20220301T064358Z
UID:6775-1648202400-1648207800@www.ballet.ph
SUMMARY:JOSEPH PHILLIPS OPEN CLASS
DESCRIPTION:
URL:https://www.ballet.ph/bp-event/joseph-phillips-open-class-18/
END:VEVENT
BEGIN:VEVENT
DTSTART;TZID=Asia/Manila:20220325T140000
DTEND;TZID=Asia/Manila:20220325T143000
DTSTAMP:20260420T154758
CREATED:20220301T065124Z
LAST-MODIFIED:20220301T065124Z
UID:6834-1648216800-1648218600@www.ballet.ph
SUMMARY:MISHA MARTYNYUK GYMNASTIC EXERCISE
DESCRIPTION:
URL:https://www.ballet.ph/bp-event/misha-martynyuk-gymnastic-exercise-19/
END:VEVENT
BEGIN:VEVENT
DTSTART;TZID=Asia/Manila:20220325T144500
DTEND;TZID=Asia/Manila:20220325T163000
DTSTAMP:20260420T154758
CREATED:20220301T065443Z
LAST-MODIFIED:20220301T065443Z
UID:6860-1648219500-1648225800@www.ballet.ph
SUMMARY:MISHA MARTYNYUK COMPANY CLASS
DESCRIPTION:
URL:https://www.ballet.ph/bp-event/misha-martynyuk-company-class-60/
END:VEVENT
BEGIN:VEVENT
DTSTART;TZID=Asia/Manila:20220325T164500
DTEND;TZID=Asia/Manila:20220325T200000
DTSTAMP:20260420T154758
CREATED:20220301T053231Z
LAST-MODIFIED:20220301T053231Z
UID:6749-1648226700-1648238400@www.ballet.ph
SUMMARY:COMPANY REHEARSAL
DESCRIPTION:
URL:https://www.ballet.ph/bp-event/company-rehearsal-19/
END:VEVENT
BEGIN:VEVENT
DTSTART;TZID=Asia/Manila:20220326T100000
DTEND;TZID=Asia/Manila:20220326T113000
DTSTAMP:20260420T154758
CREATED:20220301T064401Z
LAST-MODIFIED:20220301T064401Z
UID:6774-1648288800-1648294200@www.ballet.ph
SUMMARY:JOSEPH PHILLIPS OPEN CLASS
DESCRIPTION:
URL:https://www.ballet.ph/bp-event/joseph-phillips-open-class-19/
END:VEVENT
BEGIN:VEVENT
DTSTART;TZID=Asia/Manila:20220326T140000
DTEND;TZID=Asia/Manila:20220326T143000
DTSTAMP:20260420T154758
CREATED:20220301T065127Z
LAST-MODIFIED:20220301T065127Z
UID:6833-1648303200-1648305000@www.ballet.ph
SUMMARY:MISHA MARTYNYUK GYMNASTIC EXERCISE
DESCRIPTION:
URL:https://www.ballet.ph/bp-event/misha-martynyuk-gymnastic-exercise-20/
END:VEVENT
BEGIN:VEVENT
DTSTART;TZID=Asia/Manila:20220326T144500
DTEND;TZID=Asia/Manila:20220326T163000
DTSTAMP:20260420T154758
CREATED:20220301T065448Z
LAST-MODIFIED:20220301T065448Z
UID:6859-1648305900-1648312200@www.ballet.ph
SUMMARY:MISHA MARTYNYUK COMPANY CLASS
DESCRIPTION:
URL:https://www.ballet.ph/bp-event/misha-martynyuk-company-class-61/
END:VEVENT
BEGIN:VEVENT
DTSTART;TZID=Asia/Manila:20220326T164500
DTEND;TZID=Asia/Manila:20220326T200000
DTSTAMP:20260420T154758
CREATED:20220301T053235Z
LAST-MODIFIED:20220301T053235Z
UID:6748-1648313100-1648324800@www.ballet.ph
SUMMARY:COMPANY REHEARSAL
DESCRIPTION:
URL:https://www.ballet.ph/bp-event/company-rehearsal-20/
END:VEVENT
BEGIN:VEVENT
DTSTART;TZID=Asia/Manila:20220329T100000
DTEND;TZID=Asia/Manila:20220329T113000
DTSTAMP:20260420T154758
CREATED:20220301T064436Z
LAST-MODIFIED:20220301T064436Z
UID:6796-1648548000-1648553400@www.ballet.ph
SUMMARY:JOSEPH PHILLIPS OPEN CLASS
DESCRIPTION:
URL:https://www.ballet.ph/bp-event/joseph-phillips-open-class-20/
END:VEVENT
BEGIN:VEVENT
DTSTART;TZID=Asia/Manila:20220329T140000
DTEND;TZID=Asia/Manila:20220329T143000
DTSTAMP:20260420T154758
CREATED:20220301T065132Z
LAST-MODIFIED:20220301T065132Z
UID:6832-1648562400-1648564200@www.ballet.ph
SUMMARY:MISHA MARTYNYUK GYMNASTIC EXERCISE
DESCRIPTION:
URL:https://www.ballet.ph/bp-event/misha-martynyuk-gymnastic-exercise-21/
END:VEVENT
BEGIN:VEVENT
DTSTART;TZID=Asia/Manila:20220329T144500
DTEND;TZID=Asia/Manila:20220329T163000
DTSTAMP:20260420T154758
CREATED:20220301T065452Z
LAST-MODIFIED:20220301T065452Z
UID:6858-1648565100-1648571400@www.ballet.ph
SUMMARY:MISHA MARTYNYUK COMPANY CLASS
DESCRIPTION:
URL:https://www.ballet.ph/bp-event/misha-martynyuk-company-class-62/
END:VEVENT
BEGIN:VEVENT
DTSTART;TZID=Asia/Manila:20220329T164500
DTEND;TZID=Asia/Manila:20220329T200000
DTSTAMP:20260420T154758
CREATED:20220301T053312Z
LAST-MODIFIED:20220301T053312Z
UID:6760-1648572300-1648584000@www.ballet.ph
SUMMARY:COMPANY REHEARSAL
DESCRIPTION:
URL:https://www.ballet.ph/bp-event/company-rehearsal-21/
END:VEVENT
BEGIN:VEVENT
DTSTART;TZID=Asia/Manila:20220330T100000
DTEND;TZID=Asia/Manila:20220330T113000
DTSTAMP:20260420T154758
CREATED:20220301T064440Z
LAST-MODIFIED:20220301T064440Z
UID:6795-1648634400-1648639800@www.ballet.ph
SUMMARY:JOSEPH PHILLIPS OPEN CLASS
DESCRIPTION:
URL:https://www.ballet.ph/bp-event/joseph-phillips-open-class-21/
END:VEVENT
BEGIN:VEVENT
DTSTART;TZID=Asia/Manila:20220330T140000
DTEND;TZID=Asia/Manila:20220330T143000
DTSTAMP:20260420T154758
CREATED:20220301T065136Z
LAST-MODIFIED:20220301T065136Z
UID:6831-1648648800-1648650600@www.ballet.ph
SUMMARY:MISHA MARTYNYUK GYMNASTIC EXERCISE
DESCRIPTION:
URL:https://www.ballet.ph/bp-event/misha-martynyuk-gymnastic-exercise-22/
END:VEVENT
BEGIN:VEVENT
DTSTART;TZID=Asia/Manila:20220330T144500
DTEND;TZID=Asia/Manila:20220330T163000
DTSTAMP:20260420T154758
CREATED:20220301T065456Z
LAST-MODIFIED:20220301T065456Z
UID:6857-1648651500-1648657800@www.ballet.ph
SUMMARY:MISHA MARTYNYUK COMPANY CLASS
DESCRIPTION:
URL:https://www.ballet.ph/bp-event/misha-martynyuk-company-class-63/
END:VEVENT
BEGIN:VEVENT
DTSTART;TZID=Asia/Manila:20220330T164500
DTEND;TZID=Asia/Manila:20220330T200000
DTSTAMP:20260420T154758
CREATED:20220301T053317Z
LAST-MODIFIED:20220301T053317Z
UID:6759-1648658700-1648670400@www.ballet.ph
SUMMARY:COMPANY REHEARSAL
DESCRIPTION:
URL:https://www.ballet.ph/bp-event/company-rehearsal-22/
END:VEVENT
BEGIN:VEVENT
DTSTART;TZID=Asia/Manila:20220331T100000
DTEND;TZID=Asia/Manila:20220331T113000
DTSTAMP:20260420T154758
CREATED:20220301T064443Z
LAST-MODIFIED:20220301T064443Z
UID:6794-1648720800-1648726200@www.ballet.ph
SUMMARY:JOSEPH PHILLIPS OPEN CLASS
DESCRIPTION:
URL:https://www.ballet.ph/bp-event/joseph-phillips-open-class-22/
END:VEVENT
BEGIN:VEVENT
DTSTART;TZID=Asia/Manila:20220331T140000
DTEND;TZID=Asia/Manila:20220331T143000
DTSTAMP:20260420T154758
CREATED:20220301T065139Z
LAST-MODIFIED:20220301T065139Z
UID:6830-1648735200-1648737000@www.ballet.ph
SUMMARY:MISHA MARTYNYUK GYMNASTIC EXERCISE
DESCRIPTION:
URL:https://www.ballet.ph/bp-event/misha-martynyuk-gymnastic-exercise-23/
END:VEVENT
BEGIN:VEVENT
DTSTART;TZID=Asia/Manila:20220331T144500
DTEND;TZID=Asia/Manila:20220331T163000
DTSTAMP:20260420T154758
CREATED:20220301T065500Z
LAST-MODIFIED:20220301T065500Z
UID:6856-1648737900-1648744200@www.ballet.ph
SUMMARY:MISHA MARTYNYUK COMPANY CLASS
DESCRIPTION:
URL:https://www.ballet.ph/bp-event/misha-martynyuk-company-class-64/
END:VEVENT
BEGIN:VEVENT
DTSTART;TZID=Asia/Manila:20220331T164500
DTEND;TZID=Asia/Manila:20220331T200000
DTSTAMP:20260420T154758
CREATED:20220301T053322Z
LAST-MODIFIED:20220301T053322Z
UID:6758-1648745100-1648756800@www.ballet.ph
SUMMARY:COMPANY REHEARSAL
DESCRIPTION:
URL:https://www.ballet.ph/bp-event/company-rehearsal-23/
END:VEVENT
BEGIN:VEVENT
DTSTART;TZID=Asia/Manila:20220401T024500
DTEND;TZID=Asia/Manila:20220401T163000
DTSTAMP:20260420T154758
CREATED:20220401T055421Z
LAST-MODIFIED:20220401T055421Z
UID:6984-1648781100-1648830600@www.ballet.ph
SUMMARY:MISHA MARTYNYUK COMPANY CLASS
DESCRIPTION:
URL:https://www.ballet.ph/bp-event/misha-martynyuk-company-class-65/
END:VEVENT
BEGIN:VEVENT
DTSTART;TZID=Asia/Manila:20220401T100000
DTEND;TZID=Asia/Manila:20220401T113000
DTSTAMP:20260420T154758
CREATED:20220401T055334Z
LAST-MODIFIED:20220401T055334Z
UID:6982-1648807200-1648812600@www.ballet.ph
SUMMARY:JOSEPH PHILLIPS OPEN CLASS
DESCRIPTION:
URL:https://www.ballet.ph/bp-event/joseph-phillips-open-class-23/
END:VEVENT
BEGIN:VEVENT
DTSTART;TZID=Asia/Manila:20220401T140000
DTEND;TZID=Asia/Manila:20220401T143000
DTSTAMP:20260420T154758
CREATED:20220401T055357Z
LAST-MODIFIED:20220401T055357Z
UID:6983-1648821600-1648823400@www.ballet.ph
SUMMARY:MISHA MARTYNYUK GYMNASTIC EXERCISE
DESCRIPTION:
URL:https://www.ballet.ph/bp-event/misha-martynyuk-gymnastic-exercise-24/
END:VEVENT
BEGIN:VEVENT
DTSTART;TZID=Asia/Manila:20220401T164500
DTEND;TZID=Asia/Manila:20220401T200000
DTSTAMP:20260420T154758
CREATED:20220401T055439Z
LAST-MODIFIED:20220401T055439Z
UID:6985-1648831500-1648843200@www.ballet.ph
SUMMARY:COMPANY REHEARSAL
DESCRIPTION:
URL:https://www.ballet.ph/bp-event/company-rehearsal-24/
END:VEVENT
BEGIN:VEVENT
DTSTART;TZID=Asia/Manila:20220402T100000
DTEND;TZID=Asia/Manila:20220402T113000
DTSTAMP:20260420T154758
CREATED:20220401T055649Z
LAST-MODIFIED:20220401T055649Z
UID:6993-1648893600-1648899000@www.ballet.ph
SUMMARY:JOSEPH PHILLIPS OPEN CLASS
DESCRIPTION:
URL:https://www.ballet.ph/bp-event/joseph-phillips-open-class-24/
END:VEVENT
BEGIN:VEVENT
DTSTART;TZID=Asia/Manila:20220402T140000
DTEND;TZID=Asia/Manila:20220402T143000
DTSTAMP:20260420T154758
CREATED:20220401T055630Z
LAST-MODIFIED:20220401T055630Z
UID:6992-1648908000-1648909800@www.ballet.ph
SUMMARY:MISHA MARTYNYUK GYMNASTIC EXERCISE
DESCRIPTION:
URL:https://www.ballet.ph/bp-event/misha-martynyuk-gymnastic-exercise-25/
END:VEVENT
BEGIN:VEVENT
DTSTART;TZID=Asia/Manila:20220402T144500
DTEND;TZID=Asia/Manila:20220402T163000
DTSTAMP:20260420T154758
CREATED:20220401T055550Z
LAST-MODIFIED:20220401T055550Z
UID:6991-1648910700-1648917000@www.ballet.ph
SUMMARY:JOSEPH PHILLIPS BALLET CLASS
DESCRIPTION:
URL:https://www.ballet.ph/bp-event/joseph-phillips-ballet-class-162/
END:VEVENT
BEGIN:VEVENT
DTSTART;TZID=Asia/Manila:20220402T164500
DTEND;TZID=Asia/Manila:20220402T200000
DTSTAMP:20260420T154758
CREATED:20220401T055527Z
LAST-MODIFIED:20220401T055527Z
UID:6986-1648917900-1648929600@www.ballet.ph
SUMMARY:COMPANY REHEARSAL
DESCRIPTION:
URL:https://www.ballet.ph/bp-event/company-rehearsal-25/
END:VEVENT
BEGIN:VEVENT
DTSTART;TZID=Asia/Manila:20220405T100000
DTEND;TZID=Asia/Manila:20220405T113000
DTSTAMP:20260420T154758
CREATED:20220401T060732Z
LAST-MODIFIED:20220401T060732Z
UID:7008-1649152800-1649158200@www.ballet.ph
SUMMARY:JOSEPH PHILLIPS OPEN CLASS
DESCRIPTION:
URL:https://www.ballet.ph/bp-event/joseph-phillips-open-class-25/
END:VEVENT
BEGIN:VEVENT
DTSTART;TZID=Asia/Manila:20220405T140000
DTEND;TZID=Asia/Manila:20220405T143000
DTSTAMP:20260420T154758
CREATED:20220401T060840Z
LAST-MODIFIED:20220401T060840Z
UID:7015-1649167200-1649169000@www.ballet.ph
SUMMARY:MISHA MARTYNYUK GYMNASTIC EXERCISE
DESCRIPTION:
URL:https://www.ballet.ph/bp-event/misha-martynyuk-gymnastic-exercise-26/
END:VEVENT
END:VCALENDAR