BEGIN:VCALENDAR
VERSION:2.0
PRODID:-//Ballet Philippines - ECPv6.15.17//NONSGML v1.0//EN
CALSCALE:GREGORIAN
METHOD:PUBLISH
X-WR-CALNAME:Ballet Philippines
X-ORIGINAL-URL:https://www.ballet.ph
X-WR-CALDESC:Events for Ballet Philippines
REFRESH-INTERVAL;VALUE=DURATION:PT1H
X-Robots-Tag:noindex
X-PUBLISHED-TTL:PT1H
BEGIN:VTIMEZONE
TZID:Asia/Manila
BEGIN:STANDARD
TZOFFSETFROM:+0800
TZOFFSETTO:+0800
TZNAME:PST
DTSTART:20210101T000000
END:STANDARD
END:VTIMEZONE
BEGIN:VEVENT
DTSTART;TZID=Asia/Manila:20220407T100000
DTEND;TZID=Asia/Manila:20220407T113000
DTSTAMP:20260420T083957
CREATED:20220401T060751Z
LAST-MODIFIED:20220401T060751Z
UID:7010-1649325600-1649331000@www.ballet.ph
SUMMARY:JOSEPH PHILLIPS OPEN CLASS
DESCRIPTION:
URL:https://www.ballet.ph/bp-event/joseph-phillips-open-class-27/
END:VEVENT
BEGIN:VEVENT
DTSTART;TZID=Asia/Manila:20220407T140000
DTEND;TZID=Asia/Manila:20220407T143000
DTSTAMP:20260420T083957
CREATED:20220401T060901Z
LAST-MODIFIED:20220401T060901Z
UID:7017-1649340000-1649341800@www.ballet.ph
SUMMARY:MISHA MARTYNYUK GYMNASTIC EXERCISE
DESCRIPTION:
URL:https://www.ballet.ph/bp-event/misha-martynyuk-gymnastic-exercise-28/
END:VEVENT
BEGIN:VEVENT
DTSTART;TZID=Asia/Manila:20220407T144500
DTEND;TZID=Asia/Manila:20220407T163000
DTSTAMP:20260420T083957
CREATED:20220401T061034Z
LAST-MODIFIED:20220401T061034Z
UID:7025-1649342700-1649349000@www.ballet.ph
SUMMARY:MISHA MARTYNYUK COMPANY CLASS
DESCRIPTION:
URL:https://www.ballet.ph/bp-event/misha-martynyuk-company-class-68/
END:VEVENT
BEGIN:VEVENT
DTSTART;TZID=Asia/Manila:20220407T164500
DTEND;TZID=Asia/Manila:20220407T200000
DTSTAMP:20260420T083957
CREATED:20220401T061159Z
LAST-MODIFIED:20220401T061159Z
UID:7033-1649349900-1649361600@www.ballet.ph
SUMMARY:COMPANY REHEARSAL
DESCRIPTION:
URL:https://www.ballet.ph/bp-event/company-rehearsal-28/
END:VEVENT
BEGIN:VEVENT
DTSTART;TZID=Asia/Manila:20220408T100000
DTEND;TZID=Asia/Manila:20220408T113000
DTSTAMP:20260420T083957
CREATED:20220401T060803Z
LAST-MODIFIED:20220401T060803Z
UID:7001-1649412000-1649417400@www.ballet.ph
SUMMARY:JOSEPH PHILLIPS OPEN CLASS
DESCRIPTION:
URL:https://www.ballet.ph/bp-event/joseph-phillips-open-class-28/
END:VEVENT
BEGIN:VEVENT
DTSTART;TZID=Asia/Manila:20220408T140000
DTEND;TZID=Asia/Manila:20220408T143000
DTSTAMP:20260420T083957
CREATED:20220401T060910Z
LAST-MODIFIED:20220401T060910Z
UID:7018-1649426400-1649428200@www.ballet.ph
SUMMARY:MISHA MARTYNYUK GYMNASTIC EXERCISE
DESCRIPTION:
URL:https://www.ballet.ph/bp-event/misha-martynyuk-gymnastic-exercise-29/
END:VEVENT
BEGIN:VEVENT
DTSTART;TZID=Asia/Manila:20220408T144500
DTEND;TZID=Asia/Manila:20220408T163000
DTSTAMP:20260420T083957
CREATED:20220401T061048Z
LAST-MODIFIED:20220401T061048Z
UID:7026-1649429100-1649435400@www.ballet.ph
SUMMARY:MISHA MARTYNYUK COMPANY CLASS
DESCRIPTION:
URL:https://www.ballet.ph/bp-event/misha-martynyuk-company-class-69/
END:VEVENT
BEGIN:VEVENT
DTSTART;TZID=Asia/Manila:20220408T164500
DTEND;TZID=Asia/Manila:20220408T200000
DTSTAMP:20260420T083957
CREATED:20220401T061208Z
LAST-MODIFIED:20220401T061208Z
UID:7034-1649436300-1649448000@www.ballet.ph
SUMMARY:COMPANY REHEARSAL
DESCRIPTION:
URL:https://www.ballet.ph/bp-event/company-rehearsal-29/
END:VEVENT
BEGIN:VEVENT
DTSTART;VALUE=DATE:20220409
DTEND;VALUE=DATE:20220410
DTSTAMP:20260420T083957
CREATED:20220401T060530Z
LAST-MODIFIED:20220401T060530Z
UID:6998-1649462400-1649548799@www.ballet.ph
SUMMARY:HOLIDAY: DAY OF VALOR NO CLASSES
DESCRIPTION:
URL:https://www.ballet.ph/bp-event/holiday-day-of-valor-no-classes/
END:VEVENT
BEGIN:VEVENT
DTSTART;TZID=Asia/Manila:20220412T100000
DTEND;TZID=Asia/Manila:20220412T113000
DTSTAMP:20260420T083957
CREATED:20220401T061321Z
LAST-MODIFIED:20220401T061321Z
UID:7039-1649757600-1649763000@www.ballet.ph
SUMMARY:JOSEPH PHILLIPS OPEN CLASS
DESCRIPTION:
URL:https://www.ballet.ph/bp-event/joseph-phillips-open-class-29/
END:VEVENT
BEGIN:VEVENT
DTSTART;TZID=Asia/Manila:20220412T140000
DTEND;TZID=Asia/Manila:20220412T143000
DTSTAMP:20260420T083957
CREATED:20220401T061527Z
LAST-MODIFIED:20220401T061527Z
UID:7053-1649772000-1649773800@www.ballet.ph
SUMMARY:MISHA MARTYNYUK GYMNASTIC EXERCISE
DESCRIPTION:
URL:https://www.ballet.ph/bp-event/misha-martynyuk-gymnastic-exercise-30/
END:VEVENT
BEGIN:VEVENT
DTSTART;TZID=Asia/Manila:20220412T144500
DTEND;TZID=Asia/Manila:20220412T163000
DTSTAMP:20260420T083957
CREATED:20220401T061624Z
LAST-MODIFIED:20220401T061624Z
UID:7060-1649774700-1649781000@www.ballet.ph
SUMMARY:MISHA MARTYNYUK COMPANY CLASS
DESCRIPTION:
URL:https://www.ballet.ph/bp-event/misha-martynyuk-company-class-70/
END:VEVENT
BEGIN:VEVENT
DTSTART;TZID=Asia/Manila:20220412T164500
DTEND;TZID=Asia/Manila:20220412T200000
DTSTAMP:20260420T083957
CREATED:20220401T061714Z
LAST-MODIFIED:20220401T061714Z
UID:7065-1649781900-1649793600@www.ballet.ph
SUMMARY:COMPANY REHEARSAL
DESCRIPTION:
URL:https://www.ballet.ph/bp-event/company-rehearsal-30/
END:VEVENT
BEGIN:VEVENT
DTSTART;TZID=Asia/Manila:20220413T100000
DTEND;TZID=Asia/Manila:20220413T113000
DTSTAMP:20260420T083957
CREATED:20220401T061330Z
LAST-MODIFIED:20220401T061330Z
UID:7040-1649844000-1649849400@www.ballet.ph
SUMMARY:JOSEPH PHILLIPS OPEN CLASS
DESCRIPTION:
URL:https://www.ballet.ph/bp-event/joseph-phillips-open-class-30/
END:VEVENT
BEGIN:VEVENT
DTSTART;TZID=Asia/Manila:20220413T140000
DTEND;TZID=Asia/Manila:20220413T143000
DTSTAMP:20260420T083957
CREATED:20220401T061539Z
LAST-MODIFIED:20220401T061539Z
UID:7054-1649858400-1649860200@www.ballet.ph
SUMMARY:MISHA MARTYNYUK GYMNASTIC EXERCISE
DESCRIPTION:
URL:https://www.ballet.ph/bp-event/misha-martynyuk-gymnastic-exercise-31/
END:VEVENT
BEGIN:VEVENT
DTSTART;TZID=Asia/Manila:20220413T144500
DTEND;TZID=Asia/Manila:20220413T163000
DTSTAMP:20260420T083957
CREATED:20220401T061632Z
LAST-MODIFIED:20220401T061632Z
UID:7061-1649861100-1649867400@www.ballet.ph
SUMMARY:MISHA MARTYNYUK COMPANY CLASS
DESCRIPTION:
URL:https://www.ballet.ph/bp-event/misha-martynyuk-company-class-71/
END:VEVENT
BEGIN:VEVENT
DTSTART;TZID=Asia/Manila:20220413T164500
DTEND;TZID=Asia/Manila:20220413T200000
DTSTAMP:20260420T083957
CREATED:20220401T061723Z
LAST-MODIFIED:20220401T061723Z
UID:7064-1649868300-1649880000@www.ballet.ph
SUMMARY:COMPANY REHEARSAL
DESCRIPTION:
URL:https://www.ballet.ph/bp-event/company-rehearsal-31/
END:VEVENT
BEGIN:VEVENT
DTSTART;VALUE=DATE:20220414
DTEND;VALUE=DATE:20220415
DTSTAMP:20260420T083957
CREATED:20220401T060625Z
LAST-MODIFIED:20220401T060625Z
UID:7000-1649894400-1649980799@www.ballet.ph
SUMMARY:HOLIDAY: MAUNDY THURSDAY NO CLASSES
DESCRIPTION:
URL:https://www.ballet.ph/bp-event/holiday-maundy-thursday-no-classes/
END:VEVENT
BEGIN:VEVENT
DTSTART;VALUE=DATE:20220415
DTEND;VALUE=DATE:20220416
DTSTAMP:20260420T083957
CREATED:20220401T060616Z
LAST-MODIFIED:20220401T060616Z
UID:6999-1649980800-1650067199@www.ballet.ph
SUMMARY:HOLIDAY: GOOD FRIDAY NO CLASSES
DESCRIPTION:
URL:https://www.ballet.ph/bp-event/holiday-good-friday-no-classes/
END:VEVENT
BEGIN:VEVENT
DTSTART;VALUE=DATE:20220416
DTEND;VALUE=DATE:20220417
DTSTAMP:20260420T083957
CREATED:20220401T060602Z
LAST-MODIFIED:20220401T060602Z
UID:7004-1650067200-1650153599@www.ballet.ph
SUMMARY:HOLIDAY: BLACK SATURDAY NO CLASSES
DESCRIPTION:
URL:https://www.ballet.ph/bp-event/holiday-black-saturday-no-classes/
END:VEVENT
BEGIN:VEVENT
DTSTART;TZID=Asia/Manila:20220419T100000
DTEND;TZID=Asia/Manila:20220419T113000
DTSTAMP:20260420T083957
CREATED:20220401T061342Z
LAST-MODIFIED:20220401T061342Z
UID:7042-1650362400-1650367800@www.ballet.ph
SUMMARY:JOSEPH PHILLIPS OPEN CLASS
DESCRIPTION:
URL:https://www.ballet.ph/bp-event/joseph-phillips-open-class-31/
END:VEVENT
BEGIN:VEVENT
DTSTART;TZID=Asia/Manila:20220419T140000
DTEND;TZID=Asia/Manila:20220419T143000
DTSTAMP:20260420T083957
CREATED:20220401T062032Z
LAST-MODIFIED:20220401T062032Z
UID:7081-1650376800-1650378600@www.ballet.ph
SUMMARY:MISHA MARTYNYUK GYMNASTIC EXERCISE
DESCRIPTION:
URL:https://www.ballet.ph/bp-event/misha-martynyuk-gymnastic-exercise-32/
END:VEVENT
BEGIN:VEVENT
DTSTART;TZID=Asia/Manila:20220419T144500
DTEND;TZID=Asia/Manila:20220419T163000
DTSTAMP:20260420T083957
CREATED:20220401T062146Z
LAST-MODIFIED:20220401T062146Z
UID:7088-1650379500-1650385800@www.ballet.ph
SUMMARY:MISHA MARTYNYUK COMPANY CLASS
DESCRIPTION:
URL:https://www.ballet.ph/bp-event/misha-martynyuk-company-class-72/
END:VEVENT
BEGIN:VEVENT
DTSTART;TZID=Asia/Manila:20220419T164500
DTEND;TZID=Asia/Manila:20220419T200000
DTSTAMP:20260420T083957
CREATED:20220401T062636Z
LAST-MODIFIED:20220401T062636Z
UID:7099-1650386700-1650398400@www.ballet.ph
SUMMARY:COMPANY REHEARSAL
DESCRIPTION:
URL:https://www.ballet.ph/bp-event/company-rehearsal-32/
END:VEVENT
BEGIN:VEVENT
DTSTART;TZID=Asia/Manila:20220420T100000
DTEND;TZID=Asia/Manila:20220420T113000
DTSTAMP:20260420T083957
CREATED:20220401T061351Z
LAST-MODIFIED:20220401T061351Z
UID:7043-1650448800-1650454200@www.ballet.ph
SUMMARY:JOSEPH PHILLIPS OPEN CLASS
DESCRIPTION:
URL:https://www.ballet.ph/bp-event/joseph-phillips-open-class-32/
END:VEVENT
BEGIN:VEVENT
DTSTART;TZID=Asia/Manila:20220420T140000
DTEND;TZID=Asia/Manila:20220420T143000
DTSTAMP:20260420T083957
CREATED:20220401T062045Z
LAST-MODIFIED:20220401T062045Z
UID:7082-1650463200-1650465000@www.ballet.ph
SUMMARY:MISHA MARTYNYUK GYMNASTIC EXERCISE
DESCRIPTION:
URL:https://www.ballet.ph/bp-event/misha-martynyuk-gymnastic-exercise-33/
END:VEVENT
BEGIN:VEVENT
DTSTART;TZID=Asia/Manila:20220420T144500
DTEND;TZID=Asia/Manila:20220420T163000
DTSTAMP:20260420T083957
CREATED:20220401T062159Z
LAST-MODIFIED:20220401T062159Z
UID:7089-1650465900-1650472200@www.ballet.ph
SUMMARY:MISHA MARTYNYUK COMPANY CLASS
DESCRIPTION:
URL:https://www.ballet.ph/bp-event/misha-martynyuk-company-class-73/
END:VEVENT
BEGIN:VEVENT
DTSTART;TZID=Asia/Manila:20220420T164500
DTEND;TZID=Asia/Manila:20220420T200000
DTSTAMP:20260420T083957
CREATED:20220401T062646Z
LAST-MODIFIED:20220401T062646Z
UID:7100-1650473100-1650484800@www.ballet.ph
SUMMARY:COMPANY REHEARSAL
DESCRIPTION:
URL:https://www.ballet.ph/bp-event/company-rehearsal-33/
END:VEVENT
BEGIN:VEVENT
DTSTART;TZID=Asia/Manila:20220421T100000
DTEND;TZID=Asia/Manila:20220421T113000
DTSTAMP:20260420T083957
CREATED:20220401T061414Z
LAST-MODIFIED:20220401T061414Z
UID:7041-1650535200-1650540600@www.ballet.ph
SUMMARY:JOSEPH PHILLIPS OPEN CLASS
DESCRIPTION:
URL:https://www.ballet.ph/bp-event/joseph-phillips-open-class-33/
END:VEVENT
BEGIN:VEVENT
DTSTART;TZID=Asia/Manila:20220421T140000
DTEND;TZID=Asia/Manila:20220421T143000
DTSTAMP:20260420T083957
CREATED:20220401T062053Z
LAST-MODIFIED:20220401T062053Z
UID:7078-1650549600-1650551400@www.ballet.ph
SUMMARY:MISHA MARTYNYUK GYMNASTIC EXERCISE
DESCRIPTION:
URL:https://www.ballet.ph/bp-event/misha-martynyuk-gymnastic-exercise-34/
END:VEVENT
END:VCALENDAR