BEGIN:VCALENDAR
VERSION:2.0
PRODID:-//Ballet Philippines - ECPv6.15.17//NONSGML v1.0//EN
CALSCALE:GREGORIAN
METHOD:PUBLISH
X-ORIGINAL-URL:https://www.ballet.ph
X-WR-CALDESC:Events for Ballet Philippines
REFRESH-INTERVAL;VALUE=DURATION:PT1H
X-Robots-Tag:noindex
X-PUBLISHED-TTL:PT1H
BEGIN:VTIMEZONE
TZID:Asia/Manila
BEGIN:STANDARD
TZOFFSETFROM:+0800
TZOFFSETTO:+0800
TZNAME:PST
DTSTART:20220101T000000
END:STANDARD
END:VTIMEZONE
BEGIN:VEVENT
DTSTART;VALUE=DATE:20231130
DTEND;VALUE=DATE:20231201
DTSTAMP:20260420T084322
CREATED:20231004T063626Z
LAST-MODIFIED:20231004T063626Z
UID:9661-1701302400-1701388799@www.ballet.ph
SUMMARY:Bonifacio Day (Holiday)
DESCRIPTION:
URL:https://www.ballet.ph/bp-event/bonifacio-day-holiday-2/
END:VEVENT
BEGIN:VEVENT
DTSTART;TZID=Asia/Manila:20231201T100000
DTEND;TZID=Asia/Manila:20231201T120000
DTSTAMP:20260420T084322
CREATED:20231223T034307Z
LAST-MODIFIED:20231223T034307Z
UID:9815-1701424800-1701432000@www.ballet.ph
SUMMARY:Company Class
DESCRIPTION:
URL:https://www.ballet.ph/bp-event/company-class-26/
END:VEVENT
BEGIN:VEVENT
DTSTART;TZID=Asia/Manila:20231201T130000
DTEND;TZID=Asia/Manila:20231201T160000
DTSTAMP:20260420T084322
CREATED:20231223T034442Z
LAST-MODIFIED:20231223T034442Z
UID:9817-1701435600-1701446400@www.ballet.ph
SUMMARY:Company Rehearsals
DESCRIPTION:
URL:https://www.ballet.ph/bp-event/company-rehearsals-132/
END:VEVENT
BEGIN:VEVENT
DTSTART;TZID=Asia/Manila:20231204T100000
DTEND;TZID=Asia/Manila:20231207T120000
DTSTAMP:20260420T084322
CREATED:20231223T034625Z
LAST-MODIFIED:20231223T034738Z
UID:9820-1701684000-1701950400@www.ballet.ph
SUMMARY:Company Class
DESCRIPTION:
URL:https://www.ballet.ph/bp-event/company-class-27/
END:VEVENT
BEGIN:VEVENT
DTSTART;TZID=Asia/Manila:20231204T130000
DTEND;TZID=Asia/Manila:20231207T160000
DTSTAMP:20260420T084322
CREATED:20231223T034540Z
LAST-MODIFIED:20231223T034802Z
UID:9819-1701694800-1701964800@www.ballet.ph
SUMMARY:Stage Rehearsals
DESCRIPTION:
URL:https://www.ballet.ph/bp-event/stage-rehearsals/
END:VEVENT
BEGIN:VEVENT
DTSTART;TZID=Asia/Manila:20231207T130000
DTEND;TZID=Asia/Manila:20231207T160000
DTSTAMP:20260420T084322
CREATED:20231223T034856Z
LAST-MODIFIED:20231223T034856Z
UID:9825-1701954000-1701964800@www.ballet.ph
SUMMARY:Company Rehearsals
DESCRIPTION:
URL:https://www.ballet.ph/bp-event/company-rehearsals-133/
END:VEVENT
BEGIN:VEVENT
DTSTART;VALUE=DATE:20231208
DTEND;VALUE=DATE:20231209
DTSTAMP:20260420T084322
CREATED:20231223T034937Z
LAST-MODIFIED:20231223T034937Z
UID:9827-1701993600-1702079999@www.ballet.ph
SUMMARY:Feast of the Immaculate Concepcion (Holiday)
DESCRIPTION:
URL:https://www.ballet.ph/bp-event/feast-of-the-immaculate-concepcion-holiday/
END:VEVENT
BEGIN:VEVENT
DTSTART;TZID=Asia/Manila:20231211T100000
DTEND;TZID=Asia/Manila:20231214T120000
DTSTAMP:20260420T084322
CREATED:20231223T035108Z
LAST-MODIFIED:20231223T035108Z
UID:9831-1702288800-1702555200@www.ballet.ph
SUMMARY:Company Class
DESCRIPTION:
URL:https://www.ballet.ph/bp-event/company-class-28/
END:VEVENT
BEGIN:VEVENT
DTSTART;TZID=Asia/Manila:20231211T130000
DTEND;TZID=Asia/Manila:20231211T160000
DTSTAMP:20260420T084322
CREATED:20231223T035202Z
LAST-MODIFIED:20231223T035202Z
UID:9835-1702299600-1702310400@www.ballet.ph
SUMMARY:Company Rehearsals
DESCRIPTION:
URL:https://www.ballet.ph/bp-event/company-rehearsals-134/
END:VEVENT
BEGIN:VEVENT
DTSTART;TZID=Asia/Manila:20231212T130000
DTEND;TZID=Asia/Manila:20231213T160000
DTSTAMP:20260420T084322
CREATED:20231223T035251Z
LAST-MODIFIED:20231223T035251Z
UID:9838-1702386000-1702483200@www.ballet.ph
SUMMARY:Stage Rehearsals
DESCRIPTION:
URL:https://www.ballet.ph/bp-event/stage-rehearsals-2/
END:VEVENT
BEGIN:VEVENT
DTSTART;TZID=Asia/Manila:20231214T130000
DTEND;TZID=Asia/Manila:20231214T160000
DTSTAMP:20260420T084322
CREATED:20231223T035333Z
LAST-MODIFIED:20231223T035333Z
UID:9841-1702558800-1702569600@www.ballet.ph
SUMMARY:Technical Dress Rehearsal of Christmas Fairytales
DESCRIPTION:
URL:https://www.ballet.ph/bp-event/technical-dress-rehearsal-of-christmas-fairytales/
END:VEVENT
BEGIN:VEVENT
DTSTART;VALUE=DATE:20231215
DTEND;VALUE=DATE:20231216
DTSTAMP:20260420T084322
CREATED:20231223T035419Z
LAST-MODIFIED:20231223T035419Z
UID:9844-1702598400-1702684799@www.ballet.ph
SUMMARY:Christmas Fairytales Gala Night
DESCRIPTION:
URL:https://www.ballet.ph/bp-event/christmas-fairytales-gala-night/
END:VEVENT
BEGIN:VEVENT
DTSTART;VALUE=DATE:20231216
DTEND;VALUE=DATE:20231218
DTSTAMP:20260420T084322
CREATED:20231223T035452Z
LAST-MODIFIED:20231223T035452Z
UID:9847-1702684800-1702857599@www.ballet.ph
SUMMARY:Christmas Fairytales Show
DESCRIPTION:
URL:https://www.ballet.ph/bp-event/christmas-fairytales-show/
END:VEVENT
BEGIN:VEVENT
DTSTART;TZID=Asia/Manila:20231218T100000
DTEND;TZID=Asia/Manila:20231218T120000
DTSTAMP:20260420T084322
CREATED:20231223T035527Z
LAST-MODIFIED:20231223T035527Z
UID:9850-1702893600-1702900800@www.ballet.ph
SUMMARY:Company Class
DESCRIPTION:
URL:https://www.ballet.ph/bp-event/company-class-29/
END:VEVENT
BEGIN:VEVENT
DTSTART;TZID=Asia/Manila:20231218T130000
DTEND;TZID=Asia/Manila:20231218T160000
DTSTAMP:20260420T084322
CREATED:20231223T035557Z
LAST-MODIFIED:20231223T035557Z
UID:9854-1702904400-1702915200@www.ballet.ph
SUMMARY:Company Rehearsals
DESCRIPTION:
URL:https://www.ballet.ph/bp-event/company-rehearsals-135/
END:VEVENT
BEGIN:VEVENT
DTSTART;VALUE=DATE:20231219
DTEND;VALUE=DATE:20231220
DTSTAMP:20260420T084322
CREATED:20231223T035623Z
LAST-MODIFIED:20231223T035623Z
UID:9857-1702944000-1703030399@www.ballet.ph
SUMMARY:Company Christmas Party
DESCRIPTION:
URL:https://www.ballet.ph/bp-event/company-christmas-party/
END:VEVENT
BEGIN:VEVENT
DTSTART;VALUE=DATE:20240101
DTEND;VALUE=DATE:20240105
DTSTAMP:20260420T084322
CREATED:20231223T035721Z
LAST-MODIFIED:20231223T035721Z
UID:9860-1704067200-1704412799@www.ballet.ph
SUMMARY:New Year 2024 (Holiday Break)
DESCRIPTION:
URL:https://www.ballet.ph/bp-event/new-year-2024-holiday-break/
END:VEVENT
BEGIN:VEVENT
DTSTART;TZID=Asia/Manila:20240105T100000
DTEND;TZID=Asia/Manila:20240105T120000
DTSTAMP:20260420T084322
CREATED:20231223T035812Z
LAST-MODIFIED:20231223T035812Z
UID:9863-1704448800-1704456000@www.ballet.ph
SUMMARY:Company Class
DESCRIPTION:
URL:https://www.ballet.ph/bp-event/company-class-30/
END:VEVENT
BEGIN:VEVENT
DTSTART;TZID=Asia/Manila:20240105T130000
DTEND;TZID=Asia/Manila:20240105T160000
DTSTAMP:20260420T084322
CREATED:20231223T035838Z
LAST-MODIFIED:20231223T035838Z
UID:9867-1704459600-1704470400@www.ballet.ph
SUMMARY:Company Rehearsals
DESCRIPTION:
URL:https://www.ballet.ph/bp-event/company-rehearsals-136/
END:VEVENT
BEGIN:VEVENT
DTSTART;TZID=Asia/Manila:20240108T100000
DTEND;TZID=Asia/Manila:20240112T120000
DTSTAMP:20260420T084322
CREATED:20231223T035914Z
LAST-MODIFIED:20231223T035914Z
UID:9870-1704708000-1705060800@www.ballet.ph
SUMMARY:Company Class
DESCRIPTION:
URL:https://www.ballet.ph/bp-event/company-class-31/
END:VEVENT
BEGIN:VEVENT
DTSTART;TZID=Asia/Manila:20240108T130000
DTEND;TZID=Asia/Manila:20240112T160000
DTSTAMP:20260420T084322
CREATED:20231223T040016Z
LAST-MODIFIED:20231223T040016Z
UID:9873-1704718800-1705075200@www.ballet.ph
SUMMARY:Company Rehearsals
DESCRIPTION:
URL:https://www.ballet.ph/bp-event/company-rehearsals-137/
END:VEVENT
BEGIN:VEVENT
DTSTART;TZID=Asia/Manila:20240115T100000
DTEND;TZID=Asia/Manila:20240119T120000
DTSTAMP:20260420T084322
CREATED:20231223T040106Z
LAST-MODIFIED:20231223T040106Z
UID:9876-1705312800-1705665600@www.ballet.ph
SUMMARY:Company Class
DESCRIPTION:
URL:https://www.ballet.ph/bp-event/company-class-32/
END:VEVENT
BEGIN:VEVENT
DTSTART;TZID=Asia/Manila:20240115T130000
DTEND;TZID=Asia/Manila:20240119T160000
DTSTAMP:20260420T084322
CREATED:20231223T040156Z
LAST-MODIFIED:20231223T040156Z
UID:9879-1705323600-1705680000@www.ballet.ph
SUMMARY:Company Rehearsals
DESCRIPTION:
URL:https://www.ballet.ph/bp-event/company-rehearsals-138/
END:VEVENT
BEGIN:VEVENT
DTSTART;TZID=Asia/Manila:20240122T100000
DTEND;TZID=Asia/Manila:20240126T120000
DTSTAMP:20260420T084322
CREATED:20231223T040240Z
LAST-MODIFIED:20231223T040240Z
UID:9882-1705917600-1706270400@www.ballet.ph
SUMMARY:Company Class
DESCRIPTION:
URL:https://www.ballet.ph/bp-event/company-class-33/
END:VEVENT
BEGIN:VEVENT
DTSTART;TZID=Asia/Manila:20240122T130000
DTEND;TZID=Asia/Manila:20240126T160000
DTSTAMP:20260420T084322
CREATED:20231223T040315Z
LAST-MODIFIED:20231223T040315Z
UID:9885-1705928400-1706284800@www.ballet.ph
SUMMARY:Company Rehearsals
DESCRIPTION:
URL:https://www.ballet.ph/bp-event/company-rehearsals-139/
END:VEVENT
BEGIN:VEVENT
DTSTART;TZID=Asia/Manila:20240129T100000
DTEND;TZID=Asia/Manila:20240131T120000
DTSTAMP:20260420T084322
CREATED:20231223T040355Z
LAST-MODIFIED:20231223T040355Z
UID:9888-1706522400-1706702400@www.ballet.ph
SUMMARY:Company Class
DESCRIPTION:
URL:https://www.ballet.ph/bp-event/company-class-34/
END:VEVENT
BEGIN:VEVENT
DTSTART;TZID=Asia/Manila:20240129T130000
DTEND;TZID=Asia/Manila:20240131T160000
DTSTAMP:20260420T084322
CREATED:20231223T040429Z
LAST-MODIFIED:20231223T040429Z
UID:9891-1706533200-1706716800@www.ballet.ph
SUMMARY:Company Rehearsals
DESCRIPTION:
URL:https://www.ballet.ph/bp-event/company-rehearsals-140/
END:VEVENT
BEGIN:VEVENT
DTSTART;TZID=Asia/Manila:20240201T100000
DTEND;TZID=Asia/Manila:20240202T120000
DTSTAMP:20260420T084322
CREATED:20240114T035332Z
LAST-MODIFIED:20240114T035332Z
UID:9922-1706781600-1706875200@www.ballet.ph
SUMMARY:Company Class
DESCRIPTION:
URL:https://www.ballet.ph/bp-event/company-class-35/
END:VEVENT
BEGIN:VEVENT
DTSTART;TZID=Asia/Manila:20240201T130000
DTEND;TZID=Asia/Manila:20240202T160000
DTSTAMP:20260420T084322
CREATED:20240114T035418Z
LAST-MODIFIED:20240114T035418Z
UID:9924-1706792400-1706889600@www.ballet.ph
SUMMARY:Company Rehearsals
DESCRIPTION:
URL:https://www.ballet.ph/bp-event/company-rehearsals-141/
END:VEVENT
BEGIN:VEVENT
DTSTART;TZID=Asia/Manila:20240205T100000
DTEND;TZID=Asia/Manila:20240209T120000
DTSTAMP:20260420T084322
CREATED:20240114T040118Z
LAST-MODIFIED:20240114T040118Z
UID:9929-1707127200-1707480000@www.ballet.ph
SUMMARY:Company Class
DESCRIPTION:
URL:https://www.ballet.ph/bp-event/company-class-36/
END:VEVENT
END:VCALENDAR