BEGIN:VCALENDAR
VERSION:2.0
PRODID:-//Ballet Philippines - ECPv6.15.17//NONSGML v1.0//EN
CALSCALE:GREGORIAN
METHOD:PUBLISH
X-ORIGINAL-URL:https://www.ballet.ph
X-WR-CALDESC:Events for Ballet Philippines
REFRESH-INTERVAL;VALUE=DURATION:PT1H
X-Robots-Tag:noindex
X-PUBLISHED-TTL:PT1H
BEGIN:VTIMEZONE
TZID:Asia/Manila
BEGIN:STANDARD
TZOFFSETFROM:+0800
TZOFFSETTO:+0800
TZNAME:PST
DTSTART:20210101T000000
END:STANDARD
END:VTIMEZONE
BEGIN:VEVENT
DTSTART;TZID=Asia/Manila:20221112T130000
DTEND;TZID=Asia/Manila:20221112T170000
DTSTAMP:20260420T062309
CREATED:20221108T065134Z
LAST-MODIFIED:20221108T065134Z
UID:8588-1668258000-1668272400@www.ballet.ph
SUMMARY:COMPANY REHEARSALS
DESCRIPTION:
URL:https://www.ballet.ph/bp-event/company-rehearsals-97/
END:VEVENT
BEGIN:VEVENT
DTSTART;TZID=Asia/Manila:20221115T100000
DTEND;TZID=Asia/Manila:20221115T120000
DTSTAMP:20260420T062309
CREATED:20221108T064547Z
LAST-MODIFIED:20221108T064547Z
UID:8549-1668506400-1668513600@www.ballet.ph
SUMMARY:MISHA MARTYNYUK COMPANY CLASS
DESCRIPTION:
URL:https://www.ballet.ph/bp-event/misha-martynyuk-company-class-155/
END:VEVENT
BEGIN:VEVENT
DTSTART;TZID=Asia/Manila:20221115T120000
DTEND;TZID=Asia/Manila:20221115T130000
DTSTAMP:20260420T062309
CREATED:20221108T064825Z
LAST-MODIFIED:20221108T064825Z
UID:8569-1668513600-1668517200@www.ballet.ph
SUMMARY:LUNCH BREAK
DESCRIPTION:
URL:https://www.ballet.ph/bp-event/lunch-break-98/
END:VEVENT
BEGIN:VEVENT
DTSTART;TZID=Asia/Manila:20221115T130000
DTEND;TZID=Asia/Manila:20221115T170000
DTSTAMP:20260420T062309
CREATED:20221108T065149Z
LAST-MODIFIED:20221108T065149Z
UID:8589-1668517200-1668531600@www.ballet.ph
SUMMARY:COMPANY REHEARSALS
DESCRIPTION:
URL:https://www.ballet.ph/bp-event/company-rehearsals-98/
END:VEVENT
BEGIN:VEVENT
DTSTART;TZID=Asia/Manila:20221116T100000
DTEND;TZID=Asia/Manila:20221116T120000
DTSTAMP:20260420T062309
CREATED:20221108T064557Z
LAST-MODIFIED:20221108T064557Z
UID:8550-1668592800-1668600000@www.ballet.ph
SUMMARY:MISHA MARTYNYUK COMPANY CLASS
DESCRIPTION:
URL:https://www.ballet.ph/bp-event/misha-martynyuk-company-class-156/
END:VEVENT
BEGIN:VEVENT
DTSTART;TZID=Asia/Manila:20221116T120000
DTEND;TZID=Asia/Manila:20221116T130000
DTSTAMP:20260420T062309
CREATED:20221108T064836Z
LAST-MODIFIED:20221108T064836Z
UID:8570-1668600000-1668603600@www.ballet.ph
SUMMARY:LUNCH BREAK
DESCRIPTION:
URL:https://www.ballet.ph/bp-event/lunch-break-99/
END:VEVENT
BEGIN:VEVENT
DTSTART;TZID=Asia/Manila:20221116T130000
DTEND;TZID=Asia/Manila:20221116T170000
DTSTAMP:20260420T062309
CREATED:20221108T065156Z
LAST-MODIFIED:20221108T065156Z
UID:8590-1668603600-1668618000@www.ballet.ph
SUMMARY:COMPANY REHEARSALS
DESCRIPTION:
URL:https://www.ballet.ph/bp-event/company-rehearsals-99/
END:VEVENT
BEGIN:VEVENT
DTSTART;TZID=Asia/Manila:20221117T100000
DTEND;TZID=Asia/Manila:20221117T120000
DTSTAMP:20260420T062309
CREATED:20221108T064608Z
LAST-MODIFIED:20221108T064608Z
UID:8551-1668679200-1668686400@www.ballet.ph
SUMMARY:MISHA MARTYNYUK COMPANY CLASS
DESCRIPTION:
URL:https://www.ballet.ph/bp-event/misha-martynyuk-company-class-157/
END:VEVENT
BEGIN:VEVENT
DTSTART;TZID=Asia/Manila:20221117T120000
DTEND;TZID=Asia/Manila:20221117T130000
DTSTAMP:20260420T062309
CREATED:20221108T064846Z
LAST-MODIFIED:20221108T064846Z
UID:8571-1668686400-1668690000@www.ballet.ph
SUMMARY:LUNCH BREAK
DESCRIPTION:
URL:https://www.ballet.ph/bp-event/lunch-break-100/
END:VEVENT
BEGIN:VEVENT
DTSTART;TZID=Asia/Manila:20221117T130000
DTEND;TZID=Asia/Manila:20221117T170000
DTSTAMP:20260420T062309
CREATED:20221108T065202Z
LAST-MODIFIED:20221108T065202Z
UID:8591-1668690000-1668704400@www.ballet.ph
SUMMARY:COMPANY REHEARSALS
DESCRIPTION:
URL:https://www.ballet.ph/bp-event/company-rehearsals-100/
END:VEVENT
BEGIN:VEVENT
DTSTART;TZID=Asia/Manila:20221118T100000
DTEND;TZID=Asia/Manila:20221118T120000
DTSTAMP:20260420T062309
CREATED:20221108T064620Z
LAST-MODIFIED:20221108T064620Z
UID:8552-1668765600-1668772800@www.ballet.ph
SUMMARY:MISHA MARTYNYUK COMPANY CLASS
DESCRIPTION:
URL:https://www.ballet.ph/bp-event/misha-martynyuk-company-class-158/
END:VEVENT
BEGIN:VEVENT
DTSTART;TZID=Asia/Manila:20221118T120000
DTEND;TZID=Asia/Manila:20221118T130000
DTSTAMP:20260420T062309
CREATED:20221108T064855Z
LAST-MODIFIED:20221108T064855Z
UID:8572-1668772800-1668776400@www.ballet.ph
SUMMARY:LUNCH BREAK
DESCRIPTION:
URL:https://www.ballet.ph/bp-event/lunch-break-101/
END:VEVENT
BEGIN:VEVENT
DTSTART;TZID=Asia/Manila:20221118T130000
DTEND;TZID=Asia/Manila:20221118T170000
DTSTAMP:20260420T062309
CREATED:20221108T065208Z
LAST-MODIFIED:20221108T065208Z
UID:8592-1668776400-1668790800@www.ballet.ph
SUMMARY:COMPANY REHEARSALS
DESCRIPTION:
URL:https://www.ballet.ph/bp-event/company-rehearsals-101/
END:VEVENT
BEGIN:VEVENT
DTSTART;TZID=Asia/Manila:20221119T100000
DTEND;TZID=Asia/Manila:20221119T120000
DTSTAMP:20260420T062309
CREATED:20221108T064630Z
LAST-MODIFIED:20221108T064630Z
UID:8553-1668852000-1668859200@www.ballet.ph
SUMMARY:MISHA MARTYNYUK COMPANY CLASS
DESCRIPTION:
URL:https://www.ballet.ph/bp-event/misha-martynyuk-company-class-159/
END:VEVENT
BEGIN:VEVENT
DTSTART;TZID=Asia/Manila:20221119T120000
DTEND;TZID=Asia/Manila:20221119T130000
DTSTAMP:20260420T062309
CREATED:20221108T064905Z
LAST-MODIFIED:20221108T064905Z
UID:8573-1668859200-1668862800@www.ballet.ph
SUMMARY:LUNCH BREAK
DESCRIPTION:
URL:https://www.ballet.ph/bp-event/lunch-break-102/
END:VEVENT
BEGIN:VEVENT
DTSTART;TZID=Asia/Manila:20221119T130000
DTEND;TZID=Asia/Manila:20221119T170000
DTSTAMP:20260420T062309
CREATED:20221108T065217Z
LAST-MODIFIED:20221108T065217Z
UID:8593-1668862800-1668877200@www.ballet.ph
SUMMARY:COMPANY REHEARSALS
DESCRIPTION:
URL:https://www.ballet.ph/bp-event/company-rehearsals-102/
END:VEVENT
BEGIN:VEVENT
DTSTART;TZID=Asia/Manila:20221122T100000
DTEND;TZID=Asia/Manila:20221122T120000
DTSTAMP:20260420T062309
CREATED:20221108T065511Z
LAST-MODIFIED:20221108T065511Z
UID:8606-1669111200-1669118400@www.ballet.ph
SUMMARY:MISHA MARTYNYUK COMPANY CLASS
DESCRIPTION:
URL:https://www.ballet.ph/bp-event/misha-martynyuk-company-class-160/
END:VEVENT
BEGIN:VEVENT
DTSTART;TZID=Asia/Manila:20221122T120000
DTEND;TZID=Asia/Manila:20221122T130000
DTSTAMP:20260420T062309
CREATED:20221108T070720Z
LAST-MODIFIED:20221108T070720Z
UID:8627-1669118400-1669122000@www.ballet.ph
SUMMARY:LUNCH BREAK
DESCRIPTION:
URL:https://www.ballet.ph/bp-event/lunch-break-104/
END:VEVENT
BEGIN:VEVENT
DTSTART;TZID=Asia/Manila:20221122T130000
DTEND;TZID=Asia/Manila:20221122T170000
DTSTAMP:20260420T062309
CREATED:20221108T070926Z
LAST-MODIFIED:20221108T070926Z
UID:8633-1669122000-1669136400@www.ballet.ph
SUMMARY:COMPANY REHEARSALS
DESCRIPTION:
URL:https://www.ballet.ph/bp-event/company-rehearsals-104/
END:VEVENT
BEGIN:VEVENT
DTSTART;TZID=Asia/Manila:20221123T100000
DTEND;TZID=Asia/Manila:20221123T120000
DTSTAMP:20260420T062309
CREATED:20221108T065523Z
LAST-MODIFIED:20221108T065523Z
UID:8607-1669197600-1669204800@www.ballet.ph
SUMMARY:MISHA MARTYNYUK COMPANY CLASS
DESCRIPTION:
URL:https://www.ballet.ph/bp-event/misha-martynyuk-company-class-161/
END:VEVENT
BEGIN:VEVENT
DTSTART;TZID=Asia/Manila:20221123T120000
DTEND;TZID=Asia/Manila:20221123T130000
DTSTAMP:20260420T062309
CREATED:20221108T070739Z
LAST-MODIFIED:20221108T070739Z
UID:8623-1669204800-1669208400@www.ballet.ph
SUMMARY:LUNCH BREAK
DESCRIPTION:
URL:https://www.ballet.ph/bp-event/lunch-break-105/
END:VEVENT
BEGIN:VEVENT
DTSTART;TZID=Asia/Manila:20221123T130000
DTEND;TZID=Asia/Manila:20221123T170000
DTSTAMP:20260420T062309
CREATED:20221108T070932Z
LAST-MODIFIED:20221108T070932Z
UID:8634-1669208400-1669222800@www.ballet.ph
SUMMARY:COMPANY REHEARSALS
DESCRIPTION:
URL:https://www.ballet.ph/bp-event/company-rehearsals-105/
END:VEVENT
BEGIN:VEVENT
DTSTART;TZID=Asia/Manila:20221124T100000
DTEND;TZID=Asia/Manila:20221124T120000
DTSTAMP:20260420T062309
CREATED:20221108T070428Z
LAST-MODIFIED:20221108T070428Z
UID:8608-1669284000-1669291200@www.ballet.ph
SUMMARY:MISHA MARTYNYUK COMPANY CLASS
DESCRIPTION:
URL:https://www.ballet.ph/bp-event/misha-martynyuk-company-class-162/
END:VEVENT
BEGIN:VEVENT
DTSTART;TZID=Asia/Manila:20221124T120000
DTEND;TZID=Asia/Manila:20221124T130000
DTSTAMP:20260420T062309
CREATED:20221108T070826Z
LAST-MODIFIED:20221108T070826Z
UID:8624-1669291200-1669294800@www.ballet.ph
SUMMARY:LUNCH BREAK
DESCRIPTION:
URL:https://www.ballet.ph/bp-event/lunch-break-106/
END:VEVENT
BEGIN:VEVENT
DTSTART;TZID=Asia/Manila:20221124T130000
DTEND;TZID=Asia/Manila:20221124T170000
DTSTAMP:20260420T062309
CREATED:20221108T070938Z
LAST-MODIFIED:20221108T070938Z
UID:8635-1669294800-1669309200@www.ballet.ph
SUMMARY:COMPANY REHEARSALS
DESCRIPTION:
URL:https://www.ballet.ph/bp-event/company-rehearsals-106/
END:VEVENT
BEGIN:VEVENT
DTSTART;TZID=Asia/Manila:20221125T100000
DTEND;TZID=Asia/Manila:20221125T120000
DTSTAMP:20260420T062309
CREATED:20221108T070439Z
LAST-MODIFIED:20221108T070439Z
UID:8609-1669370400-1669377600@www.ballet.ph
SUMMARY:MISHA MARTYNYUK COMPANY CLASS
DESCRIPTION:
URL:https://www.ballet.ph/bp-event/misha-martynyuk-company-class-163/
END:VEVENT
BEGIN:VEVENT
DTSTART;TZID=Asia/Manila:20221125T120000
DTEND;TZID=Asia/Manila:20221125T130000
DTSTAMP:20260420T062309
CREATED:20221108T070839Z
LAST-MODIFIED:20221108T070839Z
UID:8625-1669377600-1669381200@www.ballet.ph
SUMMARY:LUNCH BREAK
DESCRIPTION:
URL:https://www.ballet.ph/bp-event/lunch-break-107/
END:VEVENT
BEGIN:VEVENT
DTSTART;TZID=Asia/Manila:20221125T130000
DTEND;TZID=Asia/Manila:20221125T170000
DTSTAMP:20260420T062309
CREATED:20221108T070947Z
LAST-MODIFIED:20221108T070947Z
UID:8636-1669381200-1669395600@www.ballet.ph
SUMMARY:COMPANY REHEARSALS
DESCRIPTION:
URL:https://www.ballet.ph/bp-event/company-rehearsals-107/
END:VEVENT
BEGIN:VEVENT
DTSTART;TZID=Asia/Manila:20221126T100000
DTEND;TZID=Asia/Manila:20221126T120000
DTSTAMP:20260420T062309
CREATED:20221108T070447Z
LAST-MODIFIED:20221108T070447Z
UID:8610-1669456800-1669464000@www.ballet.ph
SUMMARY:MISHA MARTYNYUK COMPANY CLASS
DESCRIPTION:
URL:https://www.ballet.ph/bp-event/misha-martynyuk-company-class-164/
END:VEVENT
BEGIN:VEVENT
DTSTART;TZID=Asia/Manila:20221126T120000
DTEND;TZID=Asia/Manila:20221126T130000
DTSTAMP:20260420T062309
CREATED:20221108T070850Z
LAST-MODIFIED:20221108T070850Z
UID:8626-1669464000-1669467600@www.ballet.ph
SUMMARY:LUNCH BREAK
DESCRIPTION:
URL:https://www.ballet.ph/bp-event/lunch-break-108/
END:VEVENT
END:VCALENDAR