BEGIN:VCALENDAR
VERSION:2.0
PRODID:-//Ballet Philippines - ECPv6.15.17//NONSGML v1.0//EN
CALSCALE:GREGORIAN
METHOD:PUBLISH
X-WR-CALNAME:Ballet Philippines
X-ORIGINAL-URL:https://www.ballet.ph
X-WR-CALDESC:Events for Ballet Philippines
REFRESH-INTERVAL;VALUE=DURATION:PT1H
X-Robots-Tag:noindex
X-PUBLISHED-TTL:PT1H
BEGIN:VTIMEZONE
TZID:Asia/Manila
BEGIN:STANDARD
TZOFFSETFROM:+0800
TZOFFSETTO:+0800
TZNAME:PST
DTSTART:20210101T000000
END:STANDARD
END:VTIMEZONE
BEGIN:VEVENT
DTSTART;TZID=Asia/Manila:20221207T130000
DTEND;TZID=Asia/Manila:20221207T170000
DTSTAMP:20260420T151554
CREATED:20221128T074704Z
LAST-MODIFIED:20221128T074704Z
UID:8738-1670418000-1670432400@www.ballet.ph
SUMMARY:COMPANY REHEARSALS
DESCRIPTION:
URL:https://www.ballet.ph/bp-event/company-rehearsals-113/
END:VEVENT
BEGIN:VEVENT
DTSTART;TZID=Asia/Manila:20221208T100000
DTEND;TZID=Asia/Manila:20221208T120000
DTSTAMP:20260420T151554
CREATED:20221128T073621Z
LAST-MODIFIED:20221128T073621Z
UID:8687-1670493600-1670500800@www.ballet.ph
SUMMARY:MISHA MARTYNYUK COMPANY CLASS
DESCRIPTION:
URL:https://www.ballet.ph/bp-event/misha-martynyuk-company-class-171/
END:VEVENT
BEGIN:VEVENT
DTSTART;TZID=Asia/Manila:20221208T120000
DTEND;TZID=Asia/Manila:20221208T130000
DTSTAMP:20260420T151554
CREATED:20221128T074450Z
LAST-MODIFIED:20221128T074450Z
UID:8719-1670500800-1670504400@www.ballet.ph
SUMMARY:LUNCH BREAK
DESCRIPTION:
URL:https://www.ballet.ph/bp-event/lunch-break-114/
END:VEVENT
BEGIN:VEVENT
DTSTART;TZID=Asia/Manila:20221208T130000
DTEND;TZID=Asia/Manila:20221208T170000
DTSTAMP:20260420T151554
CREATED:20221128T074710Z
LAST-MODIFIED:20221128T074710Z
UID:8739-1670504400-1670518800@www.ballet.ph
SUMMARY:COMPANY REHEARSALS
DESCRIPTION:
URL:https://www.ballet.ph/bp-event/company-rehearsals-114/
END:VEVENT
BEGIN:VEVENT
DTSTART;TZID=Asia/Manila:20221209T100000
DTEND;TZID=Asia/Manila:20221209T120000
DTSTAMP:20260420T151554
CREATED:20221128T073632Z
LAST-MODIFIED:20221128T073632Z
UID:8683-1670580000-1670587200@www.ballet.ph
SUMMARY:MISHA MARTYNYUK COMPANY CLASS
DESCRIPTION:
URL:https://www.ballet.ph/bp-event/misha-martynyuk-company-class-172/
END:VEVENT
BEGIN:VEVENT
DTSTART;TZID=Asia/Manila:20221209T120000
DTEND;TZID=Asia/Manila:20221209T130000
DTSTAMP:20260420T151554
CREATED:20221128T074455Z
LAST-MODIFIED:20221128T074455Z
UID:8720-1670587200-1670590800@www.ballet.ph
SUMMARY:LUNCH BREAK
DESCRIPTION:
URL:https://www.ballet.ph/bp-event/lunch-break-115/
END:VEVENT
BEGIN:VEVENT
DTSTART;TZID=Asia/Manila:20221209T130000
DTEND;TZID=Asia/Manila:20221209T170000
DTSTAMP:20260420T151554
CREATED:20221128T074716Z
LAST-MODIFIED:20221128T074716Z
UID:8740-1670590800-1670605200@www.ballet.ph
SUMMARY:COMPANY REHEARSALS
DESCRIPTION:
URL:https://www.ballet.ph/bp-event/company-rehearsals-115/
END:VEVENT
BEGIN:VEVENT
DTSTART;TZID=Asia/Manila:20221210T100000
DTEND;TZID=Asia/Manila:20221210T120000
DTSTAMP:20260420T151554
CREATED:20221128T073640Z
LAST-MODIFIED:20221128T073640Z
UID:8684-1670666400-1670673600@www.ballet.ph
SUMMARY:MISHA MARTYNYUK COMPANY CLASS
DESCRIPTION:
URL:https://www.ballet.ph/bp-event/misha-martynyuk-company-class-173/
END:VEVENT
BEGIN:VEVENT
DTSTART;TZID=Asia/Manila:20221210T120000
DTEND;TZID=Asia/Manila:20221210T130000
DTSTAMP:20260420T151554
CREATED:20221128T074501Z
LAST-MODIFIED:20221128T074501Z
UID:8721-1670673600-1670677200@www.ballet.ph
SUMMARY:LUNCH BREAK
DESCRIPTION:
URL:https://www.ballet.ph/bp-event/lunch-break-116/
END:VEVENT
BEGIN:VEVENT
DTSTART;TZID=Asia/Manila:20221210T130000
DTEND;TZID=Asia/Manila:20221210T170000
DTSTAMP:20260420T151554
CREATED:20221128T074724Z
LAST-MODIFIED:20221128T074724Z
UID:8741-1670677200-1670691600@www.ballet.ph
SUMMARY:COMPANY REHEARSALS
DESCRIPTION:
URL:https://www.ballet.ph/bp-event/company-rehearsals-116/
END:VEVENT
BEGIN:VEVENT
DTSTART;TZID=Asia/Manila:20221212T100000
DTEND;TZID=Asia/Manila:20221212T120000
DTSTAMP:20260420T151554
CREATED:20221128T074155Z
LAST-MODIFIED:20221128T074155Z
UID:8707-1670839200-1670846400@www.ballet.ph
SUMMARY:MISHA MARTYNYUK COMPANY CLASS
DESCRIPTION:
URL:https://www.ballet.ph/bp-event/misha-martynyuk-company-class-174/
END:VEVENT
BEGIN:VEVENT
DTSTART;TZID=Asia/Manila:20221212T120000
DTEND;TZID=Asia/Manila:20221212T130000
DTSTAMP:20260420T151554
CREATED:20221128T074531Z
LAST-MODIFIED:20221128T074531Z
UID:8727-1670846400-1670850000@www.ballet.ph
SUMMARY:LUNCH BREAK
DESCRIPTION:
URL:https://www.ballet.ph/bp-event/lunch-break-117/
END:VEVENT
BEGIN:VEVENT
DTSTART;TZID=Asia/Manila:20221212T130000
DTEND;TZID=Asia/Manila:20221212T170000
DTSTAMP:20260420T151554
CREATED:20221128T074816Z
LAST-MODIFIED:20221128T074816Z
UID:8747-1670850000-1670864400@www.ballet.ph
SUMMARY:COMPANY REHEARSALS
DESCRIPTION:
URL:https://www.ballet.ph/bp-event/company-rehearsals-117/
END:VEVENT
BEGIN:VEVENT
DTSTART;TZID=Asia/Manila:20221213T100000
DTEND;TZID=Asia/Manila:20221213T120000
DTSTAMP:20260420T151554
CREATED:20221128T074204Z
LAST-MODIFIED:20221128T074204Z
UID:8708-1670925600-1670932800@www.ballet.ph
SUMMARY:MISHA MARTYNYUK COMPANY CLASS
DESCRIPTION:
URL:https://www.ballet.ph/bp-event/misha-martynyuk-company-class-175/
END:VEVENT
BEGIN:VEVENT
DTSTART;TZID=Asia/Manila:20221213T120000
DTEND;TZID=Asia/Manila:20221213T130000
DTSTAMP:20260420T151554
CREATED:20221128T074540Z
LAST-MODIFIED:20221128T074540Z
UID:8728-1670932800-1670936400@www.ballet.ph
SUMMARY:LUNCH BREAK
DESCRIPTION:
URL:https://www.ballet.ph/bp-event/lunch-break-118/
END:VEVENT
BEGIN:VEVENT
DTSTART;TZID=Asia/Manila:20221213T130000
DTEND;TZID=Asia/Manila:20221213T170000
DTSTAMP:20260420T151554
CREATED:20221128T074823Z
LAST-MODIFIED:20221128T074823Z
UID:8748-1670936400-1670950800@www.ballet.ph
SUMMARY:COMPANY REHEARSALS
DESCRIPTION:
URL:https://www.ballet.ph/bp-event/company-rehearsals-118/
END:VEVENT
BEGIN:VEVENT
DTSTART;TZID=Asia/Manila:20221214T100000
DTEND;TZID=Asia/Manila:20221214T120000
DTSTAMP:20260420T151554
CREATED:20221128T074215Z
LAST-MODIFIED:20221128T074215Z
UID:8709-1671012000-1671019200@www.ballet.ph
SUMMARY:MISHA MARTYNYUK COMPANY CLASS
DESCRIPTION:
URL:https://www.ballet.ph/bp-event/misha-martynyuk-company-class-176/
END:VEVENT
BEGIN:VEVENT
DTSTART;TZID=Asia/Manila:20221214T120000
DTEND;TZID=Asia/Manila:20221214T130000
DTSTAMP:20260420T151554
CREATED:20221128T074548Z
LAST-MODIFIED:20221128T074548Z
UID:8729-1671019200-1671022800@www.ballet.ph
SUMMARY:LUNCH BREAK
DESCRIPTION:
URL:https://www.ballet.ph/bp-event/lunch-break-119/
END:VEVENT
BEGIN:VEVENT
DTSTART;TZID=Asia/Manila:20221214T130000
DTEND;TZID=Asia/Manila:20221214T170000
DTSTAMP:20260420T151554
CREATED:20221128T074829Z
LAST-MODIFIED:20221128T074829Z
UID:8749-1671022800-1671037200@www.ballet.ph
SUMMARY:COMPANY REHEARSALS
DESCRIPTION:
URL:https://www.ballet.ph/bp-event/company-rehearsals-119/
END:VEVENT
BEGIN:VEVENT
DTSTART;TZID=Asia/Manila:20221215T100000
DTEND;TZID=Asia/Manila:20221215T170000
DTSTAMP:20260420T151554
CREATED:20221128T074226Z
LAST-MODIFIED:20221128T074226Z
UID:8710-1671098400-1671123600@www.ballet.ph
SUMMARY:MISHA MARTYNYUK COMPANY CLASS
DESCRIPTION:
URL:https://www.ballet.ph/bp-event/misha-martynyuk-company-class-177/
END:VEVENT
BEGIN:VEVENT
DTSTART;TZID=Asia/Manila:20221215T120000
DTEND;TZID=Asia/Manila:20221215T130000
DTSTAMP:20260420T151554
CREATED:20221128T074556Z
LAST-MODIFIED:20221128T074556Z
UID:8730-1671105600-1671109200@www.ballet.ph
SUMMARY:LUNCH BREAK
DESCRIPTION:
URL:https://www.ballet.ph/bp-event/lunch-break-120/
END:VEVENT
BEGIN:VEVENT
DTSTART;TZID=Asia/Manila:20221215T130000
DTEND;TZID=Asia/Manila:20221215T170000
DTSTAMP:20260420T151554
CREATED:20221128T074836Z
LAST-MODIFIED:20221128T074836Z
UID:8750-1671109200-1671123600@www.ballet.ph
SUMMARY:COMPANY REHEARSALS
DESCRIPTION:
URL:https://www.ballet.ph/bp-event/company-rehearsals-120/
END:VEVENT
BEGIN:VEVENT
DTSTART;TZID=Asia/Manila:20221216T100000
DTEND;TZID=Asia/Manila:20221216T120000
DTSTAMP:20260420T151554
CREATED:20221128T074235Z
LAST-MODIFIED:20221128T074235Z
UID:8711-1671184800-1671192000@www.ballet.ph
SUMMARY:MISHA MARTYNYUK COMPANY CLASS
DESCRIPTION:
URL:https://www.ballet.ph/bp-event/misha-martynyuk-company-class-178/
END:VEVENT
BEGIN:VEVENT
DTSTART;TZID=Asia/Manila:20221216T120000
DTEND;TZID=Asia/Manila:20221216T130000
DTSTAMP:20260420T151554
CREATED:20221128T074615Z
LAST-MODIFIED:20221128T074615Z
UID:8731-1671192000-1671195600@www.ballet.ph
SUMMARY:LUNCH BREAK
DESCRIPTION:
URL:https://www.ballet.ph/bp-event/lunch-break-121/
END:VEVENT
BEGIN:VEVENT
DTSTART;TZID=Asia/Manila:20221216T130000
DTEND;TZID=Asia/Manila:20221216T170000
DTSTAMP:20260420T151554
CREATED:20221128T074842Z
LAST-MODIFIED:20221128T074842Z
UID:8751-1671195600-1671210000@www.ballet.ph
SUMMARY:COMPANY REHEARSALS
DESCRIPTION:
URL:https://www.ballet.ph/bp-event/company-rehearsals-121/
END:VEVENT
BEGIN:VEVENT
DTSTART;TZID=Asia/Manila:20221217T200000
DTEND;TZID=Asia/Manila:20221217T200000
DTSTAMP:20260420T151554
CREATED:20221128T073742Z
LAST-MODIFIED:20221128T073742Z
UID:8698-1671307200-1671307200@www.ballet.ph
SUMMARY:THE NUTCRACKER GALA NIGHT
DESCRIPTION:
URL:https://www.ballet.ph/bp-event/the-nutcracker-gala-night/
END:VEVENT
BEGIN:VEVENT
DTSTART;TZID=Asia/Manila:20221218T100000
DTEND;TZID=Asia/Manila:20221218T100000
DTSTAMP:20260420T151554
CREATED:20221128T073844Z
LAST-MODIFIED:20221128T073844Z
UID:8693-1671357600-1671357600@www.ballet.ph
SUMMARY:THE NUTCRACKER SHOW
DESCRIPTION:
URL:https://www.ballet.ph/bp-event/the-nutcracker-show/
END:VEVENT
BEGIN:VEVENT
DTSTART;TZID=Asia/Manila:20221218T140000
DTEND;TZID=Asia/Manila:20221218T140000
DTSTAMP:20260420T151554
CREATED:20221128T073855Z
LAST-MODIFIED:20221128T073855Z
UID:8694-1671372000-1671372000@www.ballet.ph
SUMMARY:THE NUTCRACKER SHOW
DESCRIPTION:
URL:https://www.ballet.ph/bp-event/the-nutcracker-show-2/
END:VEVENT
BEGIN:VEVENT
DTSTART;TZID=Asia/Manila:20221218T190000
DTEND;TZID=Asia/Manila:20221218T190000
DTSTAMP:20260420T151554
CREATED:20221128T073904Z
LAST-MODIFIED:20221128T073904Z
UID:8695-1671390000-1671390000@www.ballet.ph
SUMMARY:THE NUTCRACKER SHOW
DESCRIPTION:
URL:https://www.ballet.ph/bp-event/the-nutcracker-show-3/
END:VEVENT
BEGIN:VEVENT
DTSTART;TZID=Asia/Manila:20221219T170000
DTEND;TZID=Asia/Manila:20221219T170000
DTSTAMP:20260420T151554
CREATED:20221128T073944Z
LAST-MODIFIED:20221128T073944Z
UID:8703-1671469200-1671469200@www.ballet.ph
SUMMARY:CHRISTMAS PARTY
DESCRIPTION:
URL:https://www.ballet.ph/bp-event/christmas-party/
END:VEVENT
END:VCALENDAR