BEGIN:VCALENDAR
VERSION:2.0
PRODID:-//Ballet Philippines - ECPv6.15.17//NONSGML v1.0//EN
CALSCALE:GREGORIAN
METHOD:PUBLISH
X-WR-CALNAME:Ballet Philippines
X-ORIGINAL-URL:https://www.ballet.ph
X-WR-CALDESC:Events for Ballet Philippines
REFRESH-INTERVAL;VALUE=DURATION:PT1H
X-Robots-Tag:noindex
X-PUBLISHED-TTL:PT1H
BEGIN:VTIMEZONE
TZID:Asia/Manila
BEGIN:STANDARD
TZOFFSETFROM:+0800
TZOFFSETTO:+0800
TZNAME:PST
DTSTART:20230101T000000
END:STANDARD
END:VTIMEZONE
BEGIN:VEVENT
DTSTART;TZID=Asia/Manila:20240122T130000
DTEND;TZID=Asia/Manila:20240126T160000
DTSTAMP:20260420T120304
CREATED:20231223T040315Z
LAST-MODIFIED:20231223T040315Z
UID:9885-1705928400-1706284800@www.ballet.ph
SUMMARY:Company Rehearsals
DESCRIPTION:
URL:https://www.ballet.ph/bp-event/company-rehearsals-139/
END:VEVENT
BEGIN:VEVENT
DTSTART;TZID=Asia/Manila:20240129T100000
DTEND;TZID=Asia/Manila:20240131T120000
DTSTAMP:20260420T120304
CREATED:20231223T040355Z
LAST-MODIFIED:20231223T040355Z
UID:9888-1706522400-1706702400@www.ballet.ph
SUMMARY:Company Class
DESCRIPTION:
URL:https://www.ballet.ph/bp-event/company-class-34/
END:VEVENT
BEGIN:VEVENT
DTSTART;TZID=Asia/Manila:20240129T130000
DTEND;TZID=Asia/Manila:20240131T160000
DTSTAMP:20260420T120304
CREATED:20231223T040429Z
LAST-MODIFIED:20231223T040429Z
UID:9891-1706533200-1706716800@www.ballet.ph
SUMMARY:Company Rehearsals
DESCRIPTION:
URL:https://www.ballet.ph/bp-event/company-rehearsals-140/
END:VEVENT
BEGIN:VEVENT
DTSTART;TZID=Asia/Manila:20240201T100000
DTEND;TZID=Asia/Manila:20240202T120000
DTSTAMP:20260420T120304
CREATED:20240114T035332Z
LAST-MODIFIED:20240114T035332Z
UID:9922-1706781600-1706875200@www.ballet.ph
SUMMARY:Company Class
DESCRIPTION:
URL:https://www.ballet.ph/bp-event/company-class-35/
END:VEVENT
BEGIN:VEVENT
DTSTART;TZID=Asia/Manila:20240201T130000
DTEND;TZID=Asia/Manila:20240202T160000
DTSTAMP:20260420T120304
CREATED:20240114T035418Z
LAST-MODIFIED:20240114T035418Z
UID:9924-1706792400-1706889600@www.ballet.ph
SUMMARY:Company Rehearsals
DESCRIPTION:
URL:https://www.ballet.ph/bp-event/company-rehearsals-141/
END:VEVENT
BEGIN:VEVENT
DTSTART;TZID=Asia/Manila:20240205T100000
DTEND;TZID=Asia/Manila:20240209T120000
DTSTAMP:20260420T120304
CREATED:20240114T040118Z
LAST-MODIFIED:20240114T040118Z
UID:9929-1707127200-1707480000@www.ballet.ph
SUMMARY:Company Class
DESCRIPTION:
URL:https://www.ballet.ph/bp-event/company-class-36/
END:VEVENT
BEGIN:VEVENT
DTSTART;TZID=Asia/Manila:20240205T130000
DTEND;TZID=Asia/Manila:20240209T160000
DTSTAMP:20260420T120304
CREATED:20240114T040026Z
LAST-MODIFIED:20240114T040026Z
UID:9926-1707138000-1707494400@www.ballet.ph
SUMMARY:Company Rehearsals
DESCRIPTION:
URL:https://www.ballet.ph/bp-event/company-rehearsals-142/
END:VEVENT
BEGIN:VEVENT
DTSTART;TZID=Asia/Manila:20240212T100000
DTEND;TZID=Asia/Manila:20240216T120000
DTSTAMP:20260420T120304
CREATED:20240114T040213Z
LAST-MODIFIED:20240114T040213Z
UID:9931-1707732000-1708084800@www.ballet.ph
SUMMARY:Company Class
DESCRIPTION:
URL:https://www.ballet.ph/bp-event/company-class-37/
END:VEVENT
BEGIN:VEVENT
DTSTART;TZID=Asia/Manila:20240212T130000
DTEND;TZID=Asia/Manila:20240216T160000
DTSTAMP:20260420T120304
CREATED:20240114T040253Z
LAST-MODIFIED:20240114T040253Z
UID:9932-1707742800-1708099200@www.ballet.ph
SUMMARY:Company Rehearsals
DESCRIPTION:
URL:https://www.ballet.ph/bp-event/company-rehearsals-143/
END:VEVENT
BEGIN:VEVENT
DTSTART;TZID=Asia/Manila:20240219T100000
DTEND;TZID=Asia/Manila:20240223T120000
DTSTAMP:20260420T120304
CREATED:20240114T040346Z
LAST-MODIFIED:20240114T040346Z
UID:9935-1708336800-1708689600@www.ballet.ph
SUMMARY:Company Class
DESCRIPTION:
URL:https://www.ballet.ph/bp-event/company-class-38/
END:VEVENT
BEGIN:VEVENT
DTSTART;TZID=Asia/Manila:20240219T130000
DTEND;TZID=Asia/Manila:20240223T160000
DTSTAMP:20260420T120304
CREATED:20240114T040354Z
LAST-MODIFIED:20240114T040354Z
UID:9936-1708347600-1708704000@www.ballet.ph
SUMMARY:Company Rehearsals
DESCRIPTION:
URL:https://www.ballet.ph/bp-event/company-rehearsals-144/
END:VEVENT
BEGIN:VEVENT
DTSTART;TZID=Asia/Manila:20240226T100000
DTEND;TZID=Asia/Manila:20240229T120000
DTSTAMP:20260420T120304
CREATED:20240114T040546Z
LAST-MODIFIED:20240114T040546Z
UID:9939-1708941600-1709208000@www.ballet.ph
SUMMARY:Company Class
DESCRIPTION:
URL:https://www.ballet.ph/bp-event/company-class-39/
END:VEVENT
BEGIN:VEVENT
DTSTART;TZID=Asia/Manila:20240226T130000
DTEND;TZID=Asia/Manila:20240229T160000
DTSTAMP:20260420T120304
CREATED:20240114T040536Z
LAST-MODIFIED:20240114T040536Z
UID:9940-1708952400-1709222400@www.ballet.ph
SUMMARY:Company Rehearsals
DESCRIPTION:
URL:https://www.ballet.ph/bp-event/company-rehearsals-145/
END:VEVENT
BEGIN:VEVENT
DTSTART;VALUE=DATE:20240422
DTEND;VALUE=DATE:20240423
DTSTAMP:20260420T120304
CREATED:20240621T130457Z
LAST-MODIFIED:20240621T130457Z
UID:10625-1713744000-1713830399@www.ballet.ph
SUMMARY:-IDD Rehearsal at Samsung Performing Arts Theatre
DESCRIPTION:
URL:https://www.ballet.ph/bp-event/idd-rehearsal-at-samsung-performing-arts-theatre/
END:VEVENT
BEGIN:VEVENT
DTSTART;VALUE=DATE:20240427
DTEND;VALUE=DATE:20240428
DTSTAMP:20260420T120304
CREATED:20240621T130524Z
LAST-MODIFIED:20240621T130524Z
UID:10628-1714176000-1714262399@www.ballet.ph
SUMMARY:IDD Performance Day at Samsung Performing Arts Theatre
DESCRIPTION:
URL:https://www.ballet.ph/bp-event/idd-performance-day-at-samsung-performing-arts-theatre/
END:VEVENT
BEGIN:VEVENT
DTSTART;VALUE=DATE:20240501
DTEND;VALUE=DATE:20240502
DTSTAMP:20260420T120304
CREATED:20240621T124550Z
LAST-MODIFIED:20240621T124550Z
UID:10589-1714521600-1714607999@www.ballet.ph
SUMMARY:Labor Day
DESCRIPTION:
URL:https://www.ballet.ph/bp-event/labor-day/
END:VEVENT
BEGIN:VEVENT
DTSTART;VALUE=DATE:20240502
DTEND;VALUE=DATE:20240504
DTSTAMP:20260420T120304
CREATED:20240621T124606Z
LAST-MODIFIED:20240621T124606Z
UID:10592-1714608000-1714780799@www.ballet.ph
SUMMARY:Company Classes and Rehearsals
DESCRIPTION:
URL:https://www.ballet.ph/bp-event/company-classes-and-rehearsals-11/
END:VEVENT
BEGIN:VEVENT
DTSTART;VALUE=DATE:20240506
DTEND;VALUE=DATE:20240510
DTSTAMP:20260420T120304
CREATED:20240621T124625Z
LAST-MODIFIED:20240621T124625Z
UID:10595-1714953600-1715299199@www.ballet.ph
SUMMARY:Company Classes and Rehearsals
DESCRIPTION:
URL:https://www.ballet.ph/bp-event/company-classes-and-rehearsals-12/
END:VEVENT
BEGIN:VEVENT
DTSTART;VALUE=DATE:20240510
DTEND;VALUE=DATE:20240511
DTSTAMP:20260420T120304
CREATED:20240621T124645Z
LAST-MODIFIED:20240621T124645Z
UID:10598-1715299200-1715385599@www.ballet.ph
SUMMARY:Sining Sorpresa Flash Mob\, Rehearsal at Met
DESCRIPTION:
URL:https://www.ballet.ph/bp-event/sining-sorpresa-flash-mob-rehearsal-at-met/
END:VEVENT
BEGIN:VEVENT
DTSTART;VALUE=DATE:20240512
DTEND;VALUE=DATE:20240513
DTSTAMP:20260420T120304
CREATED:20240621T124704Z
LAST-MODIFIED:20240621T124704Z
UID:10601-1715472000-1715558399@www.ballet.ph
SUMMARY:Sining Sorpresa Flash Mob\, Performance Day At SM Mega Mall
DESCRIPTION:
URL:https://www.ballet.ph/bp-event/sining-sorpresa-flash-mob-performance-day-at-sm-mega-mall/
END:VEVENT
BEGIN:VEVENT
DTSTART;VALUE=DATE:20240513
DTEND;VALUE=DATE:20240518
DTSTAMP:20260420T120304
CREATED:20240621T130038Z
LAST-MODIFIED:20240621T130049Z
UID:10604-1715558400-1715990399@www.ballet.ph
SUMMARY:Company Classes and Rehearsals
DESCRIPTION:
URL:https://www.ballet.ph/bp-event/company-classes-and-rehearsals-13/
END:VEVENT
BEGIN:VEVENT
DTSTART;VALUE=DATE:20240520
DTEND;VALUE=DATE:20240522
DTSTAMP:20260420T120304
CREATED:20240621T130107Z
LAST-MODIFIED:20240621T130121Z
UID:10607-1716163200-1716335999@www.ballet.ph
SUMMARY:Company Classes and Rehearsals
DESCRIPTION:
URL:https://www.ballet.ph/bp-event/company-classes-and-rehearsals-14/
END:VEVENT
BEGIN:VEVENT
DTSTART;VALUE=DATE:20240522
DTEND;VALUE=DATE:20240523
DTSTAMP:20260420T120304
CREATED:20240621T130144Z
LAST-MODIFIED:20240621T130144Z
UID:10610-1716336000-1716422399@www.ballet.ph
SUMMARY:Pulso Pilipinas Rehearsal at Met
DESCRIPTION:
URL:https://www.ballet.ph/bp-event/pulso-pilipinas-rehearsal-at-met/
END:VEVENT
BEGIN:VEVENT
DTSTART;VALUE=DATE:20240523
DTEND;VALUE=DATE:20240524
DTSTAMP:20260420T120304
CREATED:20240621T130207Z
LAST-MODIFIED:20240621T130207Z
UID:10613-1716422400-1716508799@www.ballet.ph
SUMMARY:Pulso Pilipinas Performance day at Met
DESCRIPTION:
URL:https://www.ballet.ph/bp-event/pulso-pilipinas-performance-day-at-met/
END:VEVENT
BEGIN:VEVENT
DTSTART;VALUE=DATE:20240524
DTEND;VALUE=DATE:20240525
DTSTAMP:20260420T120304
CREATED:20240621T130226Z
LAST-MODIFIED:20240621T130226Z
UID:10616-1716508800-1716595199@www.ballet.ph
SUMMARY:Company Classes and Rehearsals
DESCRIPTION:
URL:https://www.ballet.ph/bp-event/company-classes-and-rehearsals-15/
END:VEVENT
BEGIN:VEVENT
DTSTART;VALUE=DATE:20240527
DTEND;VALUE=DATE:20240529
DTSTAMP:20260420T120304
CREATED:20240621T130330Z
LAST-MODIFIED:20240621T130330Z
UID:10619-1716768000-1716940799@www.ballet.ph
SUMMARY:Team Building\, production department
DESCRIPTION:
URL:https://www.ballet.ph/bp-event/team-building-production-department/
END:VEVENT
BEGIN:VEVENT
DTSTART;VALUE=DATE:20240529
DTEND;VALUE=DATE:20240601
DTSTAMP:20260420T120304
CREATED:20240621T130357Z
LAST-MODIFIED:20240621T130357Z
UID:10622-1716940800-1717199999@www.ballet.ph
SUMMARY:Company Classes and Rehearsals
DESCRIPTION:
URL:https://www.ballet.ph/bp-event/company-classes-and-rehearsals-16/
END:VEVENT
BEGIN:VEVENT
DTSTART;VALUE=DATE:20240603
DTEND;VALUE=DATE:20240608
DTSTAMP:20260420T120304
CREATED:20240621T123208Z
LAST-MODIFIED:20240621T123208Z
UID:10527-1717372800-1717804799@www.ballet.ph
SUMMARY:Company Classes and Rehearsals
DESCRIPTION:
URL:https://www.ballet.ph/bp-event/company-classes-and-rehearsals/
LOCATION:The Theatre at Solaire
END:VEVENT
BEGIN:VEVENT
DTSTART;VALUE=DATE:20240610
DTEND;VALUE=DATE:20240612
DTSTAMP:20260420T120304
CREATED:20240621T123456Z
LAST-MODIFIED:20240621T123456Z
UID:10529-1717977600-1718150399@www.ballet.ph
SUMMARY:Company Classes and Rehearsals
DESCRIPTION:
URL:https://www.ballet.ph/bp-event/company-classes-and-rehearsals-2/
END:VEVENT
BEGIN:VEVENT
DTSTART;VALUE=DATE:20240612
DTEND;VALUE=DATE:20240613
DTSTAMP:20260420T120304
CREATED:20240621T123537Z
LAST-MODIFIED:20240621T123537Z
UID:10535-1718150400-1718236799@www.ballet.ph
SUMMARY:INDEPENDENCE DAY
DESCRIPTION:
URL:https://www.ballet.ph/bp-event/independence-day/
END:VEVENT
END:VCALENDAR