BEGIN:VCALENDAR
VERSION:2.0
PRODID:-//Ballet Philippines - ECPv6.15.17//NONSGML v1.0//EN
CALSCALE:GREGORIAN
METHOD:PUBLISH
X-WR-CALNAME:Ballet Philippines
X-ORIGINAL-URL:https://www.ballet.ph
X-WR-CALDESC:Events for Ballet Philippines
REFRESH-INTERVAL;VALUE=DURATION:PT1H
X-Robots-Tag:noindex
X-PUBLISHED-TTL:PT1H
BEGIN:VTIMEZONE
TZID:Asia/Manila
BEGIN:STANDARD
TZOFFSETFROM:+0800
TZOFFSETTO:+0800
TZNAME:PST
DTSTART:20230101T000000
END:STANDARD
END:VTIMEZONE
BEGIN:VEVENT
DTSTART;VALUE=DATE:20240524
DTEND;VALUE=DATE:20240525
DTSTAMP:20260420T151611
CREATED:20240621T130226Z
LAST-MODIFIED:20240621T130226Z
UID:10616-1716508800-1716595199@www.ballet.ph
SUMMARY:Company Classes and Rehearsals
DESCRIPTION:
URL:https://www.ballet.ph/bp-event/company-classes-and-rehearsals-15/
END:VEVENT
BEGIN:VEVENT
DTSTART;VALUE=DATE:20240527
DTEND;VALUE=DATE:20240529
DTSTAMP:20260420T151611
CREATED:20240621T130330Z
LAST-MODIFIED:20240621T130330Z
UID:10619-1716768000-1716940799@www.ballet.ph
SUMMARY:Team Building\, production department
DESCRIPTION:
URL:https://www.ballet.ph/bp-event/team-building-production-department/
END:VEVENT
BEGIN:VEVENT
DTSTART;VALUE=DATE:20240529
DTEND;VALUE=DATE:20240601
DTSTAMP:20260420T151611
CREATED:20240621T130357Z
LAST-MODIFIED:20240621T130357Z
UID:10622-1716940800-1717199999@www.ballet.ph
SUMMARY:Company Classes and Rehearsals
DESCRIPTION:
URL:https://www.ballet.ph/bp-event/company-classes-and-rehearsals-16/
END:VEVENT
BEGIN:VEVENT
DTSTART;VALUE=DATE:20240603
DTEND;VALUE=DATE:20240608
DTSTAMP:20260420T151611
CREATED:20240621T123208Z
LAST-MODIFIED:20240621T123208Z
UID:10527-1717372800-1717804799@www.ballet.ph
SUMMARY:Company Classes and Rehearsals
DESCRIPTION:
URL:https://www.ballet.ph/bp-event/company-classes-and-rehearsals/
LOCATION:The Theatre at Solaire
END:VEVENT
BEGIN:VEVENT
DTSTART;VALUE=DATE:20240610
DTEND;VALUE=DATE:20240612
DTSTAMP:20260420T151611
CREATED:20240621T123456Z
LAST-MODIFIED:20240621T123456Z
UID:10529-1717977600-1718150399@www.ballet.ph
SUMMARY:Company Classes and Rehearsals
DESCRIPTION:
URL:https://www.ballet.ph/bp-event/company-classes-and-rehearsals-2/
END:VEVENT
BEGIN:VEVENT
DTSTART;VALUE=DATE:20240612
DTEND;VALUE=DATE:20240613
DTSTAMP:20260420T151611
CREATED:20240621T123537Z
LAST-MODIFIED:20240621T123537Z
UID:10535-1718150400-1718236799@www.ballet.ph
SUMMARY:INDEPENDENCE DAY
DESCRIPTION:
URL:https://www.ballet.ph/bp-event/independence-day/
END:VEVENT
BEGIN:VEVENT
DTSTART;VALUE=DATE:20240613
DTEND;VALUE=DATE:20240615
DTSTAMP:20260420T151611
CREATED:20240621T123517Z
LAST-MODIFIED:20240621T123517Z
UID:10532-1718236800-1718409599@www.ballet.ph
SUMMARY:Company Classes and Rehearsals
DESCRIPTION:
URL:https://www.ballet.ph/bp-event/company-classes-and-rehearsals-3/
END:VEVENT
BEGIN:VEVENT
DTSTART;VALUE=DATE:20240617
DTEND;VALUE=DATE:20240618
DTSTAMP:20260420T151611
CREATED:20240621T123604Z
LAST-MODIFIED:20240621T123604Z
UID:10538-1718582400-1718668799@www.ballet.ph
SUMMARY:EID’L ADHA
DESCRIPTION:
URL:https://www.ballet.ph/bp-event/eidl-adha/
END:VEVENT
BEGIN:VEVENT
DTSTART;VALUE=DATE:20240618
DTEND;VALUE=DATE:20240619
DTSTAMP:20260420T151611
CREATED:20240621T123626Z
LAST-MODIFIED:20240621T123626Z
UID:10541-1718668800-1718755199@www.ballet.ph
SUMMARY:Onsite Rehearsal in DFA
DESCRIPTION:
URL:https://www.ballet.ph/bp-event/onsite-rehearsal-in-dfa/
END:VEVENT
BEGIN:VEVENT
DTSTART;VALUE=DATE:20240619
DTEND;VALUE=DATE:20240622
DTSTAMP:20260420T151611
CREATED:20240621T123701Z
LAST-MODIFIED:20240621T123701Z
UID:10544-1718755200-1719014399@www.ballet.ph
SUMMARY:Company Classes and Rehearsals
DESCRIPTION:
URL:https://www.ballet.ph/bp-event/company-classes-and-rehearsals-4/
END:VEVENT
BEGIN:VEVENT
DTSTART;VALUE=DATE:20240619
DTEND;VALUE=DATE:20240620
DTSTAMP:20260420T151611
CREATED:20240621T123718Z
LAST-MODIFIED:20240621T123718Z
UID:10547-1718755200-1718841599@www.ballet.ph
SUMMARY:PHOTOSHOOT at GSIS Theatre
DESCRIPTION:
URL:https://www.ballet.ph/bp-event/photoshoot-at-gsis-theatre/
END:VEVENT
BEGIN:VEVENT
DTSTART;VALUE=DATE:20240624
DTEND;VALUE=DATE:20240628
DTSTAMP:20260420T151611
CREATED:20240621T123740Z
LAST-MODIFIED:20240621T123740Z
UID:10550-1719187200-1719532799@www.ballet.ph
SUMMARY:Company Classes and Rehearsals
DESCRIPTION:
URL:https://www.ballet.ph/bp-event/company-classes-and-rehearsals-5/
END:VEVENT
BEGIN:VEVENT
DTSTART;VALUE=DATE:20240628
DTEND;VALUE=DATE:20240630
DTSTAMP:20260420T151611
CREATED:20240621T123801Z
LAST-MODIFIED:20240621T123801Z
UID:10553-1719532800-1719705599@www.ballet.ph
SUMMARY:Ballet Brigade in Lake Sebu
DESCRIPTION:
URL:https://www.ballet.ph/bp-event/ballet-brigade-in-lake-sebu/
END:VEVENT
BEGIN:VEVENT
DTSTART;VALUE=DATE:20240701
DTEND;VALUE=DATE:20240705
DTSTAMP:20260420T151611
CREATED:20240621T123847Z
LAST-MODIFIED:20240621T123847Z
UID:10556-1719792000-1720137599@www.ballet.ph
SUMMARY:Company Classes and Rehearsals
DESCRIPTION:
URL:https://www.ballet.ph/bp-event/company-classes-and-rehearsals-6/
END:VEVENT
BEGIN:VEVENT
DTSTART;VALUE=DATE:20240705
DTEND;VALUE=DATE:20240706
DTSTAMP:20260420T151611
CREATED:20240621T123905Z
LAST-MODIFIED:20240621T123905Z
UID:10559-1720137600-1720223999@www.ballet.ph
SUMMARY:DFA Performance day
DESCRIPTION:
URL:https://www.ballet.ph/bp-event/dfa-performance-day/
END:VEVENT
BEGIN:VEVENT
DTSTART;VALUE=DATE:20240708
DTEND;VALUE=DATE:20240713
DTSTAMP:20260420T151611
CREATED:20240621T123927Z
LAST-MODIFIED:20240621T123927Z
UID:10562-1720396800-1720828799@www.ballet.ph
SUMMARY:Company Classes and Rehearsals
DESCRIPTION:
URL:https://www.ballet.ph/bp-event/company-classes-and-rehearsals-7/
END:VEVENT
BEGIN:VEVENT
DTSTART;VALUE=DATE:20240715
DTEND;VALUE=DATE:20240720
DTSTAMP:20260420T151611
CREATED:20240621T123946Z
LAST-MODIFIED:20240621T123946Z
UID:10565-1721001600-1721433599@www.ballet.ph
SUMMARY:Company Classes and Rehearsals
DESCRIPTION:
URL:https://www.ballet.ph/bp-event/company-classes-and-rehearsals-8/
END:VEVENT
BEGIN:VEVENT
DTSTART;VALUE=DATE:20240722
DTEND;VALUE=DATE:20240727
DTSTAMP:20260420T151611
CREATED:20240621T124008Z
LAST-MODIFIED:20240621T124008Z
UID:10568-1721606400-1722038399@www.ballet.ph
SUMMARY:Company Classes and Rehearsals
DESCRIPTION:
URL:https://www.ballet.ph/bp-event/company-classes-and-rehearsals-9/
END:VEVENT
BEGIN:VEVENT
DTSTART;VALUE=DATE:20240729
DTEND;VALUE=DATE:20240730
DTSTAMP:20260420T151611
CREATED:20240621T124026Z
LAST-MODIFIED:20240621T124026Z
UID:10571-1722211200-1722297599@www.ballet.ph
SUMMARY:Company Classes and Rehearsals
DESCRIPTION:
URL:https://www.ballet.ph/bp-event/company-classes-and-rehearsals-10/
END:VEVENT
BEGIN:VEVENT
DTSTART;VALUE=DATE:20240730
DTEND;VALUE=DATE:20240802
DTSTAMP:20260420T151611
CREATED:20240621T124044Z
LAST-MODIFIED:20240621T124103Z
UID:10574-1722297600-1722556799@www.ballet.ph
SUMMARY:La Sylphide Production week\, at Solaire
DESCRIPTION:
URL:https://www.ballet.ph/bp-event/la-sylphide-production-week-at-solaire/
END:VEVENT
BEGIN:VEVENT
DTSTART;VALUE=DATE:20240805
DTEND;VALUE=DATE:20240809
DTSTAMP:20260420T151611
CREATED:20240621T124128Z
LAST-MODIFIED:20240621T124128Z
UID:10577-1722816000-1723161599@www.ballet.ph
SUMMARY:La Sylphide Production week\, at Solaire
DESCRIPTION:
URL:https://www.ballet.ph/bp-event/la-sylphide-production-week-at-solaire-2/
END:VEVENT
BEGIN:VEVENT
DTSTART;VALUE=DATE:20240809
DTEND;VALUE=DATE:20240812
DTSTAMP:20260420T151611
CREATED:20240326T101104Z
LAST-MODIFIED:20240326T101104Z
UID:10181-1723161600-1723420799@www.ballet.ph
SUMMARY:LA SYLPHIDE
DESCRIPTION:A humble farmer\, eagerly preparing to marry his sweetheart\, finds himself captivated by a mystical Sylphide on his wedding day.
URL:https://www.ballet.ph/bp-event/la-sylphide/
LOCATION:The Theatre at Solaire
END:VEVENT
BEGIN:VEVENT
DTSTART;VALUE=DATE:20240809
DTEND;VALUE=DATE:20240810
DTSTAMP:20260420T151611
CREATED:20240621T124319Z
LAST-MODIFIED:20240621T124458Z
UID:10580-1723161600-1723247999@www.ballet.ph
SUMMARY:La Sylphide Opening Performance
DESCRIPTION:
URL:https://www.ballet.ph/bp-event/la-sylphide-opening-performance/
END:VEVENT
BEGIN:VEVENT
DTSTART;VALUE=DATE:20240810
DTEND;VALUE=DATE:20240811
DTSTAMP:20260420T151611
CREATED:20240621T124334Z
LAST-MODIFIED:20240621T124334Z
UID:10583-1723248000-1723334399@www.ballet.ph
SUMMARY:La Sylphide Mid Performance
DESCRIPTION:
URL:https://www.ballet.ph/bp-event/la-sylphide-mid-performance/
END:VEVENT
BEGIN:VEVENT
DTSTART;VALUE=DATE:20240811
DTEND;VALUE=DATE:20240812
DTSTAMP:20260420T151611
CREATED:20240621T124353Z
LAST-MODIFIED:20240621T124353Z
UID:10586-1723334400-1723420799@www.ballet.ph
SUMMARY:La Sylphide Closing Performance
DESCRIPTION:
URL:https://www.ballet.ph/bp-event/la-sylphide-closing-performance/
END:VEVENT
BEGIN:VEVENT
DTSTART;VALUE=DATE:20241206
DTEND;VALUE=DATE:20241209
DTSTAMP:20260420T151611
CREATED:20240326T101222Z
LAST-MODIFIED:20240326T101307Z
UID:10185-1733443200-1733702399@www.ballet.ph
SUMMARY:PETER PAN
DESCRIPTION:A voyage to Neverland that transcends cultures\, rekindled with a spark of Filipino wonder.
URL:https://www.ballet.ph/bp-event/peter-pan/
LOCATION:The Theatre at Solaire
END:VEVENT
BEGIN:VEVENT
DTSTART;VALUE=DATE:20250228
DTEND;VALUE=DATE:20250303
DTSTAMP:20260420T151611
CREATED:20240326T101352Z
LAST-MODIFIED:20240606T020927Z
UID:10188-1740700800-1740959999@www.ballet.ph
SUMMARY:Ang Panaginip
DESCRIPTION:Ballet Philippines presents Ang Panaginip\, another original Filipiniana full-length ballet. Expect a not-so-conventional fairytale showcasing the reasons to celebrate the multi-hyphenate Filipina\, while illuminating the allure and richness of Philippine culture. The season finale is a salute to the woman who values her worth and boldly redefines her own happy ending.
URL:https://www.ballet.ph/bp-event/abadeha/
LOCATION:The Theatre at Solaire
END:VEVENT
END:VCALENDAR