BEGIN:VCALENDAR
VERSION:2.0
PRODID:-//Ballet Philippines - ECPv6.15.17//NONSGML v1.0//EN
CALSCALE:GREGORIAN
METHOD:PUBLISH
X-WR-CALNAME:Ballet Philippines
X-ORIGINAL-URL:https://www.ballet.ph
X-WR-CALDESC:Events for Ballet Philippines
REFRESH-INTERVAL;VALUE=DURATION:PT1H
X-Robots-Tag:noindex
X-PUBLISHED-TTL:PT1H
BEGIN:VTIMEZONE
TZID:Asia/Manila
BEGIN:STANDARD
TZOFFSETFROM:+0800
TZOFFSETTO:+0800
TZNAME:PST
DTSTART:20210101T000000
END:STANDARD
END:VTIMEZONE
BEGIN:VEVENT
DTSTART;TZID=Asia/Manila:20220901T100000
DTEND;TZID=Asia/Manila:20220901T120000
DTSTAMP:20260419T214158
CREATED:20220825T110314Z
LAST-MODIFIED:20220825T110314Z
UID:8222-1662026400-1662033600@www.ballet.ph
SUMMARY:MISHA MARTYNYUK COMPANY CLASS
DESCRIPTION:
URL:https://www.ballet.ph/bp-event/misha-martynyuk-company-class-124/
END:VEVENT
BEGIN:VEVENT
DTSTART;TZID=Asia/Manila:20220901T120000
DTEND;TZID=Asia/Manila:20220901T130000
DTSTAMP:20260419T214158
CREATED:20220825T110639Z
LAST-MODIFIED:20220825T110639Z
UID:8230-1662033600-1662037200@www.ballet.ph
SUMMARY:LUNCH BREAK
DESCRIPTION:
URL:https://www.ballet.ph/bp-event/lunch-break-67/
END:VEVENT
BEGIN:VEVENT
DTSTART;TZID=Asia/Manila:20220901T130000
DTEND;TZID=Asia/Manila:20220901T170000
DTSTAMP:20260419T214158
CREATED:20220825T110729Z
LAST-MODIFIED:20220825T110729Z
UID:8236-1662037200-1662051600@www.ballet.ph
SUMMARY:COMPANY REHEARSALS
DESCRIPTION:
URL:https://www.ballet.ph/bp-event/company-rehearsals-67/
END:VEVENT
BEGIN:VEVENT
DTSTART;TZID=Asia/Manila:20220902T100000
DTEND;TZID=Asia/Manila:20220902T120000
DTSTAMP:20260419T214158
CREATED:20220825T110327Z
LAST-MODIFIED:20220825T110327Z
UID:8223-1662112800-1662120000@www.ballet.ph
SUMMARY:MISHA MARTYNYUK COMPANY CLASS
DESCRIPTION:
URL:https://www.ballet.ph/bp-event/misha-martynyuk-company-class-125/
END:VEVENT
BEGIN:VEVENT
DTSTART;TZID=Asia/Manila:20220902T120000
DTEND;TZID=Asia/Manila:20220902T130000
DTSTAMP:20260419T214158
CREATED:20220825T110650Z
LAST-MODIFIED:20220825T110650Z
UID:8231-1662120000-1662123600@www.ballet.ph
SUMMARY:LUNCH BREAK
DESCRIPTION:
URL:https://www.ballet.ph/bp-event/lunch-break-68/
END:VEVENT
BEGIN:VEVENT
DTSTART;TZID=Asia/Manila:20220902T130000
DTEND;TZID=Asia/Manila:20220902T170000
DTSTAMP:20260419T214158
CREATED:20220825T110736Z
LAST-MODIFIED:20220825T110736Z
UID:8237-1662123600-1662138000@www.ballet.ph
SUMMARY:COMPANY REHEARSALS
DESCRIPTION:
URL:https://www.ballet.ph/bp-event/company-rehearsals-68/
END:VEVENT
BEGIN:VEVENT
DTSTART;TZID=Asia/Manila:20220903T100000
DTEND;TZID=Asia/Manila:20220903T120000
DTSTAMP:20260419T214158
CREATED:20220825T110339Z
LAST-MODIFIED:20220825T110339Z
UID:8224-1662199200-1662206400@www.ballet.ph
SUMMARY:MISHA MARTYNYUK COMPANY CLASS
DESCRIPTION:
URL:https://www.ballet.ph/bp-event/misha-martynyuk-company-class-126/
END:VEVENT
BEGIN:VEVENT
DTSTART;TZID=Asia/Manila:20220903T120000
DTEND;TZID=Asia/Manila:20220903T130000
DTSTAMP:20260419T214158
CREATED:20220825T110659Z
LAST-MODIFIED:20220825T110659Z
UID:8232-1662206400-1662210000@www.ballet.ph
SUMMARY:LUNCH BREAK
DESCRIPTION:
URL:https://www.ballet.ph/bp-event/lunch-break-69/
END:VEVENT
BEGIN:VEVENT
DTSTART;TZID=Asia/Manila:20220903T130000
DTEND;TZID=Asia/Manila:20220903T170000
DTSTAMP:20260419T214158
CREATED:20220825T110742Z
LAST-MODIFIED:20220825T110742Z
UID:8238-1662210000-1662224400@www.ballet.ph
SUMMARY:COMPANY REHEARSALS
DESCRIPTION:
URL:https://www.ballet.ph/bp-event/company-rehearsals-69/
END:VEVENT
BEGIN:VEVENT
DTSTART;TZID=Asia/Manila:20220906T100000
DTEND;TZID=Asia/Manila:20220906T120000
DTSTAMP:20260419T214158
CREATED:20220825T111036Z
LAST-MODIFIED:20220825T111036Z
UID:8242-1662458400-1662465600@www.ballet.ph
SUMMARY:MISHA MARTYNYUK COMPANY CLASS
DESCRIPTION:
URL:https://www.ballet.ph/bp-event/misha-martynyuk-company-class-127/
END:VEVENT
BEGIN:VEVENT
DTSTART;TZID=Asia/Manila:20220906T120000
DTEND;TZID=Asia/Manila:20220906T130000
DTSTAMP:20260419T214158
CREATED:20220825T111221Z
LAST-MODIFIED:20220825T111221Z
UID:8253-1662465600-1662469200@www.ballet.ph
SUMMARY:LUNCH BREAK
DESCRIPTION:
URL:https://www.ballet.ph/bp-event/lunch-break-70/
END:VEVENT
BEGIN:VEVENT
DTSTART;TZID=Asia/Manila:20220906T130000
DTEND;TZID=Asia/Manila:20220906T170000
DTSTAMP:20260419T214158
CREATED:20220825T111331Z
LAST-MODIFIED:20220825T111331Z
UID:8263-1662469200-1662483600@www.ballet.ph
SUMMARY:COMPANY REHEARSALS
DESCRIPTION:
URL:https://www.ballet.ph/bp-event/company-rehearsals-70/
END:VEVENT
BEGIN:VEVENT
DTSTART;TZID=Asia/Manila:20220907T100000
DTEND;TZID=Asia/Manila:20220907T120000
DTSTAMP:20260419T214158
CREATED:20220825T111052Z
LAST-MODIFIED:20220825T111052Z
UID:8243-1662544800-1662552000@www.ballet.ph
SUMMARY:MISHA MARTYNYUK COMPANY CLASS
DESCRIPTION:
URL:https://www.ballet.ph/bp-event/misha-martynyuk-company-class-128/
END:VEVENT
BEGIN:VEVENT
DTSTART;TZID=Asia/Manila:20220907T120000
DTEND;TZID=Asia/Manila:20220907T130000
DTSTAMP:20260419T214158
CREATED:20220825T111230Z
LAST-MODIFIED:20220825T111230Z
UID:8254-1662552000-1662555600@www.ballet.ph
SUMMARY:LUNCH BREAK
DESCRIPTION:
URL:https://www.ballet.ph/bp-event/lunch-break-71/
END:VEVENT
BEGIN:VEVENT
DTSTART;TZID=Asia/Manila:20220907T130000
DTEND;TZID=Asia/Manila:20220907T170000
DTSTAMP:20260419T214158
CREATED:20220825T111337Z
LAST-MODIFIED:20220825T111337Z
UID:8264-1662555600-1662570000@www.ballet.ph
SUMMARY:COMPANY REHEARSALS
DESCRIPTION:
URL:https://www.ballet.ph/bp-event/company-rehearsals-71/
END:VEVENT
BEGIN:VEVENT
DTSTART;TZID=Asia/Manila:20220908T100000
DTEND;TZID=Asia/Manila:20220908T120000
DTSTAMP:20260419T214158
CREATED:20220825T111102Z
LAST-MODIFIED:20220825T111102Z
UID:8244-1662631200-1662638400@www.ballet.ph
SUMMARY:MISHA MARTYNYUK COMPANY CLASS
DESCRIPTION:
URL:https://www.ballet.ph/bp-event/misha-martynyuk-company-class-129/
END:VEVENT
BEGIN:VEVENT
DTSTART;TZID=Asia/Manila:20220908T120000
DTEND;TZID=Asia/Manila:20220908T130000
DTSTAMP:20260419T214158
CREATED:20220825T111241Z
LAST-MODIFIED:20220825T111241Z
UID:8255-1662638400-1662642000@www.ballet.ph
SUMMARY:LUNCH BREAK
DESCRIPTION:
URL:https://www.ballet.ph/bp-event/lunch-break-72/
END:VEVENT
BEGIN:VEVENT
DTSTART;TZID=Asia/Manila:20220908T130000
DTEND;TZID=Asia/Manila:20220908T170000
DTSTAMP:20260419T214158
CREATED:20220825T111343Z
LAST-MODIFIED:20220825T111343Z
UID:8265-1662642000-1662656400@www.ballet.ph
SUMMARY:COMPANY REHEARSALS
DESCRIPTION:
URL:https://www.ballet.ph/bp-event/company-rehearsals-72/
END:VEVENT
BEGIN:VEVENT
DTSTART;TZID=Asia/Manila:20220909T100000
DTEND;TZID=Asia/Manila:20220909T120000
DTSTAMP:20260419T214158
CREATED:20220825T111123Z
LAST-MODIFIED:20220825T111123Z
UID:8249-1662717600-1662724800@www.ballet.ph
SUMMARY:MISHA MARTYNYUK COMPANY CLASS
DESCRIPTION:
URL:https://www.ballet.ph/bp-event/misha-martynyuk-company-class-130/
END:VEVENT
BEGIN:VEVENT
DTSTART;TZID=Asia/Manila:20220909T120000
DTEND;TZID=Asia/Manila:20220909T130000
DTSTAMP:20260419T214158
CREATED:20220825T111249Z
LAST-MODIFIED:20220825T111249Z
UID:8256-1662724800-1662728400@www.ballet.ph
SUMMARY:LUNCH BREAK
DESCRIPTION:
URL:https://www.ballet.ph/bp-event/lunch-break-73/
END:VEVENT
BEGIN:VEVENT
DTSTART;TZID=Asia/Manila:20220909T130000
DTEND;TZID=Asia/Manila:20220909T170000
DTSTAMP:20260419T214158
CREATED:20220825T111350Z
LAST-MODIFIED:20220825T111350Z
UID:8266-1662728400-1662742800@www.ballet.ph
SUMMARY:COMPANY REHEARSALS
DESCRIPTION:
URL:https://www.ballet.ph/bp-event/company-rehearsals-73/
END:VEVENT
BEGIN:VEVENT
DTSTART;TZID=Asia/Manila:20220910T100000
DTEND;TZID=Asia/Manila:20220910T120000
DTSTAMP:20260419T214158
CREATED:20220825T111137Z
LAST-MODIFIED:20220825T111137Z
UID:8250-1662804000-1662811200@www.ballet.ph
SUMMARY:MISHA MARTYNYUK COMPANY CLASS
DESCRIPTION:
URL:https://www.ballet.ph/bp-event/misha-martynyuk-company-class-131/
END:VEVENT
BEGIN:VEVENT
DTSTART;TZID=Asia/Manila:20220910T120000
DTEND;TZID=Asia/Manila:20220910T130000
DTSTAMP:20260419T214158
CREATED:20220825T111301Z
LAST-MODIFIED:20220825T111301Z
UID:8257-1662811200-1662814800@www.ballet.ph
SUMMARY:LUNCH BREAK
DESCRIPTION:
URL:https://www.ballet.ph/bp-event/lunch-break-74/
END:VEVENT
BEGIN:VEVENT
DTSTART;TZID=Asia/Manila:20220910T130000
DTEND;TZID=Asia/Manila:20220910T170000
DTSTAMP:20260419T214158
CREATED:20220825T111356Z
LAST-MODIFIED:20220825T111356Z
UID:8267-1662814800-1662829200@www.ballet.ph
SUMMARY:COMPANY REHEARSALS
DESCRIPTION:
URL:https://www.ballet.ph/bp-event/company-rehearsals-74/
END:VEVENT
BEGIN:VEVENT
DTSTART;TZID=Asia/Manila:20220913T100000
DTEND;TZID=Asia/Manila:20220913T120000
DTSTAMP:20260419T214158
CREATED:20220825T111757Z
LAST-MODIFIED:20220825T111757Z
UID:8302-1663063200-1663070400@www.ballet.ph
SUMMARY:MISHA MARTYNYUK COMPANY CLASS
DESCRIPTION:
URL:https://www.ballet.ph/bp-event/misha-martynyuk-company-class-132/
END:VEVENT
BEGIN:VEVENT
DTSTART;TZID=Asia/Manila:20220913T120000
DTEND;TZID=Asia/Manila:20220913T130000
DTSTAMP:20260419T214158
CREATED:20220825T112138Z
LAST-MODIFIED:20220825T112138Z
UID:8330-1663070400-1663074000@www.ballet.ph
SUMMARY:LUNCH BREAK
DESCRIPTION:
URL:https://www.ballet.ph/bp-event/lunch-break-75/
END:VEVENT
BEGIN:VEVENT
DTSTART;TZID=Asia/Manila:20220913T130000
DTEND;TZID=Asia/Manila:20220913T170000
DTSTAMP:20260419T214158
CREATED:20220825T111442Z
LAST-MODIFIED:20220825T111442Z
UID:8273-1663074000-1663088400@www.ballet.ph
SUMMARY:COMPANY REHEARSALS
DESCRIPTION:
URL:https://www.ballet.ph/bp-event/company-rehearsals-75/
END:VEVENT
BEGIN:VEVENT
DTSTART;TZID=Asia/Manila:20220914T100000
DTEND;TZID=Asia/Manila:20220914T120000
DTSTAMP:20260419T214158
CREATED:20220825T111806Z
LAST-MODIFIED:20220825T111806Z
UID:8303-1663149600-1663156800@www.ballet.ph
SUMMARY:MISHA MARTYNYUK COMPANY CLASS
DESCRIPTION:
URL:https://www.ballet.ph/bp-event/misha-martynyuk-company-class-133/
END:VEVENT
BEGIN:VEVENT
DTSTART;TZID=Asia/Manila:20220914T120000
DTEND;TZID=Asia/Manila:20220914T130000
DTSTAMP:20260419T214158
CREATED:20220825T112146Z
LAST-MODIFIED:20220825T112146Z
UID:8334-1663156800-1663160400@www.ballet.ph
SUMMARY:LUNCH BREAK
DESCRIPTION:
URL:https://www.ballet.ph/bp-event/lunch-break-76/
END:VEVENT
BEGIN:VEVENT
DTSTART;TZID=Asia/Manila:20220914T130000
DTEND;TZID=Asia/Manila:20220914T170000
DTSTAMP:20260419T214158
CREATED:20220825T111449Z
LAST-MODIFIED:20220825T111449Z
UID:8274-1663160400-1663174800@www.ballet.ph
SUMMARY:COMPANY REHEARSALS
DESCRIPTION:
URL:https://www.ballet.ph/bp-event/company-rehearsals-76/
END:VEVENT
END:VCALENDAR